BEGIN:VCALENDAR
VERSION:2.0
PRODID:-//Read Local BC - ECPv6.15.20//NONSGML v1.0//EN
CALSCALE:GREGORIAN
METHOD:PUBLISH
X-WR-CALNAME:Read Local BC
X-ORIGINAL-URL:https://www.readlocalbc.ca
X-WR-CALDESC:Events for Read Local BC
REFRESH-INTERVAL;VALUE=DURATION:PT1H
X-Robots-Tag:noindex
X-PUBLISHED-TTL:PT1H
BEGIN:VTIMEZONE
TZID:America/Vancouver
BEGIN:DAYLIGHT
TZOFFSETFROM:-0800
TZOFFSETTO:-0700
TZNAME:PDT
DTSTART:20240310T100000
END:DAYLIGHT
BEGIN:STANDARD
TZOFFSETFROM:-0700
TZOFFSETTO:-0800
TZNAME:PST
DTSTART:20241103T090000
END:STANDARD
BEGIN:DAYLIGHT
TZOFFSETFROM:-0800
TZOFFSETTO:-0700
TZNAME:PDT
DTSTART:20250309T100000
END:DAYLIGHT
BEGIN:STANDARD
TZOFFSETFROM:-0700
TZOFFSETTO:-0800
TZNAME:PST
DTSTART:20251102T090000
END:STANDARD
BEGIN:DAYLIGHT
TZOFFSETFROM:-0800
TZOFFSETTO:-0700
TZNAME:PDT
DTSTART:20260308T100000
END:DAYLIGHT
BEGIN:STANDARD
TZOFFSETFROM:-0700
TZOFFSETTO:-0800
TZNAME:PST
DTSTART:20261101T090000
END:STANDARD
END:VTIMEZONE
BEGIN:VEVENT
DTSTART;TZID=America/Vancouver:20250603T193000
DTEND;TZID=America/Vancouver:20250603T203000
DTSTAMP:20260423T083947
CREATED:20250526T213117Z
LAST-MODIFIED:20250526T213117Z
UID:31270-1748979000-1748982600@www.readlocalbc.ca
SUMMARY:Books & Ideas: Scott Turow – Presumed Guilty
DESCRIPTION:#1 New York Times bestselling author Scott Turow’s Presumed Innocent redefined the legal thriller genre\, and was turned into a box office smash hit starring Harrison Ford\, and more recently an Apple Original series starring Jake Gyllenhaal that became Apple TV+’s most-watched drama series ever. Now\, Turow joins us with his highly anticipated new court drama\, Presumed Guilty—a suspenseful\, emotionally charged thriller that follows retired judge Rusty as he’s called back to court by a case too close to home. \nTurow speaks with award-winning author and screenwriter Susin Nielsen\, the creator of Global TV’s “Family Law”\, on June 3 at the Granville Island Stage. Books will be for sale at the event from Book Warehouse / Black Bond Books\, with a book signing after the talk. \nClick here to buy your tickets!
URL:https://www.readlocalbc.ca/event/books-ideas-scott-turow-presumed-guilty/
LOCATION:BC
CATEGORIES:Author Discussion
END:VEVENT
END:VCALENDAR