BEGIN:VCALENDAR
VERSION:2.0
PRODID:-//Read Local BC - ECPv6.15.20//NONSGML v1.0//EN
CALSCALE:GREGORIAN
METHOD:PUBLISH
X-ORIGINAL-URL:https://www.readlocalbc.ca
X-WR-CALDESC:Events for Read Local BC
REFRESH-INTERVAL;VALUE=DURATION:PT1H
X-Robots-Tag:noindex
X-PUBLISHED-TTL:PT1H
BEGIN:VTIMEZONE
TZID:America/Vancouver
BEGIN:DAYLIGHT
TZOFFSETFROM:-0800
TZOFFSETTO:-0700
TZNAME:PDT
DTSTART:20250309T100000
END:DAYLIGHT
BEGIN:STANDARD
TZOFFSETFROM:-0700
TZOFFSETTO:-0800
TZNAME:PST
DTSTART:20251102T090000
END:STANDARD
BEGIN:DAYLIGHT
TZOFFSETFROM:-0800
TZOFFSETTO:-0700
TZNAME:PDT
DTSTART:20260308T100000
END:DAYLIGHT
BEGIN:STANDARD
TZOFFSETFROM:-0700
TZOFFSETTO:-0800
TZNAME:PST
DTSTART:20261101T090000
END:STANDARD
BEGIN:DAYLIGHT
TZOFFSETFROM:-0800
TZOFFSETTO:-0700
TZNAME:PDT
DTSTART:20270314T100000
END:DAYLIGHT
BEGIN:STANDARD
TZOFFSETFROM:-0700
TZOFFSETTO:-0800
TZNAME:PST
DTSTART:20271107T090000
END:STANDARD
END:VTIMEZONE
BEGIN:VEVENT
DTSTART;TZID=America/Vancouver:20260207T140000
DTEND;TZID=America/Vancouver:20260207T153000
DTSTAMP:20260422T222312
CREATED:20260122T012647Z
LAST-MODIFIED:20260207T002539Z
UID:47461-1770472800-1770478200@www.readlocalbc.ca
SUMMARY:Once Upon This Land: Archaeology in British Columbia and the Stories It Tells with Bob Muckle
DESCRIPTION:In celebration of Heritage Week later this month\, Bob Muckle\, author of Once Upon This Land: Archaeology in British Columbia and the Stories It Tells\, will talk about British Columbia’s fascinating array of famous and lesser-known archaeological sites\, from footprints left in mud on Calvert Island 13\,000 years ago to remnants of COVID-19 left behind in urban landfills. Bob is a registered professional archaeologist who taught for many years in the Department of Anthropology at Capilano University. \nFollowing this talk\, the District of West Vancouver Archivist Reto Tschan will moderate a question-and-answer period about Bob’s archaeological work. \nPresented in partnership with the District of West Vancouver Archives.
URL:https://www.readlocalbc.ca/event/once-upon-this-land-archaeology-in-british-columbia-and-the-stories-it-tells-with-bob-muckle/
LOCATION:West Vancouver Memorial Library\, 1950 Marine Dr.\, West Vancouver\, BC\, V7V 1J8\, Canada
CATEGORIES:Author Discussion
ATTACH;FMTTYPE=image/jpeg:https://www.readlocalbc.ca/wp-content/uploads/2026/01/Once-Upon-This-Land_fc-low-res.jpg
END:VEVENT
BEGIN:VEVENT
DTSTART;TZID=America/Vancouver:20260210T190000
DTEND;TZID=America/Vancouver:20260210T200000
DTSTAMP:20260422T222312
CREATED:20260204T224419Z
LAST-MODIFIED:20260204T224625Z
UID:48056-1770750000-1770753600@www.readlocalbc.ca
SUMMARY:Incite: Maggie Helwig on Encampment
DESCRIPTION:Presented in partnership with Vancouver Public Library. \nThe housing crisis plaguing major urban centres across Canada has sent countless people into the streets. In spring 2022\, some of them found their way to the yard beside the Anglican church in Toronto’s Kensington Market\, where Maggie Helwig is the priest. They pitched tents\, formed an encampment\, and settled in. Known as an outspoken social justice activist\, Helwig has spent the last three years getting to know the residents and fighting tooth and nail to allow them to stay. \nWinner of the 2025 Toronto Book Award and one of CBC Books’ and the Globe and Mail’s best books of 2025\, Encampment tells the story of Helwig’s life-long activism as preparation for her fight to keep her churchyard open to people needing a home. More importantly\, it introduces us to the Artist\, to Jeff\, and to Robin: their lives\, their challenges\, their humanity. It confronts our society’s callousness in allowing so many to go unhoused and demands\, by bringing their stories to the fore\, that we begin to respond with compassion and grace. \nHelwig shares her story and theirs\, and answers audience questions\, with The Tyee senior editor Jackie Wong\, whose journalism on housing and drug policy has been published widely. Books will be for sale at the event by Upstart & Crow\, with a signing afterwards.
URL:https://www.readlocalbc.ca/event/incite-maggie-helwig-on-encampment/
LOCATION:VANCOUVER PUBLIC LIBRARY – CENTRAL LIBRARY
CATEGORIES:Author Discussion,Reading
ATTACH;FMTTYPE=image/jpeg:https://www.readlocalbc.ca/wp-content/uploads/2026/02/2026-Incite_Maggie-Helwig_social-banner-1536x768-1.jpg
ORGANIZER;CN="Vancouver Writers Fest":MAILTO:info@writersfest.bc.ca
END:VEVENT
END:VCALENDAR