BEGIN:VCALENDAR
VERSION:2.0
PRODID:-//Read Local BC - ECPv6.15.20//NONSGML v1.0//EN
CALSCALE:GREGORIAN
METHOD:PUBLISH
X-WR-CALNAME:Read Local BC
X-ORIGINAL-URL:https://www.readlocalbc.ca
X-WR-CALDESC:Events for Read Local BC
REFRESH-INTERVAL;VALUE=DURATION:PT1H
X-Robots-Tag:noindex
X-PUBLISHED-TTL:PT1H
BEGIN:VTIMEZONE
TZID:America/Vancouver
BEGIN:DAYLIGHT
TZOFFSETFROM:-0800
TZOFFSETTO:-0700
TZNAME:PDT
DTSTART:20250309T100000
END:DAYLIGHT
BEGIN:STANDARD
TZOFFSETFROM:-0700
TZOFFSETTO:-0800
TZNAME:PST
DTSTART:20251102T090000
END:STANDARD
BEGIN:DAYLIGHT
TZOFFSETFROM:-0800
TZOFFSETTO:-0700
TZNAME:PDT
DTSTART:20260308T100000
END:DAYLIGHT
BEGIN:STANDARD
TZOFFSETFROM:-0700
TZOFFSETTO:-0800
TZNAME:PST
DTSTART:20261101T090000
END:STANDARD
BEGIN:DAYLIGHT
TZOFFSETFROM:-0800
TZOFFSETTO:-0700
TZNAME:PDT
DTSTART:20270314T100000
END:DAYLIGHT
BEGIN:STANDARD
TZOFFSETFROM:-0700
TZOFFSETTO:-0800
TZNAME:PST
DTSTART:20271107T090000
END:STANDARD
END:VTIMEZONE
BEGIN:VEVENT
DTSTART;TZID=America/Vancouver:20260402T180000
DTEND;TZID=America/Vancouver:20260402T200000
DTSTAMP:20260422T222313
CREATED:20260122T012505Z
LAST-MODIFIED:20260219T004457Z
UID:47682-1775152800-1775160000@www.readlocalbc.ca
SUMMARY:A Reading of the Play El Terremoto by Christine Quintana
DESCRIPTION:Touchstone Theatre and Neworld Theatre present a reading of Christine Quintana’s play El Terremoto (directed by Daniela Atiencia). Twenty years have passed since the three Jurado sisters lost their parents\, and life just seems to continue on in their East Vancouver home. \nA birthday party\, a failed proposal\, and a missed connection fill the days and months until an earthquake nearly destroys the city\, and brings forward a shocking turn of events that splits their world wide open.\nFrom Dora-Award winning playwright Christine Quintana\, El Terremoto is a dramatic comedy about how nothing matters\, so everything matters. \n— \nA reading of the full play by seven actors will be followed by a Q & A at the end of the evening with Christine and Lois Anderson\, Artistic Director at Touchstone Theatre. Join us for a delightful evening around the playwriting process and the Canadian theatre scene. \n— \nChristine Quintana was born in Los Angeles to a Mexican-American father and a Dutch-British-Canadian mother. Christine grew up as a grateful visitor to the unceded lands of the Musqueam\, Squamish\, and Tsleil-Waututh people. Christine is an actor\, playwright\, and co-Artistic Producer of Delinquent Theatre. In these various capacities\, she has worked with Tarragon Theatre\, the Arts Club Theatre Company\, Bard on the Beach\, The Cultch\, Neworld Theatre\, Electric Company Theatre\, Rumble Theatre\, Boca Del Lupo\, Zee Zee Theatre\, Caravan Farm Theatre\, Ruby Slippers Theatre\, Playwrights Theatre Centre\, Pi Theatre\, Gateway Theatre\, Nightswimming Theatre\, Belfry Theatre\, Stratford Festival\, and Young People’s Theatre. Her writing has been translated and performed in Spanish\, French\, ASL\, and German. \nDaniela Atiencia is the Artistic Associate at Touchstone Theatre and a Latinx-Canadian theatre artist born and raised in Colombia. She has a BFA in Theatre Performance from SFU’s School for the Contemporary Arts and holds an MFA in Theatre Directing from The University of Essex’s East 15 Acting School. Daniela works as a freelance bilingual director\, dramaturg\, and deviser. She is currently working on two plays as co-director for Neworld and Green Thumb Theatre. As dramaturg she is collaborating with Tetsuro Shigematsu’s latest commissioned piece for Pacific Theatre and served as Spanish Language Dramaturg for Made in Canada\, an agricultural podcast for rice & beans theatre. She is currently based on the Unceded Territories of the Coast Salish peoples (Vancouver\, B.C.) and her work recently earned her a finalist spot in the RBC Rising Star Emerging Director award. \nLois Anderson is the Artistic Director of Touchstone Theatre\, and an Adjunct Professor at UBC in the Department of Theatre and Film. She won the Jessie Award for Best Direction (Pericles\, Bard on the Beach) and the 2019 Critic’s Choice Award for Innovation (Lysistrata). She has worked extensively in Canada and Australia and has been an artistic associate with The National Arts Centre most recently directing You Used to Call Me Marie by Tai Amy Grauman.
URL:https://www.readlocalbc.ca/event/a-reading-of-the-play-el-terremoto-by-christine-quintana/
LOCATION:Vancouver Public Library\, Central Branch\, 350 West Georgia St.\, Vancouver\, BC\, V6B 6B1\, Canada
CATEGORIES:Author Discussion,Panel
ATTACH;FMTTYPE=image/jpeg:https://www.readlocalbc.ca/wp-content/uploads/2026/01/El_TERREMOTO-image_760X380.jpg
ORGANIZER;CN="Vancouver Public Library":MAILTO:candie.tanaka@vpl.ca
END:VEVENT
END:VCALENDAR