BEGIN:VCALENDAR
VERSION:2.0
PRODID:-//Read Local BC - ECPv6.15.20//NONSGML v1.0//EN
CALSCALE:GREGORIAN
METHOD:PUBLISH
X-ORIGINAL-URL:https://www.readlocalbc.ca
X-WR-CALDESC:Events for Read Local BC
REFRESH-INTERVAL;VALUE=DURATION:PT1H
X-Robots-Tag:noindex
X-PUBLISHED-TTL:PT1H
BEGIN:VTIMEZONE
TZID:America/Vancouver
BEGIN:DAYLIGHT
TZOFFSETFROM:-0800
TZOFFSETTO:-0700
TZNAME:PDT
DTSTART:20240310T100000
END:DAYLIGHT
BEGIN:STANDARD
TZOFFSETFROM:-0700
TZOFFSETTO:-0800
TZNAME:PST
DTSTART:20241103T090000
END:STANDARD
BEGIN:DAYLIGHT
TZOFFSETFROM:-0800
TZOFFSETTO:-0700
TZNAME:PDT
DTSTART:20250309T100000
END:DAYLIGHT
BEGIN:STANDARD
TZOFFSETFROM:-0700
TZOFFSETTO:-0800
TZNAME:PST
DTSTART:20251102T090000
END:STANDARD
BEGIN:DAYLIGHT
TZOFFSETFROM:-0800
TZOFFSETTO:-0700
TZNAME:PDT
DTSTART:20260308T100000
END:DAYLIGHT
BEGIN:STANDARD
TZOFFSETFROM:-0700
TZOFFSETTO:-0800
TZNAME:PST
DTSTART:20261101T090000
END:STANDARD
END:VTIMEZONE
BEGIN:VEVENT
DTSTART;TZID=America/Vancouver:20250813T183000
DTEND;TZID=America/Vancouver:20250813T210000
DTSTAMP:20260423T004450
CREATED:20250811T164353Z
LAST-MODIFIED:20250811T164353Z
UID:33086-1755109800-1755118800@www.readlocalbc.ca
SUMMARY:Book Launch of The Bone Raiders by Jackson Ford
DESCRIPTION:Join us for the launch of Vancouver author Jackson Ford’s new novel The Bone Raiders\, the first in the Rakada series. \nThe start of a no‑holds‑barred\, action‑packed fantasy series from the always irreverent Jackson Ford where a group of charmingly-named Bone Raiders harness the power of gigantic\, fire-breathing lizards to defend their homeland from an invading enemy. \nJackson will be in conversation with Kristy Gardner\, author of The Broken Stars series. \nDoors at 6:30 pm\, event starts at 7:00 pm; free to attend and all are welcome.
URL:https://www.readlocalbc.ca/event/book-launch-of-the-bone-raiders-by-jackson-ford/
LOCATION:Book Warehouse – Main Street\, 4118 Main Street\, Vancouver\, BC\, V5V 3P7\, Canada
CATEGORIES:Author Discussion,Book Signing,Launch
ATTACH;FMTTYPE=image/jpeg:https://www.readlocalbc.ca/wp-content/uploads/2025/08/Jackson-Ford-Book-Launch-Main-Street-Book-Warehouse.jpg
ORGANIZER;CN="Book Warehouse Main Street":MAILTO:mainstreetbookwarehouse@gmail.com
END:VEVENT
BEGIN:VEVENT
DTSTART;TZID=America/Vancouver:20250731T183000
DTEND;TZID=America/Vancouver:20250731T210000
DTSTAMP:20260423T004450
CREATED:20250728T211045Z
LAST-MODIFIED:20250728T211045Z
UID:32620-1753986600-1753995600@www.readlocalbc.ca
SUMMARY:An Evening with Silvia Moreno-Garcia
DESCRIPTION:We’re excited to present An Evening with Silvia Moreno-Garcia with her new novel The Bewitching! \nThree women in three different eras encounter danger and witchcraft in this eerie multigenerational horror saga from the New York Times bestselling author of Mexican Gothic. \nThere are two ticket types available: $15.00 plus GST for just a ticket or $46.50 plus GST for a ticket AND copy of The Bewitching. \nYou must have your shopping location set to Langley Warehouse to purchase tickets for this event. \nBooks will be available for pickup at the event. \nDoors will open at 6:30 pm and seating is general admission. The event will begin at 7:00 pm. \nSilvia will in conversation with local book blogger Rachel Sargeant. There will be a discussion\, followed by a Q&A\, and book signing. \nSt. James Community Square\, 3214 W 10th Ave\, Vancouver\, BC. \nWe will have a list of ticket purchasers at the door\, but please do retain your receipt.
URL:https://www.readlocalbc.ca/event/an-evening-with-silvia-moreno-garcia/
LOCATION:St James Community Square\, 3214 W 10th Ave\, Vancouver\, BC\, V6K2L2\, Canada
CATEGORIES:Author Discussion,Book Signing
ATTACH;FMTTYPE=image/jpeg:https://www.readlocalbc.ca/wp-content/uploads/2025/07/Silvia-Moreno-Garcia-Vancouver-Event-IG-1-2.jpg
ORGANIZER;CN="Black Bond Books and Book Warehouse":MAILTO:info@blackbondbooks.com
END:VEVENT
BEGIN:VEVENT
DTSTART;TZID=America/Vancouver:20250603T193000
DTEND;TZID=America/Vancouver:20250603T203000
DTSTAMP:20260423T004450
CREATED:20250526T213117Z
LAST-MODIFIED:20250526T213117Z
UID:31270-1748979000-1748982600@www.readlocalbc.ca
SUMMARY:Books & Ideas: Scott Turow – Presumed Guilty
DESCRIPTION:#1 New York Times bestselling author Scott Turow’s Presumed Innocent redefined the legal thriller genre\, and was turned into a box office smash hit starring Harrison Ford\, and more recently an Apple Original series starring Jake Gyllenhaal that became Apple TV+’s most-watched drama series ever. Now\, Turow joins us with his highly anticipated new court drama\, Presumed Guilty—a suspenseful\, emotionally charged thriller that follows retired judge Rusty as he’s called back to court by a case too close to home. \nTurow speaks with award-winning author and screenwriter Susin Nielsen\, the creator of Global TV’s “Family Law”\, on June 3 at the Granville Island Stage. Books will be for sale at the event from Book Warehouse / Black Bond Books\, with a book signing after the talk. \nClick here to buy your tickets!
URL:https://www.readlocalbc.ca/event/books-ideas-scott-turow-presumed-guilty/
LOCATION:BC
CATEGORIES:Author Discussion
END:VEVENT
END:VCALENDAR