BEGIN:VCALENDAR
VERSION:2.0
PRODID:-//Read Local BC - ECPv6.15.20//NONSGML v1.0//EN
CALSCALE:GREGORIAN
METHOD:PUBLISH
X-WR-CALNAME:Read Local BC
X-ORIGINAL-URL:https://www.readlocalbc.ca
X-WR-CALDESC:Events for Read Local BC
REFRESH-INTERVAL;VALUE=DURATION:PT1H
X-Robots-Tag:noindex
X-PUBLISHED-TTL:PT1H
BEGIN:VTIMEZONE
TZID:America/Vancouver
BEGIN:DAYLIGHT
TZOFFSETFROM:-0800
TZOFFSETTO:-0700
TZNAME:PDT
DTSTART:20240310T100000
END:DAYLIGHT
BEGIN:STANDARD
TZOFFSETFROM:-0700
TZOFFSETTO:-0800
TZNAME:PST
DTSTART:20241103T090000
END:STANDARD
BEGIN:DAYLIGHT
TZOFFSETFROM:-0800
TZOFFSETTO:-0700
TZNAME:PDT
DTSTART:20250309T100000
END:DAYLIGHT
BEGIN:STANDARD
TZOFFSETFROM:-0700
TZOFFSETTO:-0800
TZNAME:PST
DTSTART:20251102T090000
END:STANDARD
BEGIN:DAYLIGHT
TZOFFSETFROM:-0800
TZOFFSETTO:-0700
TZNAME:PDT
DTSTART:20260308T100000
END:DAYLIGHT
BEGIN:STANDARD
TZOFFSETFROM:-0700
TZOFFSETTO:-0800
TZNAME:PST
DTSTART:20261101T090000
END:STANDARD
BEGIN:DAYLIGHT
TZOFFSETFROM:-0800
TZOFFSETTO:-0700
TZNAME:PDT
DTSTART:20270314T100000
END:DAYLIGHT
BEGIN:STANDARD
TZOFFSETFROM:-0700
TZOFFSETTO:-0800
TZNAME:PST
DTSTART:20271107T090000
END:STANDARD
END:VTIMEZONE
BEGIN:VEVENT
DTSTART;TZID=America/Vancouver:20260411T190000
DTEND;TZID=America/Vancouver:20260411T210000
DTSTAMP:20260423T004803
CREATED:20260316T180352Z
LAST-MODIFIED:20260316T180352Z
UID:50380-1775934000-1775941200@www.readlocalbc.ca
SUMMARY:Phyllis Webb Memorial Reading featuring Wayde Compton
DESCRIPTION:Please join SFU English and Poetry in Canada for the 4th annual Phyllis Webb Memorial Reading featuring award recipient Wayde Compton. This free event takes place on Saturday\, April 11th (Doors: 6:15 PM; Event: 7-9 PM) at SFU Harbour Centre (Room 1400). Special guests include Cecily Nicholson and Courtenay Chan. Hosted by Professor Stephen Collis. Enjoy readings\, discussion\, and light refreshments. \nThe Phyllis Webb Memorial Reading honours a Canadian poet(s) with a cash award and a celebration of their work. This event will occur each April and will be organized and administered by the Poetry in Canada Society\, https://www.poetrycanada.org/. \nA Governor General’s Award–winning poet and a member of the Order of Canada\, Phyllis Webb was a major Canadian cultural figure from the 1950s through the 1980s\, publishing ten celebrated collections of poetry and prose and co-founding the CBC Radio program Ideas (in 1965). When “words abandoned” her in the early 1990s and she was no longer able to write\, she took up photography\, photocollage\, and eventually painting. \nAs Stephen Scobie once wrote\, the work of Phyllis Webb “has always been distinguished by the profundity of her insights\, the depth of her emotional feeling\, the delicacy and accuracy of her rhythms\, the beauty and mysterious resonance of her images – and by her luminous intelligence.” It is this legacy that the Phyllis Webb Memorial Reading seeks to honour\, by selecting a poet who is distinguished by similar qualities. \nIn 2026\, the fourth annual Phyllis Webb Memorial Reading honours poet Wayde Compton\, who is the author of six books and the editor of two literary anthologies. His collection of short stories\, “The Outer Harbour”\, won the City of Vancouver Book Award in 2015 and his work has been a finalist for three other City of Vancouver Book Awards. He won a National Magazine Award for Fiction in 2011 and was nominated for the Dorothy Livesay Poetry Prize in 2000. In 2002\, Compton co-founded the Hogan’s Alley Memorial Project\, an organization devoted to researching and promoting Vancouver’s historical Black community and later helped establish the Hogan’s Alley Working Group and the Hogan’s Alley Society\, its successor organizations. From 2006-2011 Compton co-published Commodore Books\, Western Canada’s first Black Canadian literary press. He has been writer-in-residence at Simon Fraser University\, Green College at the University of British Columbia\, and the Vancouver Public Library. Compton currently teaches in the Department of Writing at the University of Victoria\, and his latest book is “Toward an Anti-Racist Poetics” (U of Alberta P\, 2024). \nImportant Information: \nVenue and Accessibility: This in-person event takes place at the SFU Harbour Centre (Room 1400). It is easily accessible by transit and near SkyTrain. The campus is wheelchair accessible and has wheelchair accessible washrooms. Gender neutral washrooms are also available. \nPlease note: This event may be recorded and/or photographed. If you do not wish to be photographed\, please inform the photographer.
URL:https://www.readlocalbc.ca/event/phyllis-webb-memorial-reading-featuring-wayde-compton/
LOCATION:SFU Harbour Centre\, 515 West Hastings Street\, Vancouver\, BC\, Canada
CATEGORIES:Author Discussion,Award,Reading
ATTACH;FMTTYPE=image/jpeg:https://www.readlocalbc.ca/wp-content/uploads/2026/03/Livewhale-Phyllis-Webb_Compton-2026.jpg
ORGANIZER;CN="SFU English":MAILTO:englcmns@sfu.ca
END:VEVENT
BEGIN:VEVENT
DTSTART;TZID=America/Vancouver:20250921T130000
DTEND;TZID=America/Vancouver:20250921T170000
DTSTAMP:20260423T004803
CREATED:20250904T215752Z
LAST-MODIFIED:20250904T215752Z
UID:36022-1758459600-1758474000@www.readlocalbc.ca
SUMMARY:The 41st Annual BC and Yukon Book Prizes Gala
DESCRIPTION:The 41st Annual BC and Yukon Book Prizes Gala will take place on Sunday\, September 21\, 2025 at 1:00 pm at the University Golf Club in Vancouver\, British Columbia. Your ticket includes entry to our reception\, awards ceremony\, snacks\, canapes\, and a glass of bubbly. The venue is wheelchair accessible and free parking is available onsite. \nFor 2025 we’re changing the style of our Gala to offer a standing reception (a mix and mingle). Snacks and canapes will include a mix of hot and cold items with vegan and gluten-free offerings. There will be limited seating available at the event. Please let us know if access to seating is required. \nTickets for members and non-members ares $85. The deadline to purchase tickets is Friday\, September 12th.
URL:https://www.readlocalbc.ca/event/the-41st-annual-bc-and-yukon-book-prizes-gala/
LOCATION:University Golf Club\, University Golf Club 5185 University Blvd.\, Vancouver\, BC\, V6T 1X5\, Canada
CATEGORIES:Award,Awards,Day of Celebration
ATTACH;FMTTYPE=image/jpeg:https://www.readlocalbc.ca/wp-content/uploads/2025/09/Announcement_2-100-1024x1024-1.jpg
ORGANIZER;CN="BC and Yukon Book Prizes":MAILTO:megan@bcyukonbookprizes.com
END:VEVENT
END:VCALENDAR