BEGIN:VCALENDAR
VERSION:2.0
PRODID:-//Read Local BC - ECPv6.15.20//NONSGML v1.0//EN
CALSCALE:GREGORIAN
METHOD:PUBLISH
X-ORIGINAL-URL:https://www.readlocalbc.ca
X-WR-CALDESC:Events for Read Local BC
REFRESH-INTERVAL;VALUE=DURATION:PT1H
X-Robots-Tag:noindex
X-PUBLISHED-TTL:PT1H
BEGIN:VTIMEZONE
TZID:America/Vancouver
BEGIN:DAYLIGHT
TZOFFSETFROM:-0800
TZOFFSETTO:-0700
TZNAME:PDT
DTSTART:20220313T100000
END:DAYLIGHT
BEGIN:STANDARD
TZOFFSETFROM:-0700
TZOFFSETTO:-0800
TZNAME:PST
DTSTART:20221106T090000
END:STANDARD
BEGIN:DAYLIGHT
TZOFFSETFROM:-0800
TZOFFSETTO:-0700
TZNAME:PDT
DTSTART:20230312T100000
END:DAYLIGHT
BEGIN:STANDARD
TZOFFSETFROM:-0700
TZOFFSETTO:-0800
TZNAME:PST
DTSTART:20231105T090000
END:STANDARD
BEGIN:DAYLIGHT
TZOFFSETFROM:-0800
TZOFFSETTO:-0700
TZNAME:PDT
DTSTART:20240310T100000
END:DAYLIGHT
BEGIN:STANDARD
TZOFFSETFROM:-0700
TZOFFSETTO:-0800
TZNAME:PST
DTSTART:20241103T090000
END:STANDARD
END:VTIMEZONE
BEGIN:VEVENT
DTSTART;TZID=America/Vancouver:20230812T130000
DTEND;TZID=America/Vancouver:20230812T150000
DTSTAMP:20260425T044152
CREATED:20230712T211835Z
LAST-MODIFIED:20230712T211835Z
UID:17533-1691845200-1691852400@www.readlocalbc.ca
SUMMARY:SCWES Book Awards for BC Authors 2023
DESCRIPTION:The winners of the first Sunshine Coast Writers and Editors Society Book Awards for BC Authors will be announced at the Gibsons Public Market. The emcee is Vince R. Ditrich of Spirit of the West fame and author of the hilarious Liquor Vicar Series. Many of the finalists for the contest will be in attendance. The bookmobile from the Little Bookshop from Squamish will be present to sell the finalists books.
URL:https://www.readlocalbc.ca/event/scwes-book-awards-for-bc-authors-2023-2/
LOCATION:Gibsons Public Market\, 473 Gower Point Rd\, Gibsons\, BC\, V0N 1V0\, Canada
CATEGORIES:Awards
ATTACH;FMTTYPE=image/jpeg:https://www.readlocalbc.ca/wp-content/uploads/2023/07/stack-books-trophy-against-green-background_441362-894.jpeg
ORGANIZER;CN="Sunshine Coast Writers and Editors Society":MAILTO:sunshinecoastwritersandeditors@gmail.com
END:VEVENT
END:VCALENDAR