BEGIN:VCALENDAR
VERSION:2.0
PRODID:-//Read Local BC - ECPv6.15.20//NONSGML v1.0//EN
CALSCALE:GREGORIAN
METHOD:PUBLISH
X-ORIGINAL-URL:https://www.readlocalbc.ca
X-WR-CALDESC:Events for Read Local BC
REFRESH-INTERVAL;VALUE=DURATION:PT1H
X-Robots-Tag:noindex
X-PUBLISHED-TTL:PT1H
BEGIN:VTIMEZONE
TZID:America/Vancouver
BEGIN:DAYLIGHT
TZOFFSETFROM:-0800
TZOFFSETTO:-0700
TZNAME:PDT
DTSTART:20220313T100000
END:DAYLIGHT
BEGIN:STANDARD
TZOFFSETFROM:-0700
TZOFFSETTO:-0800
TZNAME:PST
DTSTART:20221106T090000
END:STANDARD
BEGIN:DAYLIGHT
TZOFFSETFROM:-0800
TZOFFSETTO:-0700
TZNAME:PDT
DTSTART:20230312T100000
END:DAYLIGHT
BEGIN:STANDARD
TZOFFSETFROM:-0700
TZOFFSETTO:-0800
TZNAME:PST
DTSTART:20231105T090000
END:STANDARD
BEGIN:DAYLIGHT
TZOFFSETFROM:-0800
TZOFFSETTO:-0700
TZNAME:PDT
DTSTART:20240310T100000
END:DAYLIGHT
BEGIN:STANDARD
TZOFFSETFROM:-0700
TZOFFSETTO:-0800
TZNAME:PST
DTSTART:20241103T090000
END:STANDARD
BEGIN:DAYLIGHT
TZOFFSETFROM:-0800
TZOFFSETTO:-0700
TZNAME:PDT
DTSTART:20250309T100000
END:DAYLIGHT
BEGIN:STANDARD
TZOFFSETFROM:-0700
TZOFFSETTO:-0800
TZNAME:PST
DTSTART:20251102T090000
END:STANDARD
BEGIN:DAYLIGHT
TZOFFSETFROM:-0800
TZOFFSETTO:-0700
TZNAME:PDT
DTSTART:20260308T100000
END:DAYLIGHT
BEGIN:STANDARD
TZOFFSETFROM:-0700
TZOFFSETTO:-0800
TZNAME:PST
DTSTART:20261101T090000
END:STANDARD
END:VTIMEZONE
BEGIN:VEVENT
DTSTART;TZID=America/Vancouver:20250921T130000
DTEND;TZID=America/Vancouver:20250921T170000
DTSTAMP:20260422T223457
CREATED:20250904T215752Z
LAST-MODIFIED:20250904T215752Z
UID:36022-1758459600-1758474000@www.readlocalbc.ca
SUMMARY:The 41st Annual BC and Yukon Book Prizes Gala
DESCRIPTION:The 41st Annual BC and Yukon Book Prizes Gala will take place on Sunday\, September 21\, 2025 at 1:00 pm at the University Golf Club in Vancouver\, British Columbia. Your ticket includes entry to our reception\, awards ceremony\, snacks\, canapes\, and a glass of bubbly. The venue is wheelchair accessible and free parking is available onsite. \nFor 2025 we’re changing the style of our Gala to offer a standing reception (a mix and mingle). Snacks and canapes will include a mix of hot and cold items with vegan and gluten-free offerings. There will be limited seating available at the event. Please let us know if access to seating is required. \nTickets for members and non-members ares $85. The deadline to purchase tickets is Friday\, September 12th.
URL:https://www.readlocalbc.ca/event/the-41st-annual-bc-and-yukon-book-prizes-gala/
LOCATION:University Golf Club\, University Golf Club 5185 University Blvd.\, Vancouver\, BC\, V6T 1X5\, Canada
CATEGORIES:Award,Awards,Day of Celebration
ATTACH;FMTTYPE=image/jpeg:https://www.readlocalbc.ca/wp-content/uploads/2025/09/Announcement_2-100-1024x1024-1.jpg
ORGANIZER;CN="BC and Yukon Book Prizes":MAILTO:megan@bcyukonbookprizes.com
END:VEVENT
BEGIN:VEVENT
DTSTART;TZID=America/Vancouver:20250522T183000
DTEND;TZID=America/Vancouver:20250522T193000
DTSTAMP:20260422T223457
CREATED:20250422T183816Z
LAST-MODIFIED:20250422T183816Z
UID:30591-1747938600-1747942200@www.readlocalbc.ca
SUMMARY:Celebrating the Finalists of the 2025 BC and Yukon Book Prizes
DESCRIPTION:Join BC and Yukon Book Prizes on May 22nd at Book Warehouse on Broadway to celebrate the finalists of the 2025 BC and Yukon Book Prizes. This is a great opportunity to come and buy copies of the shortlisted books\, have them signed by authors and illustrators in attendance\, and enjoy some snacks and beverages. This event is free and open to the public. \nBook Warehouse\, 632 West Broadway\, Vancouver
URL:https://www.readlocalbc.ca/event/celebrating-the-finalists-of-the-2025-bc-and-yukon-book-prizes/
LOCATION:BC
CATEGORIES:Awards,Book Signing
END:VEVENT
BEGIN:VEVENT
DTSTART;TZID=America/Vancouver:20250425T190000
DTEND;TZID=America/Vancouver:20250425T200000
DTSTAMP:20260422T223457
CREATED:20250422T183158Z
LAST-MODIFIED:20250422T183158Z
UID:30572-1745607600-1745611200@www.readlocalbc.ca
SUMMARY:Crime Writers of Canada: A Night of Suspense and Intrigue!
DESCRIPTION:The Crime Writers of Canada invite you to an electrifying evening where the shadows deepen and the truth is unveiled. \nWitness the unveiling of the 2025 Awards of Excellence shortlist\, a moment where literary titans clash and the best in crime fiction are crowned. \nAnd brace yourselves for the grand reveal of The Derrick Murdoch Award\, honouring a legendary figure whose contributions have shaped the very landscape of our beloved genre. A whisper on the wind suggests a celebrated western author (a long-standing CWC luminary) holds this coveted prize. But the identity remains shrouded in mystery… Only those who dare to attend will unlock the truth. Are you ready to play detective? \nBook Warehouse\, 4118 Main St.\, Vancouver
URL:https://www.readlocalbc.ca/event/crime-writers-of-canada-a-night-of-suspense-and-intrigue/
LOCATION:Book Warehouse – Main Street\, 4118 Main Street\, Vancouver\, BC\, V5V 3P7\, Canada
CATEGORIES:Announcement,Awards
ORGANIZER;CN="Crime Writers of Canada":MAILTO:vice-chair@crimewriterscanada.com
END:VEVENT
BEGIN:VEVENT
DTSTART;TZID=America/Vancouver:20250405T190000
DTEND;TZID=America/Vancouver:20250405T210000
DTSTAMP:20260422T223457
CREATED:20250321T031940Z
LAST-MODIFIED:20250321T031940Z
UID:29889-1743879600-1743886800@www.readlocalbc.ca
SUMMARY:Phyllis Webb Memorial Reading featuring Erín Moure and Chantal Neveu
DESCRIPTION:Please join Simon Fraser University’s Department of English and Poetry in Canada for the third annual Phyllis Webb Memorial Reading\, featuring award recipients Erín Moure and Chantal Neveu in conversation with special guests Oana Avasilichioaei and Annie Lafleur. This free event takes place on Saturday\, April 5th (Doors: 6:15 PM; Event: 7-9 PM) at the SFU Segal Building (SG 1300). Enjoy readings\, discussion\, and light refreshments. \nThe Phyllis Webb Memorial Reading honours a Canadian poet(s) with a cash award and a celebration of their work. This event will occur each April and will be organized and administered by the Poetry in Canada Society\, https://www.poetrycanada.org/.\nA Governor General’s Award–winning poet and a member of the Order of Canada\, Phyllis Webb was a major Canadian cultural figure from the 1950s through the 1980s\, publishing ten celebrated collections of poetry and prose and co-founding the CBC Radio program Ideas (in 1965). When “words abandoned” her in the early 1990s and she was no longer able to write\, she took up photography\, photocollage\, and eventually painting. \nAs Stephen Scobie once wrote\, the work of Phyllis Webb “has always been distinguished by the profundity of her insights\, the depth of her emotional feeling\, the delicacy and accuracy of her rhythms\, the beauty and mysterious resonance of her images – and by her luminous intelligence.” It is this legacy that the Phyllis Webb Memorial Reading seeks to honour\, by selecting a poet who is distinguished by similar qualities. \nIn 2025\, the third annual Phyllis Webb Memorial Reading honours two poets: Erín Moure and Chantal Neveu.
URL:https://www.readlocalbc.ca/event/phyllis-webb-memorial-reading-featuring-erin-moure-and-chantal-neveu/
LOCATION:SFU Segal Building\, 500 Granville Street\, Vancouver\, British Columbia\, V6C 1W6
CATEGORIES:Awards
ATTACH;FMTTYPE=image/jpeg:https://www.readlocalbc.ca/wp-content/uploads/2025/03/Livewhale-Phyllis-Webb_Two-Winners-2025.jpg
ORGANIZER;CN="SFU English":MAILTO:englcmns@sfu.ca
END:VEVENT
BEGIN:VEVENT
DTSTART;TZID=America/Vancouver:20240605T190000
DTEND;TZID=America/Vancouver:20240605T210000
DTSTAMP:20260422T223457
CREATED:20240516T173026Z
LAST-MODIFIED:20240516T173026Z
UID:22229-1717614000-1717621200@www.readlocalbc.ca
SUMMARY:BC Yukon Book Prizes Finalists' Reading with Darrel J. McLeod\, David Norwell\, and Chelsea Wakelyn
DESCRIPTION:Please join Munro’s Books in celebrating three local authors who are finalists for 2024 BC Yukon Book Prizes: \nDarrel J. McLeod\, finalist for the Ethel Wilson Fiction Prize for A Season in Chezgh’un\nDavid Norwell\, finalist for the Roderick Haig-Brown Regional Prize for A Complex Coast: A Kayak Journey From Vancouver Island to Alaska\nChelsea Wakelyn\, finalist for the Ethel Wilson Fiction Prize for What Remains of Elsie Jane \nA Season in Chezgh’un is a subversive novel by acclaimed Cree author Darrel J. McLeod\, infused with the contradictory triumph and pain of finding conventional success in a world that feels alien. \nDARREL J. MCLEOD is Cree from Treaty-8 territory in Northern Alberta. Before deciding to pursue writing\, he worked as an educator\, chief negotiator of land claims for the federal government and executive director of education and international affairs with the Assembly of First Nations. He holds degrees in French literature and education from the University of British Columbia. He is the author of two memoirs: the award-winning Mamaskatch (2018; winner of the Governor General’s Literary Award for Nonfiction; shortlisted for many other major prizes; translated into French and German editions)\, followed by Peyakow (2021) which was also shortlisted for several literary prizes. He currently lives in Sooke\, BC\, and divides his time between writing and singing in a jazz band.\n__\nA Complex Coast is a soul-searching personal account of a young man’s 1\,700-kilometre kayak journey from Victoria\, BC\, to Gustavas\, Alaska\, illustrated with whimsical watercolour maps and illustrations of local flora\, fauna\, and landscapes. \nDAVID NORWELL is an author\, illustrator\, and world traveller. He holds a BSc in Geography from the University of Victoria\, and has worked for six seasons conducting biological and geological surveys In BC\, Alberta\, and the Yukon. His passion is communicating science in a way that accesses the human heart. David has visited thirty-three countries\, sailed across the Atlantic and Indian Ocean\, trekked over the Himalayas with a kitten\, and hitchhiked over two hundred rides. He is dedicated to understanding the human experience and sharing his findings. When not working on books\, he is volunteering at schools\, studying Buddhism\, and practising meditation.\n__\nWhat Remains of Elsie Jane is a heartbreaking and darkly funny portrait of a woman unravelling in the wake of tragedy. \nCHELSEA WAKELYN is a writer\, musician\, and mother to two lovely\, eccentric humans. She lives on Vancouver Island. \nWHEN: Wednesday\, June 5th at 7:00 p.m. (doors at 6:30).\nWHERE: In-store at Munro’s Books\, 1108 Government Street in Victoria.\nWHAT: Readings from three BC Yukon Book Prizes finalists: Darrel J. McLeod\, David Norwell\, and Chelsea Wakelyn.\nHOW: This event is free to attend.
URL:https://www.readlocalbc.ca/event/bc-yukon-book-prizes-finalists-reading-with-darrel-j-mcleod-david-norwell-and-chelsea-wakelyn/
LOCATION:Munro’s Books\, 1108 Government Street\, Victoria\, BC\, V8W 1Y2\, Canada
CATEGORIES:Awards,Panel
ATTACH;FMTTYPE=image/jpeg:https://www.readlocalbc.ca/wp-content/uploads/2024/05/BC-Yukon-IG.jpg
ORGANIZER;CN="Munro's Books":MAILTO:events@munrobooks.com
END:VEVENT
BEGIN:VEVENT
DTSTART;TZID=America/Vancouver:20240529T190000
DTEND;TZID=America/Vancouver:20240529T200000
DTSTAMP:20260422T223457
CREATED:20240528T164204Z
LAST-MODIFIED:20240528T164204Z
UID:22541-1717009200-1717012800@www.readlocalbc.ca
SUMMARY:Incite: BC and Yukon Book Prizes
DESCRIPTION:Join the Vancouver Writers Fest\, VPL\, and BC and Yukon Book Prizes for an evening of celebrating the finalists of the BC and Yukon Book Prizes. Hear from three lauded local authors\, each nominated in a different category of this year’s awards: \n– Henry Tsang\, nominated for the Bill Duthie Booksellers’ Choice Award for White Riot: The 1907 Anti-Asian Riots in Vancouver\n– Samantha Nock\, nominated for the Dorothy Livesay Poetry Prize for A Family of Dreamers\n– Brandon Reid\, nominated for the Ethel Wilson Fiction Prize for Beautiful Beautiful \nWhite Riot: The 1907 Anti-Asian Riots in Vancouver is a thought-provoking collection of essays and photographs that documents the anti-Asian riots of 1907 in the context of contemporary anti-Asian sentiment. Samantha Nock redefines where and what “home” is in her debut poetry collection. And Beautiful Beautiful is a coming-of-age story exploring indigeneity\, masculinity\, and cultural tradition. \nThe authors will discuss their shortlisted titles\, and the importance of place in each of their works\, with Megan Cole\, the Prize’s Director of Programming and Communications. Their insightful conversation will be rounded out by readings and an audience Q+A. \nBooks will be for sale at the event courtesy of Book Warehouse\, a division of Black Bond Books. Can’t make the event time? Register for the livestream option and we’ll send you a link to watch the recording!
URL:https://www.readlocalbc.ca/event/incite-bc-and-yukon-book-prizes/
LOCATION:Vancouver Public Library\, Central Branch\, 350 West Georgia St.\, Vancouver\, BC\, V6B 6B1\, Canada
CATEGORIES:Awards,Panel
ATTACH;FMTTYPE=image/jpeg:https://www.readlocalbc.ca/wp-content/uploads/2024/05/2024_Incite-05-29_social-banner.jpg
ORGANIZER;CN="Vancouver Writers Fest":MAILTO:info@writersfest.bc.ca
END:VEVENT
BEGIN:VEVENT
DTSTART;TZID=America/Vancouver:20230812T130000
DTEND;TZID=America/Vancouver:20230812T150000
DTSTAMP:20260422T223457
CREATED:20230712T211835Z
LAST-MODIFIED:20230712T211835Z
UID:17533-1691845200-1691852400@www.readlocalbc.ca
SUMMARY:SCWES Book Awards for BC Authors 2023
DESCRIPTION:The winners of the first Sunshine Coast Writers and Editors Society Book Awards for BC Authors will be announced at the Gibsons Public Market. The emcee is Vince R. Ditrich of Spirit of the West fame and author of the hilarious Liquor Vicar Series. Many of the finalists for the contest will be in attendance. The bookmobile from the Little Bookshop from Squamish will be present to sell the finalists books.
URL:https://www.readlocalbc.ca/event/scwes-book-awards-for-bc-authors-2023-2/
LOCATION:Gibsons Public Market\, 473 Gower Point Rd\, Gibsons\, BC\, V0N 1V0\, Canada
CATEGORIES:Awards
ATTACH;FMTTYPE=image/jpeg:https://www.readlocalbc.ca/wp-content/uploads/2023/07/stack-books-trophy-against-green-background_441362-894.jpeg
ORGANIZER;CN="Sunshine Coast Writers and Editors Society":MAILTO:sunshinecoastwritersandeditors@gmail.com
END:VEVENT
BEGIN:VEVENT
DTSTART;VALUE=DATE:20230530
DTEND;VALUE=DATE:20230601
DTSTAMP:20260422T223457
CREATED:20230303T011331Z
LAST-MODIFIED:20230303T011345Z
UID:15883-1685412000-1685498399@www.readlocalbc.ca
SUMMARY:SCWES BOOK AWARDS FOR BC AUTHORS 2023: SUBMISSIONS DEADLINE
DESCRIPTION:New in 2023 is the Sunshine Coast Writers and Editors Society Book Awards offering prizes in fiction\, non-fiction and poetry in traditional and independent publishing streams. \nThere will be a first-prize winner in each category announced at the Annual Sunshine Coast Art & Words Festival. \n$100 will be awarded for the first-place winner as follows:\nTraditionally published books:\n– Fiction\n– Nonfiction\n– Poetry\nIndie published books (includes hybrid):\n– Fiction\n– Nonfiction\n– Poetry\nFor a total of six $100 awards. \nEach entry receives comments from a judge\, including areas of excellence and areas for improvement. \nEntries for the 2023 SCWES Awards will open March 1\, 2023. \nRULES \n\nBooks must be published between January 2021 and May 30\, 2023.\nBooks must be submitted in book form by midnight May 30\, 2023.\nSubmissions will be rated by a member of the judging committee.\nEntries with outstanding merit in each category will be shortlisted.\nThe shortlist will be announced July 1\, 2023.\n\nFinalist Selection \n\nAll shortlisted titles will be submitted to all judges and all entrants will be informed.\nAll entrants will receive judges’ comments of each title submitted.\nThree finalists will be selected in each category. Finalists will be announced August 1\, 2023.\n\nWinner’s Selection \n\nFinalists will be rated by two judges.\nWinning entries will be announced at the Annual Sunshine Coast Art & Words Festival\, August 17-20\, 2023.\nJudges may enter their book(s) in the contest but may not judge in the same category that their book(s) is entered in.\n\nPRIZES \nThe first-prize winners will receive cash prizes. \nAll entries will receive:\nComments from a member of the Selection Committee. \nShortlisted authors will receive:\nA certificate “Shortlisted for the SCWES Book Award 2023” or “Shortlisted for the SCWES Independent Book Award”\, as appropriate.\n100 stickers for the book’s cover.\nInclusion on the SCWES website with a link to the author’s or publisher’s website. \nFinalists receive:\nA certificate “Finalist for the SCWES Book Award 2023” or ”Finalist for the SCWES Independent Book Award 2023”\, as appropriate.\n100 stickers for the book’s cover.\nInclusion in a list in the Annual SCWES Art & Words Anthology.\nAn invitation to participate in a reading event during the Annual SCWES Art & Words Festival.\nPlacement in book sales area during the Festival.\nA comment from each of the two finalist judges\, if they are finalists. \nWinners receive:\nThe prizes above and one-year membership in SCWES. \nFEE\n$50 per fiction or non-fiction\, $20 or poetry book entry (etransfer to sunshinecoastwritersandeditors@gmail.com\, or cheque made payable to SCWES) \nThe Sunshine Coast Writers and Editors Society was founded in 2021 as a non-profit organization. Our group includes about 75 members living on the Sunshine Coast. SCWES promotes literary arts\, provides a forum for local writers to develop their craft within the community\, and sponsors events such as the Annual Art & Words Festival\, NaNoWriMo\, and 100 Years of Writers on the Sunshine Coast\, among others. \nSUBMISSIONS\nMail a copy of each book to: 787 Madison Place\, Gibsons\, BC V0N 1V1.\nCopies cannot be returned. \nEVALUATIONS\nSCWES judges rate all books and provide comments for the author. The cost is included in the submission fee.\nThe opinions and recommendations in the evaluations are those of SCWES judges and are solicited by the author having entered the contest.\nAll content of comments and ratings will not be disclosed without prior permission of the author.\nThe author may use judges’ comments given for both personal or promotional purposes. \nQuestions? Email sunshinecoastwritersandeditors@gmail.com
URL:https://www.readlocalbc.ca/event/scwes-book-awards-for-bc-authors-2023-submissions-deadline/
LOCATION:BC
CATEGORIES:Awards,Festival
ATTACH;FMTTYPE=image/png:https://www.readlocalbc.ca/wp-content/uploads/2023/03/SCWES_logo_col_o_sm-1-1.png
ORGANIZER;CN="Sunshine Coast Writers &amp%3B Editors Society":MAILTO:sunshinecoastwritersandeditors@gmail.com
END:VEVENT
BEGIN:VEVENT
DTSTART;TZID=America/Vancouver:20230519T190000
DTEND;TZID=America/Vancouver:20230521T190000
DTSTAMP:20260422T223457
CREATED:20230327T205132Z
LAST-MODIFIED:20230327T205132Z
UID:16046-1684522800-1684695600@www.readlocalbc.ca
SUMMARY:FESTIVAL: Word on the Lake Writers' Festival
DESCRIPTION:Sessions included both skill development workshops and open forums with presenters based on questions and answers in a relaxed and intimate setting. 20th Anniversary. Askew’s Writing Contest Awards
URL:https://www.readlocalbc.ca/event/festival-word-on-the-lake-writers-festival/
LOCATION:Prestige Harbourfront Resort\, 251 Harbour Front Drive NE\, Salmon Arm\, BC\, V1E 2W7\, Canada
CATEGORIES:Awards,Festival,Workshop
ATTACH;FMTTYPE=image/png:https://www.readlocalbc.ca/wp-content/uploads/2023/03/Word-on-the-Lake-Logo_transp1362.png
END:VEVENT
BEGIN:VEVENT
DTSTART;VALUE=DATE:20230301
DTEND;VALUE=DATE:20230303
DTSTAMP:20260422T223457
CREATED:20230302T222444Z
LAST-MODIFIED:20230303T011334Z
UID:15818-1677636000-1677722399@www.readlocalbc.ca
SUMMARY:SCWES BOOK AWARDS FOR BC AUTHORS 2023: SUBMISSIONS OPEN
DESCRIPTION:New in 2023 is the Sunshine Coast Writers and Editors Society Book Awards offering prizes in fiction\, non-fiction and poetry in traditional and independent publishing streams. \nThere will be a first-prize winner in each category announced at the Annual Sunshine Coast Art & Words Festival. \n$100 will be awarded for the first-place winner as follows:\nTraditionally published books:\n– Fiction\n– Nonfiction\n– Poetry\nIndie published books (includes hybrid):\n– Fiction\n– Nonfiction\n– Poetry\nFor a total of six $100 awards. \nEach entry receives comments from a judge\, including areas of excellence and areas for improvement. \nEntries for the 2023 SCWES Awards will open March 1\, 2023. \nRULES \n\nBooks must be published between January 2021 and May 30\, 2023.\nBooks must be submitted in book form by midnight May 30\, 2023.\nSubmissions will be rated by a member of the judging committee.\nEntries with outstanding merit in each category will be shortlisted.\nThe shortlist will be announced July 1\, 2023.\n\nFinalist Selection \n\nAll shortlisted titles will be submitted to all judges and all entrants will be informed.\nAll entrants will receive judges’ comments of each title submitted.\nThree finalists will be selected in each category. Finalists will be announced August 1\, 2023.\n\nWinner’s Selection \n\nFinalists will be rated by two judges.\nWinning entries will be announced at the Annual Sunshine Coast Art & Words Festival\, August 17-20\, 2023.\nJudges may enter their book(s) in the contest but may not judge in the same category that their book(s) is entered in.\n\nPRIZES \nThe first-prize winners will receive cash prizes. \nAll entries will receive:\nComments from a member of the Selection Committee. \nShortlisted authors will receive:\nA certificate “Shortlisted for the SCWES Book Award 2023” or “Shortlisted for the SCWES Independent Book Award”\, as appropriate.\n100 stickers for the book’s cover.\nInclusion on the SCWES website with a link to the author’s or publisher’s website. \nFinalists receive:\nA certificate “Finalist for the SCWES Book Award 2023” or ”Finalist for the SCWES Independent Book Award 2023”\, as appropriate.\n100 stickers for the book’s cover.\nInclusion in a list in the Annual SCWES Art & Words Anthology.\nAn invitation to participate in a reading event during the Annual SCWES Art & Words Festival.\nPlacement in book sales area during the Festival.\nA comment from each of the two finalist judges\, if they are finalists. \nWinners receive:\nThe prizes above and one-year membership in SCWES. \nFEE\n$50 per fiction or non-fiction\, $20 or poetry book entry (etransfer to sunshinecoastwritersandeditors@gmail.com\, or cheque made payable to SCWES) \nThe Sunshine Coast Writers and Editors Society was founded in 2021 as a non-profit organization. Our group includes about 75 members living on the Sunshine Coast. SCWES promotes literary arts\, provides a forum for local writers to develop their craft within the community\, and sponsors events such as the Annual Art & Words Festival\, NaNoWriMo\, and 100 Years of Writers on the Sunshine Coast\, among others. \nSUBMISSIONS\nMail a copy of each book to: 787 Madison Place\, Gibsons\, BC V0N 1V1.\nCopies cannot be returned. \nEVALUATIONS\nSCWES judges rate all books and provide comments for the author. The cost is included in the submission fee.\nThe opinions and recommendations in the evaluations are those of SCWES judges and are solicited by the author having entered the contest.\nAll content of comments and ratings will not be disclosed without prior permission of the author.\nThe author may use judges’ comments given for both personal or promotional purposes. \nQuestions? Email sunshinecoastwritersandeditors@gmail.com
URL:https://www.readlocalbc.ca/event/scwes-book-awards-for-bc-authors-2023/
LOCATION:BC
CATEGORIES:Awards,Festival
ATTACH;FMTTYPE=image/png:https://www.readlocalbc.ca/wp-content/uploads/2023/03/SCWES_logo_col_o_sm-1.png
ORGANIZER;CN="Sunshine Coast Writers &amp%3B Editors Society":MAILTO:sunshinecoastwritersandeditors@gmail.com
END:VEVENT
END:VCALENDAR