BEGIN:VCALENDAR
VERSION:2.0
PRODID:-//Read Local BC - ECPv6.15.20//NONSGML v1.0//EN
CALSCALE:GREGORIAN
METHOD:PUBLISH
X-ORIGINAL-URL:https://www.readlocalbc.ca
X-WR-CALDESC:Events for Read Local BC
REFRESH-INTERVAL;VALUE=DURATION:PT1H
X-Robots-Tag:noindex
X-PUBLISHED-TTL:PT1H
BEGIN:VTIMEZONE
TZID:America/Vancouver
BEGIN:DAYLIGHT
TZOFFSETFROM:-0800
TZOFFSETTO:-0700
TZNAME:PDT
DTSTART:20240310T100000
END:DAYLIGHT
BEGIN:STANDARD
TZOFFSETFROM:-0700
TZOFFSETTO:-0800
TZNAME:PST
DTSTART:20241103T090000
END:STANDARD
BEGIN:DAYLIGHT
TZOFFSETFROM:-0800
TZOFFSETTO:-0700
TZNAME:PDT
DTSTART:20250309T100000
END:DAYLIGHT
BEGIN:STANDARD
TZOFFSETFROM:-0700
TZOFFSETTO:-0800
TZNAME:PST
DTSTART:20251102T090000
END:STANDARD
BEGIN:DAYLIGHT
TZOFFSETFROM:-0800
TZOFFSETTO:-0700
TZNAME:PDT
DTSTART:20260308T100000
END:DAYLIGHT
BEGIN:STANDARD
TZOFFSETFROM:-0700
TZOFFSETTO:-0800
TZNAME:PST
DTSTART:20261101T090000
END:STANDARD
END:VTIMEZONE
BEGIN:VEVENT
DTSTART;TZID=America/Vancouver:20250510T123000
DTEND;TZID=America/Vancouver:20250510T153000
DTSTAMP:20260423T152724
CREATED:20250415T235918Z
LAST-MODIFIED:20250422T161208Z
UID:30435-1746880200-1746891000@www.readlocalbc.ca
SUMMARY:Six Little Sticks Book Launch
DESCRIPTION:Book launch for Tiffany Stone’s new book Six Little Sticks! \nBook signings\, snacks\, and crafts with author Tiffany Stone to celebrate the release of her new kids picture book! \nThis event will be held at the Christianne’s Lyceum of Literature and Art on May 10th from 12:30 p.m. to 3:30 p.m. \nwww.christianneslyceum.com \n4433 West 10th Avenue\, Vancouver\, V6R 2H8
URL:https://www.readlocalbc.ca/event/six-little-sticks-book-launch/
LOCATION:BC
CATEGORIES:Book Signing,Launch
END:VEVENT
END:VCALENDAR