BEGIN:VCALENDAR
VERSION:2.0
PRODID:-//Read Local BC - ECPv6.15.20//NONSGML v1.0//EN
CALSCALE:GREGORIAN
METHOD:PUBLISH
X-WR-CALNAME:Read Local BC
X-ORIGINAL-URL:https://www.readlocalbc.ca
X-WR-CALDESC:Events for Read Local BC
REFRESH-INTERVAL;VALUE=DURATION:PT1H
X-Robots-Tag:noindex
X-PUBLISHED-TTL:PT1H
BEGIN:VTIMEZONE
TZID:America/Vancouver
BEGIN:DAYLIGHT
TZOFFSETFROM:-0800
TZOFFSETTO:-0700
TZNAME:PDT
DTSTART:20240310T100000
END:DAYLIGHT
BEGIN:STANDARD
TZOFFSETFROM:-0700
TZOFFSETTO:-0800
TZNAME:PST
DTSTART:20241103T090000
END:STANDARD
BEGIN:DAYLIGHT
TZOFFSETFROM:-0800
TZOFFSETTO:-0700
TZNAME:PDT
DTSTART:20250309T100000
END:DAYLIGHT
BEGIN:STANDARD
TZOFFSETFROM:-0700
TZOFFSETTO:-0800
TZNAME:PST
DTSTART:20251102T090000
END:STANDARD
BEGIN:DAYLIGHT
TZOFFSETFROM:-0800
TZOFFSETTO:-0700
TZNAME:PDT
DTSTART:20260308T100000
END:DAYLIGHT
BEGIN:STANDARD
TZOFFSETFROM:-0700
TZOFFSETTO:-0800
TZNAME:PST
DTSTART:20261101T090000
END:STANDARD
END:VTIMEZONE
BEGIN:VEVENT
DTSTART;TZID=America/Vancouver:20251011T130000
DTEND;TZID=America/Vancouver:20251011T150000
DTSTAMP:20260423T045538
CREATED:20250904T214215Z
LAST-MODIFIED:20250904T214215Z
UID:35256-1760187600-1760194800@www.readlocalbc.ca
SUMMARY:Indigo Park Royal: Book Signing
DESCRIPTION:Visit Indigo Park Royal between 1PM – 3PM on October 11th to meet local author Emma Sloan and claim your free gift with purchase of your signed copy of “Opheliac.”
URL:https://www.readlocalbc.ca/event/indigo-park-royal-book-signing/
LOCATION:Chapters Indigo – Park Royal\, 900 Park Royal S.\, West Vancouver\, BC\, V7T 1A1\, Canada
CATEGORIES:Book Signing,Meet & Greet
ATTACH;FMTTYPE=image/jpeg:https://www.readlocalbc.ca/wp-content/uploads/2025/09/ES-event-flyer-PARK-ROYAL-1.jpeg
ORGANIZER;CN="Indigo Park Royal":MAILTO:emmacourtenaysloan@outlook.com
END:VEVENT
END:VCALENDAR