BEGIN:VCALENDAR
VERSION:2.0
PRODID:-//Read Local BC - ECPv6.15.20//NONSGML v1.0//EN
CALSCALE:GREGORIAN
METHOD:PUBLISH
X-WR-CALNAME:Read Local BC
X-ORIGINAL-URL:https://www.readlocalbc.ca
X-WR-CALDESC:Events for Read Local BC
REFRESH-INTERVAL;VALUE=DURATION:PT1H
X-Robots-Tag:noindex
X-PUBLISHED-TTL:PT1H
BEGIN:VTIMEZONE
TZID:America/Vancouver
BEGIN:DAYLIGHT
TZOFFSETFROM:-0800
TZOFFSETTO:-0700
TZNAME:PDT
DTSTART:20250309T100000
END:DAYLIGHT
BEGIN:STANDARD
TZOFFSETFROM:-0700
TZOFFSETTO:-0800
TZNAME:PST
DTSTART:20251102T090000
END:STANDARD
BEGIN:DAYLIGHT
TZOFFSETFROM:-0800
TZOFFSETTO:-0700
TZNAME:PDT
DTSTART:20260308T100000
END:DAYLIGHT
BEGIN:STANDARD
TZOFFSETFROM:-0700
TZOFFSETTO:-0800
TZNAME:PST
DTSTART:20261101T090000
END:STANDARD
BEGIN:DAYLIGHT
TZOFFSETFROM:-0800
TZOFFSETTO:-0700
TZNAME:PDT
DTSTART:20270314T100000
END:DAYLIGHT
BEGIN:STANDARD
TZOFFSETFROM:-0700
TZOFFSETTO:-0800
TZNAME:PST
DTSTART:20271107T090000
END:STANDARD
END:VTIMEZONE
BEGIN:VEVENT
DTSTART;TZID=America/Vancouver:20260613T120000
DTEND;TZID=America/Vancouver:20260613T150000
DTSTAMP:20260422T234508
CREATED:20260417T225950Z
LAST-MODIFIED:20260417T225950Z
UID:51737-1781352000-1781362800@www.readlocalbc.ca
SUMMARY:Debunking the World We Live In: Unpacking the Matrix and System: Book Signing
DESCRIPTION:Meet Raminder Hayre for a book signing of Debunking the World We Live In: Unpacking the Matrix and System. \nThis book explores the idea of adjusting your expectations of the 3D world\, offering insight into how energy works and influences our everyday lives. It examines the systems that surround us and questions why we are conditioned to become codependent on the people\, places\, and things in our lives. \nThrough this perspective\, readers are invited to reflect on the changes they can make to better understand the human condition and move toward a more fulfilling life.
URL:https://www.readlocalbc.ca/event/debunking-the-world-we-live-in-unpacking-the-matrix-and-system-book-signing/
LOCATION:Indigo Grandview Corners\, #10 - 2453 161a Street\, Surrey\, BC\, V3S 0M6\, Canada
CATEGORIES:Book Signing
ATTACH;FMTTYPE=image/jpeg:https://www.readlocalbc.ca/wp-content/uploads/2026/04/3.jpeg
END:VEVENT
END:VCALENDAR