BEGIN:VCALENDAR
VERSION:2.0
PRODID:-//Read Local BC - ECPv6.15.20//NONSGML v1.0//EN
CALSCALE:GREGORIAN
METHOD:PUBLISH
X-ORIGINAL-URL:https://www.readlocalbc.ca
X-WR-CALDESC:Events for Read Local BC
REFRESH-INTERVAL;VALUE=DURATION:PT1H
X-Robots-Tag:noindex
X-PUBLISHED-TTL:PT1H
BEGIN:VTIMEZONE
TZID:America/Vancouver
BEGIN:DAYLIGHT
TZOFFSETFROM:-0800
TZOFFSETTO:-0700
TZNAME:PDT
DTSTART:20240310T100000
END:DAYLIGHT
BEGIN:STANDARD
TZOFFSETFROM:-0700
TZOFFSETTO:-0800
TZNAME:PST
DTSTART:20241103T090000
END:STANDARD
BEGIN:DAYLIGHT
TZOFFSETFROM:-0800
TZOFFSETTO:-0700
TZNAME:PDT
DTSTART:20250309T100000
END:DAYLIGHT
BEGIN:STANDARD
TZOFFSETFROM:-0700
TZOFFSETTO:-0800
TZNAME:PST
DTSTART:20251102T090000
END:STANDARD
BEGIN:DAYLIGHT
TZOFFSETFROM:-0800
TZOFFSETTO:-0700
TZNAME:PDT
DTSTART:20260308T100000
END:DAYLIGHT
BEGIN:STANDARD
TZOFFSETFROM:-0700
TZOFFSETTO:-0800
TZNAME:PST
DTSTART:20261101T090000
END:STANDARD
BEGIN:DAYLIGHT
TZOFFSETFROM:-0800
TZOFFSETTO:-0700
TZNAME:PDT
DTSTART:20270314T100000
END:DAYLIGHT
BEGIN:STANDARD
TZOFFSETFROM:-0700
TZOFFSETTO:-0800
TZNAME:PST
DTSTART:20271107T090000
END:STANDARD
END:VTIMEZONE
BEGIN:VEVENT
DTSTART;TZID=America/Vancouver:20251016T180000
DTEND;TZID=America/Vancouver:20251016T200000
DTSTAMP:20260423T165047
CREATED:20250903T163906Z
LAST-MODIFIED:20250903T163906Z
UID:35594-1760637600-1760644800@www.readlocalbc.ca
SUMMARY:Love At First Page
DESCRIPTION:Writing a book is a labour of love that often involves working through complex relationships right on the page. Join four Canadian novelists writing at the intersections of romance\, comedy and mental health as they discuss creating lovably flawed characters\, share the process of writing second chance storylines and offer their tried-and-true writing tips to emerging authors. Author meet-and-greet with book signings to follow after the event\, courtesy of bookseller Perfect Match Bookshop. \nFeaturing Natalie Sue\, bestselling author of I Hope This Finds You Well & 2025 Leacock Medal winner; Noreen Nanja\, debut author of breakout hit The Summers Between Us; Leanne Toshiko Simpson\, 2025 Kobo Prize in Romance winner for Never Been Better; and Jacqueline Firkins\, author of 5 novels – including Marlowe Banks\, Redesigned – and UBC professor & costume designer. A selection of Jacqueline’s romance cover dresses will be on display at VPL during this event. \n— \nNatalie Sue is the bestselling and award-winning author of I Hope This Finds You Well. She is a Canadian author of Iranian and British descent. She spent her formative years moving around western Canada with a brief stint in Scotland\, where she discovered her passion for storytelling as a means of connection and reading as a means of comfort. When she’s not writing\, she enjoys bingeing great and terrible TV\, attempting pottery\, and procuring houseplants. She lives in Calgary with her husband\, daughter\, and dog. \nNoreen Nanja is the author of contemporary romance debut The Summers Between Us. As a second-generation Canadian\, Noreen’s writing explores themes of identity\, race and belonging\, wrapped in stories of romantic and familial love. Born and initially raised in small-town British Columbia\, she then spent her formative years in Edmonton before moving to Montreal to pursue her Bachelors in Psychology and English Literature at McGill University and then the University of Calgary to complete her medical degree. She currently lives with her partner and her small dog in Toronto\, where she enjoys working in healthcare\, drinking vast amounts of strawberry matcha and exploring local bookshops. \nLeanne Toshiko Simpson is an award-winning writer\, educator and mental health advocate from Toronto. She writes joyful\, messy\, laugh-out-loud stories about living with mental illness and the moments of hope that help us get out of bed day after day. Leanne’s mental health rom-com Never Been Better won the 2025 Rakuten Kobo Prize for Romance. She teaches creative writing at the University of Toronto and spends her free time designing mental health greeting cards for Pebbles and Company. \nJacqueline Firkins is a writer (Marlowe Banks\, Redesigned)\, costume designer\, and lover of beautiful things. She’s on the full-time faculty in the Department of Theatre & Film at the University of British Columbia where she teaches character design\, world building\, and period costume construction courses. When not obsessing about where to put the buttons or the commas\, she can be found running by the ocean\, eating excessive amounts of gluten\, listening to earnest love songs\, and pretending her dog understands every word she says. \n***Jacqueline’s dresses (#booksasfashion) will be on display during the event and afterwards (until October 20th) through the windows of the Yosef Wosk Poet’s Corner on level 9 where the rooftop garden is. \nIn partnership with Perfect Match Bookshop (Vancouver’s first romance bookstore).
URL:https://www.readlocalbc.ca/event/love-at-first-page/
LOCATION:Vancouver Public Library\, Central Branch\, 350 West Georgia St.\, Vancouver\, BC\, V6B 6B1\, Canada
CATEGORIES:Author Discussion,Book Signing,Reading
ATTACH;FMTTYPE=image/jpeg:https://www.readlocalbc.ca/wp-content/uploads/2025/09/Love-at-First-Page-Final-BE.jpg
ORGANIZER;CN="Vancouver Public Library":MAILTO:candie.tanaka@vpl.ca
END:VEVENT
BEGIN:VEVENT
DTSTART;TZID=America/Vancouver:20251030T183000
DTEND;TZID=America/Vancouver:20251030T200000
DTSTAMP:20260423T165047
CREATED:20251006T181334Z
LAST-MODIFIED:20251006T181334Z
UID:41628-1761849000-1761854400@www.readlocalbc.ca
SUMMARY:Poetry in Translation
DESCRIPTION:Join us for an evening lost in translation with three talented poets as they discuss the often overlooked art of translation. How do you carry a book from one language to another\, line by line\, with precision? UBC Associate Professor Bronwen Tate will moderate the discussion with poets Rhea Tregebov\, Rahat Kurd and Deborah Woodard. \n— \nBronwen Tate is the author of the poetry collection The Silk the Moths Ignore. She is an Associate Professor of Teaching and Undergraduate Chair in the UBC School of Creative Writing\, where she offers courses in poetry\, creative writing pedagogy\, and literary translation. A Practical Guide to Teaching Creative Writing: Supporting Inclusive Pedagogy\, a collaboration with colleague John Vigna\, is forthcoming with Bloomsbury Academic in Spring 2026. \nRhea Tregebov is the author of eight collections of poetry\, most recently\, Talking to Strangers. She edited and co-translated the anthology Arguing With the Storm: Stories by Yiddish Women Writers and taught workshops in literary translation at UBC. In 2019 she taught a graduate course for the English Department at Tsuda University in Tokyo entitled “Translating the Self: Issues in Literary Translation.” Tregebov has translated poetry from French and Spanish and has worked in tandem translation from Japanese\, Catalan and Finnish\, languages she does not know. She is now an Associate Professor Emerita at the School of Creative Writing at UBC. \nRahat Kurd is a poet\, writer\, and editor of Kashmiri and north Indian family origin\, born in Canada and based in Vancouver. The Book Of Z\, published by Talonbooks this fall 2025\, is her second full-length work of poetry. Her previous literary titles with Talonbooks are The City That Is Leaving Forever: Kashmiri Letters\, (2021)\, co-authored with Kashmiri poet Sumayya Syed\, and Cosmophilia\, (poems\, 2015). In her work as a beginner translator of contemporary Urdu poetry\, Rahat Kurd is particularly interested in the ways lyrical resonances from the classical ghazal tradition have influenced modern and feminist Urdu-language poetic sensibilities. \nDeborah Woodard studied with Charles Simic at the University of New Hampshire and has a PhD from the University of Washington. Her books include Borrowed Tales (Stockport Flats) and No Finis: Triangle Testimonies\, 1911 (Ravenna Press). With Roberta Antognini\, she has translated the poetry of Amelia Rosselli in Hospital Series (New Directions)\, Obtuse Diary\, The Dragonfly\, and Notes Scattered and Lost (Entre Rios Books). Their translation of Rosselli’s Document has just been published by World Poetry Books. Deborah teaches at Hugo House in Seattle\, Washington and co-curates the reading series Margin Shift. \n*This event is curated by writer\, Jen Currin (Disembark and Trinity Street amongst many others).
URL:https://www.readlocalbc.ca/event/poetry-in-translation/
LOCATION:Vancouver Public Library\, Central Branch\, 350 West Georgia St.\, Vancouver\, BC\, V6B 6B1\, Canada
CATEGORIES:Book Signing,Panel,Reading
ATTACH;FMTTYPE=image/jpeg:https://www.readlocalbc.ca/wp-content/uploads/2025/09/TranslationEventFinal.jpg
ORGANIZER;CN="Vancouver Public Library":MAILTO:candie.tanaka@vpl.ca
END:VEVENT
BEGIN:VEVENT
DTSTART;TZID=America/Vancouver:20260407T190000
DTEND;TZID=America/Vancouver:20260407T203000
DTSTAMP:20260423T165047
CREATED:20260325T202632Z
LAST-MODIFIED:20260325T202632Z
UID:50861-1775588400-1775593800@www.readlocalbc.ca
SUMMARY:Robin Ducharme Launches Real Love Ready
DESCRIPTION:Victoria author Robin Ducharme launches Real Love Ready: A Guide to Relational Literacy\, a compassionate guide to the knowledge\, skills\, and daily practices that help us love with greater intention\, truth\, and heart. In conversation with Monique Gray Smith\, Robin will discuss how relational literacy can shape the way we connect in love\, friendship\, family\, work\, and self. A meaningful literary event for readers drawn to relationships\, personal growth\, and conscious living.
URL:https://www.readlocalbc.ca/event/robin-ducharme-launches-real-love-ready/
LOCATION:Bolen Books\, #111-1644 Hillside Ave.\, Victoria\, BC\, V8T 2C5\, Canada
CATEGORIES:Author Discussion,Book Signing,Interview
ATTACH;FMTTYPE=image/jpeg:https://www.readlocalbc.ca/wp-content/uploads/2026/03/Screenshot-2026-03-24-at-9.49.30-PM.jpg
ORGANIZER;CN="Real Love Ready":MAILTO:kate@realloveready.com
END:VEVENT
BEGIN:VEVENT
DTSTART;TZID=America/Vancouver:20260418T153000
DTEND;TZID=America/Vancouver:20260418T170000
DTSTAMP:20260423T165047
CREATED:20260417T230134Z
LAST-MODIFIED:20260417T230134Z
UID:51545-1776526200-1776531600@www.readlocalbc.ca
SUMMARY:Book Signing with Garth Mullins
DESCRIPTION:Please join us for a book signing with Garth Mullins; author of “Crackdown: Surviving and Resisting the War on Drugs”. This will be in collaboration with the Name the Crisis community art show\, which will be running from April 7-26th. Prior to the signing\, you can attend Garth’s reading and Q&A event at the Victoria Art Council Bay Centre Gallery at 1150 Douglas Street from 2-3:30pm! \n“Crackdown” is an intimate portrait of Garth’s relationship with opioids\, and a searing indictment of a broken system that is failing drug users and non-users alike. With street drugs getting more toxic by the day\, drug users and their families\, friends and communities are left to pay the price. This book asks us to radically reimagine our approach to drug use\, and to envisage a system that helps rather than harms. \nWhat: Book Signing with Garth Mullins \nWhen: Saturday\, April 18th from 3:30-5:00pm \nWhere: Munro’s Books – 1108 Government St \nHow: This event is free to attend
URL:https://www.readlocalbc.ca/event/book-signing-with-garth-mullins/
LOCATION:Munro’s Books\, 1108 Government Street\, Victoria\, BC\, V8W 1Y2\, Canada
CATEGORIES:Book Signing,Day of Awareness
ATTACH;FMTTYPE=image/jpeg:https://www.readlocalbc.ca/wp-content/uploads/2026/04/GarthMullinsCrackdownREVISED.jpg
ORGANIZER;CN="Munro's Books":MAILTO:events@munrobooks.com
END:VEVENT
BEGIN:VEVENT
DTSTART;TZID=America/Vancouver:20260425T093000
DTEND;TZID=America/Vancouver:20260425T180000
DTSTAMP:20260423T165047
CREATED:20260417T230235Z
LAST-MODIFIED:20260417T230235Z
UID:51550-1777109400-1777140000@www.readlocalbc.ca
SUMMARY:Canadian Independent Bookstore Day at Munro's Books!
DESCRIPTION:Come celebrate Canadian Independent Bookstore Day at Munro’s Books on Saturday\, April 25th! The party will include a contest to win $1000 to spend at the indie bookstore of your choice\, exclusive bookstore swag with each purchase (while supplies last)\, two author signings\, double rewards points on purchases (in-store and online)\, blind date with a book\, a draw for a Munro’s Prize pack\, photo booth\, bookmark colouring station\, and more! \nThis will mark the annual day when readers\, writers\, illustrators\, publishers\, and others come together to celebrate indie bookstores across Canada. By joining the celebration\, you are advocating for independent businesses\, supporting a flourishing book selling community\, and investing in Canadian culture. \nThe book signings will include authors April Howells from 11:00am-1:00pm \, and Phoebe Wang from 1:00pm-3:00pm. \nWe hope you can come party with us! \nWhat: Canadian Independent Bookstore Day Celebration \nWhen: Saturday\, April 25th during opening hours (9:30am-6:00pm) \nWhere: Munro’s Books – 1108 Government St \nHow: This event is free to attend
URL:https://www.readlocalbc.ca/event/canadian-independent-bookstore-day-at-munros-books-2/
LOCATION:Munro’s Books\, 1108 Government Street\, Victoria\, BC\, V8W 1Y2\, Canada
CATEGORIES:Book Signing,Day of Celebration
ATTACH;FMTTYPE=image/jpeg:https://www.readlocalbc.ca/wp-content/uploads/2026/04/CIBD26_Final-Artwork_Square.jpg
ORGANIZER;CN="Munro's Books":MAILTO:events@munrobooks.com
END:VEVENT
BEGIN:VEVENT
DTSTART;TZID=America/Vancouver:20260430T183000
DTEND;TZID=America/Vancouver:20260430T193000
DTSTAMP:20260423T165047
CREATED:20260219T004437Z
LAST-MODIFIED:20260219T004437Z
UID:48886-1777573800-1777577400@www.readlocalbc.ca
SUMMARY:The Art of the Book: Scott McIntyre
DESCRIPTION:At this upcoming Alcuin event\, legendary publisher Scott McIntyre will offer a deeply personal retrospective on his nearly 50-year career at the forefront of the Canadian literary landscape. As the force behind Douglas & McIntyre\, McIntyre will trace the evolution of one of the country’s premier independent houses\, sharing behind-the-scenes anecdotes involving industry icons and celebrated authors. More than just a history lesson\, the talk serves as a passionate defense of the physicality of books—emphasizing why craftsmanship in paper\, binding\, and design remains a vital tribute to the written word even in an increasingly digital age. \nFor Scott\, the physicality of books remained fundamental. Echoing the imperatives of Knopf; paper\, binding\, and type design had to honour the words. That resulted in winning more Alcuin awards than any other single house\, national or multinational\, while building the largest art book program in Canada\, and establishing an international reputation for high quality books. Even the D&M logo\, the Burghead Bull\, declared intent\, based upon a carved image from a 9th century Pictish fort overlooking Moray Forth: defiant; Scottish; echoing the traditions of old-line publishing houses. \nAnecdotes about the evolution of Canadian publishing will focus on important D&M projects: The Art of Emily Carr\, History in Their Blood\,  Doug Coupland’s Souvenir of Canada\, and A Story as Sharp as A Knife\, amongst many others.  \nThis will be his personal take on the world that he chose to embrace and why the old standards still matter\, even in a digital world. \n— \nScott McIntyre\, CM\, OBC\, LLD (Hon)\, BA\, is best known as the co-founder and the retired Publisher and CEO of the pre-eminent\, Vancouver headquartered\, Canadian publishing house Douglas & McIntyre. His company published over 2000 Canadian books from its founding in 1971 to his retirement in 2013. He also spent over 40 years engaged in industry/government relations.  \nScott remains an active member of Canada’s cultural community. His recent Boards have included PEN Canada\, the BC Achievement Foundation and\, at UBC\, Green College\, the Global Reporting Centre\, the Museum of Anthropology\, and the Vancouver Institute. He delivered the 2019-2020 Clyne Lectures at Green College. His memoir\, A Precarious Enterprise: Making a Life in Canadian Publishing\, was published by ECW of Toronto on September 9\, 2025. Scott is a graduate of UBC\, and holds an honorary Doctor of Laws from SFU. He is a member of both the Order of Canada and the Order of British Columbia. His significant contributions to Canadian publishing have been further recognized by the Queen’s Golden Jubilee and Diamond Jubilee medals.
URL:https://www.readlocalbc.ca/event/the-art-of-the-book-scott-mcintyre/
LOCATION:VANCOUVER PUBLIC LIBRARY – CENTRAL LIBRARY
CATEGORIES:Book Signing,Reading
ATTACH;FMTTYPE=image/jpeg:https://www.readlocalbc.ca/wp-content/uploads/2026/02/ScottMcIntyre.jpg
ORGANIZER;CN="Vancouver Public Library":MAILTO:candie.tanaka@vpl.ca
END:VEVENT
BEGIN:VEVENT
DTSTART;TZID=America/Vancouver:20260516T113000
DTEND;TZID=America/Vancouver:20260516T153000
DTSTAMP:20260423T165047
CREATED:20260325T202129Z
LAST-MODIFIED:20260325T202129Z
UID:50647-1778931000-1778945400@www.readlocalbc.ca
SUMMARY:Book Signing: The Heart of Japan
DESCRIPTION:Meet New Westminster author Lesley Hebert at an author book signing for her unique travel memoir The Heart of Japan.
URL:https://www.readlocalbc.ca/event/book-signing-the-heart-of-japan-2/
LOCATION:BC
CATEGORIES:Book Signing
END:VEVENT
BEGIN:VEVENT
DTSTART;TZID=America/Vancouver:20260519T183000
DTEND;TZID=America/Vancouver:20260519T200000
DTSTAMP:20260423T165047
CREATED:20260316T180601Z
LAST-MODIFIED:20260316T180601Z
UID:50131-1779215400-1779220800@www.readlocalbc.ca
SUMMARY:The Flash of Fireflies: Writing the Short Story
DESCRIPTION:Celebrate short story month with four talented fiction writers\, Alix Ohlin\, Andrea Routley\, Jacquelyn Zong-Li Ross\, and Shashi Bhat\, in conversation with local author Jen Currin about the art and craft of this wily and often misunderstood genre. \nAlix Ohlin’s most recent book\, the story collection We Want What We Want\, won a Lambda Literary Award. Her work has appeared in The New Yorker\, Best American Short Stories\, and many other places. She teaches creative writing at UBC. \nAndrea Routley is the author of the short-fiction collections This Unlikely Soil and Jane and the Whales\, and was a finalist for the Lambda Literary Award for Debut Fiction and the Malahat Review Novella Prize. She has taught creative writing in both institutional\, community\, and one-on-one settings\, with a focus on writing as an orientation to the world\, one that cultivates curiosity and compassion. She is the editor of Walk Myself Home: An Anthology to End Violence Against Women\, and was the founding editor of Plenitude\, Canada’s queer literary magazine. \nJacquelyn Zong-Li Ross is a writer and editor based in Vancouver\, the unceded territories of the xʷməθkʷəy̓əm (Musqueam)\, Sḵwx̱wú7mesh (Squamish)\, and səlilwətaɬ (Tsleil-Waututh) nations. She holds an MFA in Creative Writing from the University of Guelph\, and her fiction\, poetry\, essays\, and art criticism have appeared in BOMB\, C Mag\, The Ex-Puritan\, Fence\, Mousse\, and elsewhere. The Longest Way to Eat a Melon\, her debut collection of short fictions\, was published by Sarabande Books in 2025. \nShashi Bhat is the author of the story collection Death by a Thousand Cuts (McClelland & Stewart)\, and the novels The Most Precious Substance on Earth (M&S\, Grand Central)\, and The Family Took Shape (Cormorant). Her fiction received the Ethel Wilson Fiction Prize\, the Writers’ Trust/McClelland & Stewart Journey Prize and a silver National Magazine Award. She has been a finalist for the Governor General’s Award for fiction\, the Danuta Gleed Award\, the RBC Bronwen Wallace Award\, and other prizes\, and was longlisted for the Giller Prize. Shashi’s work has appeared in publications across North America\, including Hazlitt\, The Fiddlehead\, The Malahat Review\, Best Canadian Stories\, and The Journey Prize Stories. She is the editor-in-chief of EVENT and teaches creative writing at Douglas College. \nJen Currin has published two collections of stories\, Hider/Seeker (Anvil\, 2018) and Disembark (House of Anansi\, 2024)\, and five collections of poetry\, most recently Trinity Street (Houseof Anansi\, 2023). Currin lives on the ancestral and unceded territories of the Halkomelem-speaking peoples\, including the Qayqayt\, Musqueam\, Kwikwetlem\, and Kwantlen Nations\, in New Westminster\, BC. They teach creative writing and English upgrading at Kwantlen Polytechnic University.
URL:https://www.readlocalbc.ca/event/the-flash-of-fireflies-writing-the-short-story/
LOCATION:VANCOUVER PUBLIC LIBRARY – CENTRAL LIBRARY
CATEGORIES:Book Signing,Meet & Greet,Panel
ATTACH;FMTTYPE=image/jpeg:https://www.readlocalbc.ca/wp-content/uploads/2026/03/shortstory.jpg
ORGANIZER;CN="Vancouver Public Library":MAILTO:candie.tanaka@vpl.ca
END:VEVENT
BEGIN:VEVENT
DTSTART;TZID=America/Vancouver:20260529T130000
DTEND;TZID=America/Vancouver:20260529T150000
DTSTAMP:20260423T165047
CREATED:20260316T180615Z
LAST-MODIFIED:20260316T180615Z
UID:49535-1780059600-1780066800@www.readlocalbc.ca
SUMMARY:Book launch: The Art of Looking Back by Theresa Kishkan
DESCRIPTION:Join Theresa Kishkan for the release of her memoir\, The Art of Looking Back: A Painter\, an Obsession\, and Reclaiming the Gaze. \nTheresa examines her youth and her role as muse to Victoria artist Jack Wilkinson. More than a reminiscence\, this poetic memoir asks questions about older men and younger women and girls\, and the persistence of that dynamic in art.
URL:https://www.readlocalbc.ca/event/book-launch-the-art-of-looking-back-by-theresa-kishkan/
LOCATION:Sechelt Public Library\, 5797 Cowrie St\, Sechelt\, BC\, V0N 3A0\, Canada
CATEGORIES:Book Signing,Launch,Meet & Greet
ATTACH;FMTTYPE=image/jpeg:https://www.readlocalbc.ca/wp-content/uploads/2026/03/TAP-The-Art-of-Looking-Back-Book-1080x1080-CC-20251126_blue.jpg
ORGANIZER;CN="Sechelt Public Library":MAILTO:programs@secheltlibrary.ca
END:VEVENT
BEGIN:VEVENT
DTSTART;TZID=America/Vancouver:20260531T120000
DTEND;TZID=America/Vancouver:20260531T160000
DTSTAMP:20260423T165047
CREATED:20260325T201910Z
LAST-MODIFIED:20260325T201910Z
UID:50654-1780228800-1780243200@www.readlocalbc.ca
SUMMARY:Book Signing: The Heart of Japan
DESCRIPTION:Meet Lower Mainland author Lesley Hebert\, who will be signing copies of her unique travel memoir The Heart of Japan
URL:https://www.readlocalbc.ca/event/book-signing-the-heart-of-japan/
LOCATION:Indigo Robson\, 1033 Robson Street\, Vancouver\, BC\, V6E 1A9\, Canada
CATEGORIES:Book Signing
ATTACH;FMTTYPE=image/jpeg:https://www.readlocalbc.ca/wp-content/uploads/2026/03/FrontCover.jpeg
ORGANIZER;CN="Indigo Robson":MAILTO:st0975s@indigo.ca
END:VEVENT
BEGIN:VEVENT
DTSTART;TZID=America/Vancouver:20260606T100000
DTEND;TZID=America/Vancouver:20260606T180000
DTSTAMP:20260423T165047
CREATED:20260325T180757Z
LAST-MODIFIED:20260325T180757Z
UID:50720-1780740000-1780768800@www.readlocalbc.ca
SUMMARY:First Annual BC Author Market
DESCRIPTION:A gathering of BC local authors\, for mingling\, connecting\, and selling their books to the public. This event is intended to build the local author community and to encourage BC residents to support local authors.
URL:https://www.readlocalbc.ca/event/first-annual-bc-author-market/
LOCATION:Chilliwack Heritage Park\, 44140 Luckakuck Way\, Chilliwack\, British Columbia\, V2R 4A7\, Canada
CATEGORIES:Book Signing,Meet & Greet
ORGANIZER;CN="BC Author Society":MAILTO:info@bcauthorsociety.ca
END:VEVENT
BEGIN:VEVENT
DTSTART;TZID=America/Vancouver:20260613T120000
DTEND;TZID=America/Vancouver:20260613T150000
DTSTAMP:20260423T165047
CREATED:20260417T225950Z
LAST-MODIFIED:20260417T225950Z
UID:51737-1781352000-1781362800@www.readlocalbc.ca
SUMMARY:Debunking the World We Live In: Unpacking the Matrix and System: Book Signing
DESCRIPTION:Meet Raminder Hayre for a book signing of Debunking the World We Live In: Unpacking the Matrix and System. \nThis book explores the idea of adjusting your expectations of the 3D world\, offering insight into how energy works and influences our everyday lives. It examines the systems that surround us and questions why we are conditioned to become codependent on the people\, places\, and things in our lives. \nThrough this perspective\, readers are invited to reflect on the changes they can make to better understand the human condition and move toward a more fulfilling life.
URL:https://www.readlocalbc.ca/event/debunking-the-world-we-live-in-unpacking-the-matrix-and-system-book-signing/
LOCATION:Indigo Grandview Corners\, #10 - 2453 161a Street\, Surrey\, BC\, V3S 0M6\, Canada
CATEGORIES:Book Signing
ATTACH;FMTTYPE=image/jpeg:https://www.readlocalbc.ca/wp-content/uploads/2026/04/3.jpeg
END:VEVENT
END:VCALENDAR