BEGIN:VCALENDAR
VERSION:2.0
PRODID:-//Read Local BC - ECPv6.15.20//NONSGML v1.0//EN
CALSCALE:GREGORIAN
METHOD:PUBLISH
X-WR-CALNAME:Read Local BC
X-ORIGINAL-URL:https://www.readlocalbc.ca
X-WR-CALDESC:Events for Read Local BC
REFRESH-INTERVAL;VALUE=DURATION:PT1H
X-Robots-Tag:noindex
X-PUBLISHED-TTL:PT1H
BEGIN:VTIMEZONE
TZID:America/Vancouver
BEGIN:DAYLIGHT
TZOFFSETFROM:-0800
TZOFFSETTO:-0700
TZNAME:PDT
DTSTART:20240310T100000
END:DAYLIGHT
BEGIN:STANDARD
TZOFFSETFROM:-0700
TZOFFSETTO:-0800
TZNAME:PST
DTSTART:20241103T090000
END:STANDARD
BEGIN:DAYLIGHT
TZOFFSETFROM:-0800
TZOFFSETTO:-0700
TZNAME:PDT
DTSTART:20250309T100000
END:DAYLIGHT
BEGIN:STANDARD
TZOFFSETFROM:-0700
TZOFFSETTO:-0800
TZNAME:PST
DTSTART:20251102T090000
END:STANDARD
BEGIN:DAYLIGHT
TZOFFSETFROM:-0800
TZOFFSETTO:-0700
TZNAME:PDT
DTSTART:20260308T100000
END:DAYLIGHT
BEGIN:STANDARD
TZOFFSETFROM:-0700
TZOFFSETTO:-0800
TZNAME:PST
DTSTART:20261101T090000
END:STANDARD
BEGIN:DAYLIGHT
TZOFFSETFROM:-0800
TZOFFSETTO:-0700
TZNAME:PDT
DTSTART:20270314T100000
END:DAYLIGHT
BEGIN:STANDARD
TZOFFSETFROM:-0700
TZOFFSETTO:-0800
TZNAME:PST
DTSTART:20271107T090000
END:STANDARD
END:VTIMEZONE
BEGIN:VEVENT
DTSTART;VALUE=DATE:20260421
DTEND;VALUE=DATE:20260423
DTSTAMP:20260422T235115
CREATED:20260225T222247Z
LAST-MODIFIED:20260413T182654Z
UID:49246-1776736800-1776823199@www.readlocalbc.ca
SUMMARY:BC Book Day
DESCRIPTION:WHEN: Tuesday\, April 21\, 2026 \nWHAT: BC Book Day invites British Columbians to celebrate the province’s book & magazine publishers\, authors\, illustrators\, bookstores\, libraries\, festivals\, and literary prizes that connect us with local stories. \nGOAL: To raise awareness among government and the public of BC’s publishing ecosystem and its cultural and economic contributions. \nWHO: BC Book Day is coordinated by Books BC\, which works to support the long-term health and success of the Canadian-owned book industry in British Columbia. \nHow can you support BC Book Day and BC’s Independent Publishers? \n\nBuy BC-published books directly from your local independent bookstore or the publisher’s website (list of BC publishers here).\nEncourage your school and public library to buy and stock both BC and Canadian-published books (find our Books for Schools database here)\nCelebrate Canadian Independent Bookstore Day on April 25 (learn about the day and how to participate here).
URL:https://www.readlocalbc.ca/event/bc-book-day-3/
LOCATION:BC
CATEGORIES:Day of Awareness,Day of Celebration
ATTACH;FMTTYPE=image/jpeg:https://www.readlocalbc.ca/wp-content/uploads/2026/04/banner@4x.jpg
END:VEVENT
BEGIN:VEVENT
DTSTART;TZID=America/Vancouver:20260418T153000
DTEND;TZID=America/Vancouver:20260418T170000
DTSTAMP:20260422T235115
CREATED:20260417T230134Z
LAST-MODIFIED:20260417T230134Z
UID:51545-1776526200-1776531600@www.readlocalbc.ca
SUMMARY:Book Signing with Garth Mullins
DESCRIPTION:Please join us for a book signing with Garth Mullins; author of “Crackdown: Surviving and Resisting the War on Drugs”. This will be in collaboration with the Name the Crisis community art show\, which will be running from April 7-26th. Prior to the signing\, you can attend Garth’s reading and Q&A event at the Victoria Art Council Bay Centre Gallery at 1150 Douglas Street from 2-3:30pm! \n“Crackdown” is an intimate portrait of Garth’s relationship with opioids\, and a searing indictment of a broken system that is failing drug users and non-users alike. With street drugs getting more toxic by the day\, drug users and their families\, friends and communities are left to pay the price. This book asks us to radically reimagine our approach to drug use\, and to envisage a system that helps rather than harms. \nWhat: Book Signing with Garth Mullins \nWhen: Saturday\, April 18th from 3:30-5:00pm \nWhere: Munro’s Books – 1108 Government St \nHow: This event is free to attend
URL:https://www.readlocalbc.ca/event/book-signing-with-garth-mullins/
LOCATION:Munro’s Books\, 1108 Government Street\, Victoria\, BC\, V8W 1Y2\, Canada
CATEGORIES:Book Signing,Day of Awareness
ATTACH;FMTTYPE=image/jpeg:https://www.readlocalbc.ca/wp-content/uploads/2026/04/GarthMullinsCrackdownREVISED.jpg
ORGANIZER;CN="Munro's Books":MAILTO:events@munrobooks.com
END:VEVENT
BEGIN:VEVENT
DTSTART;TZID=America/Vancouver:20250214T080000
DTEND;TZID=America/Vancouver:20250214T170000
DTSTAMP:20260422T235115
CREATED:20250215T032348Z
LAST-MODIFIED:20250215T032348Z
UID:29094-1739520000-1739552400@www.readlocalbc.ca
SUMMARY:National Women and Girls HIV/AIDS Awareness Day
DESCRIPTION:
URL:https://www.readlocalbc.ca/event/national-women-and-girls-hiv-aids-awareness-day/
LOCATION:BC
CATEGORIES:Day of Awareness
END:VEVENT
END:VCALENDAR