BEGIN:VCALENDAR
VERSION:2.0
PRODID:-//Read Local BC - ECPv6.15.20//NONSGML v1.0//EN
CALSCALE:GREGORIAN
METHOD:PUBLISH
X-ORIGINAL-URL:https://www.readlocalbc.ca
X-WR-CALDESC:Events for Read Local BC
REFRESH-INTERVAL;VALUE=DURATION:PT1H
X-Robots-Tag:noindex
X-PUBLISHED-TTL:PT1H
BEGIN:VTIMEZONE
TZID:America/Vancouver
BEGIN:DAYLIGHT
TZOFFSETFROM:-0800
TZOFFSETTO:-0700
TZNAME:PDT
DTSTART:20240310T100000
END:DAYLIGHT
BEGIN:STANDARD
TZOFFSETFROM:-0700
TZOFFSETTO:-0800
TZNAME:PST
DTSTART:20241103T090000
END:STANDARD
BEGIN:DAYLIGHT
TZOFFSETFROM:-0800
TZOFFSETTO:-0700
TZNAME:PDT
DTSTART:20250309T100000
END:DAYLIGHT
BEGIN:STANDARD
TZOFFSETFROM:-0700
TZOFFSETTO:-0800
TZNAME:PST
DTSTART:20251102T090000
END:STANDARD
BEGIN:DAYLIGHT
TZOFFSETFROM:-0800
TZOFFSETTO:-0700
TZNAME:PDT
DTSTART:20260308T100000
END:DAYLIGHT
BEGIN:STANDARD
TZOFFSETFROM:-0700
TZOFFSETTO:-0800
TZNAME:PST
DTSTART:20261101T090000
END:STANDARD
END:VTIMEZONE
BEGIN:VEVENT
DTSTART;TZID=America/Vancouver:20250704T190000
DTEND;TZID=America/Vancouver:20250704T220000
DTSTAMP:20260423T085950
CREATED:20250626T214334Z
LAST-MODIFIED:20250626T214334Z
UID:31923-1751655600-1751666400@www.readlocalbc.ca
SUMMARY:Borderless Solidarities: Storytelling in Ruptured Times
DESCRIPTION:Join us as we raise a glass to 15 incredible years of the Indian Summer Festival! We’re kicking off our milestone edition with an intimate evening of contemplation\, connection\, and celebration. \nBorderless Solidarities: Storytelling in Ruptured Times brings together Minelle Mahtani\, Adel Iskandar\, Baljit Sangra\, and Nermin Gogalic; thinkers\, writers and artists whose work is rooted in memory\, migration\, resistance\, conflict and the power of narrative to shape how we see ourselves and each other. \nIt’s an invitation to reflect on the stories we tell\, the ones we silence\, and the ones that slip through the cracks. From journalism to film to writing\, these voices explore how storytelling can open up space for new stories\, especially in times of profound rupture. \nHow do we tell stories across borders? How do we honour complexity without resolution? What if storytelling is less about answers and more about attuning ourselves to deeper questions? \nJoin us for an evening of critical conversation\, a chance to sit with stories that unsettle\, illuminate\, and expand the sense of what’s possible. \nThe evening also features a behind the scenes Festival overview with Curator in Residence Am Johal and a complimentary cocktail at our post-talk reception. Expect rich dialogue\, old friends\, new faces\, and that unmistakable Indian Summer warmth. \nLet the festivities begin.
URL:https://www.readlocalbc.ca/event/borderless-solidarities-storytelling-in-ruptured-times/
LOCATION:Waterfront Theatre\, 1412 Cartwright St.\, Vancouver\, BC\, V6H 3R8\, Canada
CATEGORIES:Day of Celebration
ATTACH;FMTTYPE=image/jpeg:https://www.readlocalbc.ca/wp-content/uploads/2025/06/ISF2025_Banner_Event_Borderless_Solidarities_2160x1080.jpg
ORGANIZER;CN="Indian Summer Festival":MAILTO:admin@indiansummerfest.ca
END:VEVENT
END:VCALENDAR