BEGIN:VCALENDAR
VERSION:2.0
PRODID:-//Read Local BC - ECPv6.15.20//NONSGML v1.0//EN
CALSCALE:GREGORIAN
METHOD:PUBLISH
X-ORIGINAL-URL:https://www.readlocalbc.ca
X-WR-CALDESC:Events for Read Local BC
REFRESH-INTERVAL;VALUE=DURATION:PT1H
X-Robots-Tag:noindex
X-PUBLISHED-TTL:PT1H
BEGIN:VTIMEZONE
TZID:America/Vancouver
BEGIN:DAYLIGHT
TZOFFSETFROM:-0800
TZOFFSETTO:-0700
TZNAME:PDT
DTSTART:20250309T100000
END:DAYLIGHT
BEGIN:STANDARD
TZOFFSETFROM:-0700
TZOFFSETTO:-0800
TZNAME:PST
DTSTART:20251102T090000
END:STANDARD
BEGIN:DAYLIGHT
TZOFFSETFROM:-0800
TZOFFSETTO:-0700
TZNAME:PDT
DTSTART:20260308T100000
END:DAYLIGHT
BEGIN:STANDARD
TZOFFSETFROM:-0700
TZOFFSETTO:-0800
TZNAME:PST
DTSTART:20261101T090000
END:STANDARD
BEGIN:DAYLIGHT
TZOFFSETFROM:-0800
TZOFFSETTO:-0700
TZNAME:PDT
DTSTART:20270314T100000
END:DAYLIGHT
BEGIN:STANDARD
TZOFFSETFROM:-0700
TZOFFSETTO:-0800
TZNAME:PST
DTSTART:20271107T090000
END:STANDARD
END:VTIMEZONE
BEGIN:VEVENT
DTSTART;TZID=America/Vancouver:20260310T160000
DTEND;TZID=America/Vancouver:20260310T170000
DTSTAMP:20260422T225841
CREATED:20260202T201217Z
LAST-MODIFIED:20260202T201217Z
UID:47923-1773158400-1773162000@www.readlocalbc.ca
SUMMARY:FREE Celebration of Outdoor Learning Books!
DESCRIPTION:Free 1 Hour Virtual Event on Tues\, March 10 at 4pm Pacific / 7pm Eastern Time. \nSign-up: https://outdoorlearning.com/event/spring-celebration-2026/ \nThis is a chance to connect virtually with the incredible authors of some of the outdoor and Indigenous learning resources that we’ve published. Get the inside scoop\, hear about their process\, and ask any burning questions. Offered in partnership with Take Me Outside\, with the support of Creative BC. \nAll registrants will receive: \n– Access the recording\, in case you can’t join us live\n– Access a Certificate of Attendance\n– Entry for some great prizes!\n– A 15% coupon code to access any of the books featured! \nOffered in partnership with Take Me Outside\, with the support of Creative BC.
URL:https://www.readlocalbc.ca/event/free-celebration-of-outdoor-learning-books/
LOCATION:https://outdoorlearning.com/event/spring-celebration-2026/\, Virtual Event
CATEGORIES:Author Discussion,Day of Celebration,Panel
ATTACH;FMTTYPE=image/jpeg:https://www.readlocalbc.ca/wp-content/uploads/2026/01/Outdoor-Learning-Spring-Celebration-2026-Feature-CreativeBC.jpg
ORGANIZER;CN="Outdoor Learning School &amp%3B Store":MAILTO:info@outdoorlearning.com
END:VEVENT
END:VCALENDAR