BEGIN:VCALENDAR
VERSION:2.0
PRODID:-//Read Local BC - ECPv6.15.20//NONSGML v1.0//EN
CALSCALE:GREGORIAN
METHOD:PUBLISH
X-WR-CALNAME:Read Local BC
X-ORIGINAL-URL:https://www.readlocalbc.ca
X-WR-CALDESC:Events for Read Local BC
REFRESH-INTERVAL;VALUE=DURATION:PT1H
X-Robots-Tag:noindex
X-PUBLISHED-TTL:PT1H
BEGIN:VTIMEZONE
TZID:America/Vancouver
BEGIN:DAYLIGHT
TZOFFSETFROM:-0800
TZOFFSETTO:-0700
TZNAME:PDT
DTSTART:20240310T100000
END:DAYLIGHT
BEGIN:STANDARD
TZOFFSETFROM:-0700
TZOFFSETTO:-0800
TZNAME:PST
DTSTART:20241103T090000
END:STANDARD
BEGIN:DAYLIGHT
TZOFFSETFROM:-0800
TZOFFSETTO:-0700
TZNAME:PDT
DTSTART:20250309T100000
END:DAYLIGHT
BEGIN:STANDARD
TZOFFSETFROM:-0700
TZOFFSETTO:-0800
TZNAME:PST
DTSTART:20251102T090000
END:STANDARD
BEGIN:DAYLIGHT
TZOFFSETFROM:-0800
TZOFFSETTO:-0700
TZNAME:PDT
DTSTART:20260308T100000
END:DAYLIGHT
BEGIN:STANDARD
TZOFFSETFROM:-0700
TZOFFSETTO:-0800
TZNAME:PST
DTSTART:20261101T090000
END:STANDARD
END:VTIMEZONE
BEGIN:VEVENT
DTSTART;VALUE=DATE:20251030
DTEND;VALUE=DATE:20251104
DTSTAMP:20260423T041827
CREATED:20251008T223102Z
LAST-MODIFIED:20251008T224101Z
UID:43470-1761789600-1762135199@www.readlocalbc.ca
SUMMARY:Whistler Writers Festival
DESCRIPTION:In 2025\, the Whistler Writers Festival is pleased to gather in-person to welcome readers and writers to our mountain town. We continue to offer a select number of online events. Please review the program and website carefully to determine which options are available for each event. \nWe look forward to sharing stories again this year.
URL:https://www.readlocalbc.ca/event/whistler-writers-festival-3/
LOCATION:various in Whistler\, BC
CATEGORIES:Festival
ATTACH;FMTTYPE=image/webp:https://www.readlocalbc.ca/wp-content/uploads/2025/10/WWF7440_2025Fest-EventbriteHeader_1-2048x1024.jpg.webp
ORGANIZER;CN="Whistler Writing Society":MAILTO:writers@whistlerwritersfest.com
END:VEVENT
END:VCALENDAR