BEGIN:VCALENDAR
VERSION:2.0
PRODID:-//Read Local BC - ECPv6.15.20//NONSGML v1.0//EN
CALSCALE:GREGORIAN
METHOD:PUBLISH
X-WR-CALNAME:Read Local BC
X-ORIGINAL-URL:https://www.readlocalbc.ca
X-WR-CALDESC:Events for Read Local BC
REFRESH-INTERVAL;VALUE=DURATION:PT1H
X-Robots-Tag:noindex
X-PUBLISHED-TTL:PT1H
BEGIN:VTIMEZONE
TZID:America/Vancouver
BEGIN:DAYLIGHT
TZOFFSETFROM:-0800
TZOFFSETTO:-0700
TZNAME:PDT
DTSTART:20250309T100000
END:DAYLIGHT
BEGIN:STANDARD
TZOFFSETFROM:-0700
TZOFFSETTO:-0800
TZNAME:PST
DTSTART:20251102T090000
END:STANDARD
BEGIN:DAYLIGHT
TZOFFSETFROM:-0800
TZOFFSETTO:-0700
TZNAME:PDT
DTSTART:20260308T100000
END:DAYLIGHT
BEGIN:STANDARD
TZOFFSETFROM:-0700
TZOFFSETTO:-0800
TZNAME:PST
DTSTART:20261101T090000
END:STANDARD
BEGIN:DAYLIGHT
TZOFFSETFROM:-0800
TZOFFSETTO:-0700
TZNAME:PDT
DTSTART:20270314T100000
END:DAYLIGHT
BEGIN:STANDARD
TZOFFSETFROM:-0700
TZOFFSETTO:-0800
TZNAME:PST
DTSTART:20271107T090000
END:STANDARD
END:VTIMEZONE
BEGIN:VEVENT
DTSTART;TZID=America/Vancouver:20260128T183000
DTEND;TZID=America/Vancouver:20260128T200000
DTSTAMP:20260423T000527
CREATED:20260105T195148Z
LAST-MODIFIED:20260105T195148Z
UID:46522-1769625000-1769630400@www.readlocalbc.ca
SUMMARY:North Shore Reads - A Couple's Story of Confronting Chronic Pain
DESCRIPTION:In the fifth North Shore Reads\, Kara Stanley\, Simon Paradis\, and Marsha Lederman discuss Stanley’s new book “The Pain Project.” \nTen years after her husband Simon Paradis’ catastrophic injury to his brain and spinal cord\, Kara Stanley and Simon decide to spend one year researching pain\, interviewing experts\, reading self-help books\, and trying new and alternative methodologies to deepen their knowledge and bring ease back into their lives. In “The Pain Project: A Couple’s Story of Confronting Chronic Pain\,” Kara and Simon record their honest conversations\, insightful journal entries\, and affectionate banter\, all while addressing the nature of suffering and pain. Ultimately hopeful\, their story is one for anyone looking for a greater understanding of pain as a phenomenon and in their own lives. \nDon’t miss this thoughtful online conversation between Kara\, Simon\, and The Globe and Mail’s Marsha Lederman on what it means when we confront pain head on. \nThe event is held virtually via Zoom webinar. A link will be emailed to you two days before to the email address you used to register.
URL:https://www.readlocalbc.ca/event/north-shore-reads-a-couples-story-of-confronting-chronic-pain/
LOCATION:Online
CATEGORIES:Author Discussion,Interview
ATTACH;FMTTYPE=image/jpeg:https://www.readlocalbc.ca/wp-content/uploads/2025/12/North-Shore-Read-2026-The-Pain-Project.jpg
ORGANIZER;CN="North Vancouver District Public Library":MAILTO:info@nvdpl.ca
END:VEVENT
END:VCALENDAR