BEGIN:VCALENDAR
VERSION:2.0
PRODID:-//Read Local BC - ECPv6.15.20//NONSGML v1.0//EN
CALSCALE:GREGORIAN
METHOD:PUBLISH
X-ORIGINAL-URL:https://www.readlocalbc.ca
X-WR-CALDESC:Events for Read Local BC
REFRESH-INTERVAL;VALUE=DURATION:PT1H
X-Robots-Tag:noindex
X-PUBLISHED-TTL:PT1H
BEGIN:VTIMEZONE
TZID:America/Vancouver
BEGIN:DAYLIGHT
TZOFFSETFROM:-0800
TZOFFSETTO:-0700
TZNAME:PDT
DTSTART:20220313T100000
END:DAYLIGHT
BEGIN:STANDARD
TZOFFSETFROM:-0700
TZOFFSETTO:-0800
TZNAME:PST
DTSTART:20221106T090000
END:STANDARD
BEGIN:DAYLIGHT
TZOFFSETFROM:-0800
TZOFFSETTO:-0700
TZNAME:PDT
DTSTART:20230312T100000
END:DAYLIGHT
BEGIN:STANDARD
TZOFFSETFROM:-0700
TZOFFSETTO:-0800
TZNAME:PST
DTSTART:20231105T090000
END:STANDARD
BEGIN:DAYLIGHT
TZOFFSETFROM:-0800
TZOFFSETTO:-0700
TZNAME:PDT
DTSTART:20240310T100000
END:DAYLIGHT
BEGIN:STANDARD
TZOFFSETFROM:-0700
TZOFFSETTO:-0800
TZNAME:PST
DTSTART:20241103T090000
END:STANDARD
END:VTIMEZONE
BEGIN:VEVENT
DTSTART;TZID=America/Vancouver:20231201T180000
DTEND;TZID=America/Vancouver:20231201T200000
DTSTAMP:20260424T142907
CREATED:20231106T190423Z
LAST-MODIFIED:20231106T190423Z
UID:19231-1701453600-1701460800@www.readlocalbc.ca
SUMMARY:Book Launch: Better Next Year
DESCRIPTION:Please join Munro’s Books in launching Better Next Year: An Anthology of Christmas Epiphanies!!\nChristmas is trumpeted as a time of peace\, joy\, bounty and goodwill. Believers and non-believers alike covet the spirit of the holidays even when circumstances are screwed up. \nRecollections from acclaimed Canadian authors combine with emerging voices from across the country in an anthology that debunks the popular depiction of Christmas while delivering its messages of hope and renewal. \nWriters marginalized by personal circumstance\, faith\, and race share memories of surviving bleak Christmases past: holidays spent in shelters\, or on the streets; families marred by alcohol and violence; personal struggles with addiction\, poverty or grief; isolation and loneliness. Despite these and other obstacles\, contributors strive to salvage the spirit of the season. \nThis event will be hosted by the book’s editor\, J. J. Lee and will feature readings from Joseph Kakwinokanasum and Jordan Kawchuk. \nWHEN: Friday\, December 1st from 6PM-8PM \nWHERE: Caffe Fantastico Roastery\, 965 Kings Rd. \nWHAT: Hosted by J. J. Lee\, readings from Joseph Kakwinokanasum and Jordan Kawchuk \nHOW: This event is free to attend
URL:https://www.readlocalbc.ca/event/book-launch-better-next-year/
LOCATION:Caffè Fantastico Specialty Coffees\, 965 Kings Road\, Victoria\, British Columbia\, V8T 1W7\, Canada
CATEGORIES:Launch,Meet & Greet
ATTACH;FMTTYPE=image/jpeg:https://www.readlocalbc.ca/wp-content/uploads/2023/11/Better-Next-Year-IG.jpg
ORGANIZER;CN="Munro's Books":MAILTO:events@munrobooks.com
END:VEVENT
BEGIN:VEVENT
DTSTART;TZID=America/Vancouver:20231206T180000
DTEND;TZID=America/Vancouver:20231206T200000
DTSTAMP:20260424T142907
CREATED:20231204T210643Z
LAST-MODIFIED:20231204T210643Z
UID:19517-1701885600-1701892800@www.readlocalbc.ca
SUMMARY:Book Launch / Tales for Late Night Bonfires by G.A. Grisenthwaite with host Molly Cross-Blanchard
DESCRIPTION:On Wednesday\, December 6th at 6pm\, join Massy Arts\, Massy Books and Freehand books in celebrating the launch of G.A. Grisenthwaite’s Tales for Late Night Bonfires\, with host Molly Cross-Blanchard. \n“Tales for Late Night Bonfires is funny\, dark\, and rich all at once; each story is immense and alive. Grisenthwaite shows us what fiction can be when story leads the way.” QUILL & QUIRE starred review \nThis project has been made possible by the Government of Canada. Ce projet a été rendu possible grâce au gouvernement du Canada. \nVenue & Accessibility \nThe event will be hosted at the Massy Arts Gallery\, at 23 East Pender Street in Chinatown\, Vancouver. \nRegistration is free and required for entrance. Register here: https://www.showpass.com/tales-for-late-night-bonfires-by-ga-grisenthwaite-with-host-molly-cross-blanchard/ \nThe gallery is wheelchair accessible and a gender-neutral washroom is on-site. \nPlease refrain from wearing scents or heavy perfumes. \nFor more on accessibility including parking\, seating\, venue measurements and floor plan\, and how to request ASL interpretation please visit: massyarts.com/accessibility \nCovid Protocols: Masks keep our community safe and are mandatory (N95 masks are recommended as they offer the best protection). We ask if you are showing symptoms\, that you stay home. Thank you kindly. \nAbout the book: \nTales for Late Night Bonfires (Freehand Books\, 2023) \nThese are stories that are a litle bit larger than life\, or maybe they really happened. Tales that could be told ’round the campfire\, each one-upping the next. Tales about a car that drives herself\, ever loyal to her owner. Tales about an impossible moose hunt. Tales about the Real Santa(TM) mashed up with the book of Genesis\, alongside SPAM stew and bedroom sets from IKEA. \nG.A. Grisenthwaite’s writing is electric and inimitable\, blending meticulous literary style with oral storytelling and coming away with a voice that is entirely his own. Tales for Late Night Bonfires is truly one of a kind\, and not to be missed. \nAbout the author: \nG.A. Grisenthwaite is a Nlaka’pamux writer and a member of the Lytton First Nation. His debut novel\, Home Waltz\, was shortlisted for the Governor General’s Literary Award. Grisenthwaite lives in Kingsville\, Ontario. In 2023\, he served two months as the Writer-in-Residence at Berton House\, Dawson City. \nAbout the host: \nMolly Cross-Blanchard is a white and Métis writer and editor born on Treaty 3 territory (Fort Frances\, ON)\, raised on Treaty 6 territory (Prince Albert\, SK)\, and living on the unceded territory of the Musqueam\, Squamish\, and Tsleil-Waututh peoples (Vancouver\, BC). She published her debut collection of poems\, Exhibitionist\, in 2021 with Coach House Books\, and currently teaches Creative Writing and Indigenous Studies at Kwantlen Polytechnic University.
URL:https://www.readlocalbc.ca/event/book-launch-tales-for-late-night-bonfires-by-g-a-grisenthwaite-with-host-molly-cross-blanchard/
LOCATION:BC
CATEGORIES:Launch
ATTACH;FMTTYPE=image/jpeg:https://www.readlocalbc.ca/wp-content/uploads/2023/12/DEC-6-Bonfire-header.jpg
END:VEVENT
END:VCALENDAR