BEGIN:VCALENDAR
VERSION:2.0
PRODID:-//Read Local BC - ECPv6.15.20//NONSGML v1.0//EN
CALSCALE:GREGORIAN
METHOD:PUBLISH
X-ORIGINAL-URL:https://www.readlocalbc.ca
X-WR-CALDESC:Events for Read Local BC
REFRESH-INTERVAL;VALUE=DURATION:PT1H
X-Robots-Tag:noindex
X-PUBLISHED-TTL:PT1H
BEGIN:VTIMEZONE
TZID:America/Vancouver
BEGIN:DAYLIGHT
TZOFFSETFROM:-0800
TZOFFSETTO:-0700
TZNAME:PDT
DTSTART:20230312T100000
END:DAYLIGHT
BEGIN:STANDARD
TZOFFSETFROM:-0700
TZOFFSETTO:-0800
TZNAME:PST
DTSTART:20231105T090000
END:STANDARD
BEGIN:DAYLIGHT
TZOFFSETFROM:-0800
TZOFFSETTO:-0700
TZNAME:PDT
DTSTART:20240310T100000
END:DAYLIGHT
BEGIN:STANDARD
TZOFFSETFROM:-0700
TZOFFSETTO:-0800
TZNAME:PST
DTSTART:20241103T090000
END:STANDARD
BEGIN:DAYLIGHT
TZOFFSETFROM:-0800
TZOFFSETTO:-0700
TZNAME:PDT
DTSTART:20250309T100000
END:DAYLIGHT
BEGIN:STANDARD
TZOFFSETFROM:-0700
TZOFFSETTO:-0800
TZNAME:PST
DTSTART:20251102T090000
END:STANDARD
END:VTIMEZONE
BEGIN:VEVENT
DTSTART;TZID=America/Vancouver:20241106T190000
DTEND;TZID=America/Vancouver:20241106T210000
DTSTAMP:20260423T235520
CREATED:20241021T205727Z
LAST-MODIFIED:20241021T205727Z
UID:26964-1730919600-1730926800@www.readlocalbc.ca
SUMMARY:Orca Group Book Launch
DESCRIPTION:You’re invited to join Orca Book Publishers as we launch four new books! Meet the authors\, enjoy the refreshments\, and get a book signed.
URL:https://www.readlocalbc.ca/event/orca-group-book-launch/
LOCATION:Munro’s Books\, 1108 Government Street\, Victoria\, BC\, V8W 1Y2\, Canada
CATEGORIES:Launch
ATTACH;FMTTYPE=image/jpeg:https://www.readlocalbc.ca/wp-content/uploads/2024/10/unnamed.jpg
END:VEVENT
BEGIN:VEVENT
DTSTART;TZID=America/Vancouver:20241114T183000
DTEND;TZID=America/Vancouver:20241114T203000
DTSTAMP:20260423T235521
CREATED:20241105T205824Z
LAST-MODIFIED:20241105T205824Z
UID:27261-1731609000-1731616200@www.readlocalbc.ca
SUMMARY:Book Launch: THE SACRED HEART MOTEL
DESCRIPTION:Join Grace Kwan for their hometown launch of THE SACRED HEART MOTEL\, hosted at the City Centre Artist Lodge (Well Studios) in Mount Pleasant. \nFeaturing special guests Kyla Jamieson and Clio Lake \nFood! Drinks! Readings! Heart-shaped key chains! \nThis is a free event. There is one flight of stairs to access the venue. There is one all-genders washroom. \n// \nIn poet Grace Kwan’s debut\, they are ruthless and nimble\, guiding us through the recesses of body and roadside space. The reader tours the motel through this multiverse narrative\, from amenities to rooms to back alleys\, through the generations of ghosts and queer love stories\, until they are left alone with the heart at the centre. The Sacred Heart Motel is a disorienting\, startling collection about placelessness and longing. \nKyla Jamieson (she/her) is the author of Body Count (Nightwood Editions\, 2020)\, which was shortlisted for the Pat Lowther Memorial Award\, named a CBC Best Poetry Book of 2020\, and awarded third place in the Metatron Prize for Rising Authors by CA Conrad and Anne Boyer. Kyla currently lives and relies on the traditional unceded territories of the Squamish\, Musqueam\, and Tsleil-Waututh Nations\, where she dreams of systemic change\, care-full futures\, and disabled joy. Find her online or in the water. \nGrace Kwan is a Malaysian-born sociologist and writer based in “Vancouver\,” the unceded territories of the Musqueam\, Squamish\, and Tsleil-Waututh peoples. Their recent poetry appears in Canthius\, Room Magazine\, and others. Find them at https://grckwn.wordpress.com/. \nClio Lake is mixed\, trans\, and gnc\, living as a settler on unceded xʷməθkʷəy̓əm\, Sḵwx̱wú7mesh\, and səlil̓wətaʔɬ territories. They like bosc pears\, pomegranates\, and being in the water. You can find her writing collected by Publication Studio Vancouver\, BiteZine N°2\, and in ___figuration: an anthology of trans writers\, forthcoming from Gnashing Teeth. She is a recipient of accolade for drama from the UC Writing Awards.
URL:https://www.readlocalbc.ca/event/book-launch-the-sacred-heart-motel/
LOCATION:City Centre Artist Lodge\, 2111 Main Street\, Vancouver\, BC\, Canada
CATEGORIES:Launch
ATTACH;FMTTYPE=image/webp:https://www.readlocalbc.ca/wp-content/uploads/2024/11/shm-vancouver-launch-w-guest-readers.png.webp
ORGANIZER;CN="Metonymy Press":MAILTO:publish@metonymypress.com
END:VEVENT
BEGIN:VEVENT
DTSTART;TZID=America/Vancouver:20241120T180000
DTEND;TZID=America/Vancouver:20241120T200000
DTSTAMP:20260423T235521
CREATED:20241010T152131Z
LAST-MODIFIED:20241010T152131Z
UID:26426-1732125600-1732132800@www.readlocalbc.ca
SUMMARY:Opheliac: Launch Party
DESCRIPTION:This is a free event\, but please RSVP on this Eventbrite page due to limited capacity: https://www.eventbrite.ca/e/opheliac-launch-party-tickets-1035204884677?aff=oddtdtcreator \nOPHELIAC: LAUNCH PARTY \nJoin us on Wednesday\, November 20th to launch Opheliac\, the debut of BC-based author Emma Sloan. \nAs an informal night of celebration\, mingle with others in the literary community while enjoying Caffe Fantastico’s wide variety of seasonal sips and eats. Both alcoholic and non-alcoholic options will be available. \nMORE ABOUT THE AUTHOR: \nEmma Sloan is a poet\, short fiction author\, and journalist of 10+ years with works published across 300+ international publications. \nAs a Writing and Publishing graduate of the University of Victoria in British Columbia\, Canada\, Emma works as a professional copywriter. \nHer chapbook Opheliac was named a finalist in the Black River Chapbook Competition and is forthcoming with Black Lawrence Press in Fall 2024. \nPRAISE FOR OPHELIAC: \nOpheliac invites lovers of both Shakespeare and wordplay with vivid imagery that invokes a sensory experience throughout. This modern retelling of the literary figure of Ophelia leaves room to ponder femininity\, fragility\, and the haunting impact of tragedy–and is a collection to read again and again. \n–Natasha Silva\, author of North Star Heart \nIn Opheliac\, Emma Sloan shatters memory and rearranges its pieces into arresting shapes. The past is never far away in Opheliac—but that doesn’t stop Sloan from trying to grow a new “girl tongue\,” a voice with which to tell overlooked and necessary truths: “This is a reel of film / on the cutting room floor.” \n–Lucy Wainger\, author of In Life There Are Many Things \nMORE ABOUT THE BLACK LAWRENCE PRESS: \nFounded in upstate New York\, The Black Lawrence Press is an independent publisher of contemporary poetry\, fiction\, and creative nonfiction. \nTheir collections are distributed nationally through Independent Publishers Group to Amazon\, Barnes & Noble\, and various brick and mortar retailers\, as well as assorted conferences and book fairs.
URL:https://www.readlocalbc.ca/event/opheliac-launch-party/
LOCATION:Caffè Fantastico Specialty Coffees\, 965 Kings Road\, Victoria\, British Columbia\, V8T 1W7\, Canada
CATEGORIES:Launch,Meet & Greet
ATTACH;FMTTYPE=image/png:https://www.readlocalbc.ca/wp-content/uploads/2024/10/Opheliac-Facebook-Post.png
END:VEVENT
END:VCALENDAR