BEGIN:VCALENDAR
VERSION:2.0
PRODID:-//Read Local BC - ECPv6.15.20//NONSGML v1.0//EN
CALSCALE:GREGORIAN
METHOD:PUBLISH
X-WR-CALNAME:Read Local BC
X-ORIGINAL-URL:https://www.readlocalbc.ca
X-WR-CALDESC:Events for Read Local BC
REFRESH-INTERVAL;VALUE=DURATION:PT1H
X-Robots-Tag:noindex
X-PUBLISHED-TTL:PT1H
BEGIN:VTIMEZONE
TZID:America/Vancouver
BEGIN:DAYLIGHT
TZOFFSETFROM:-0800
TZOFFSETTO:-0700
TZNAME:PDT
DTSTART:20220313T100000
END:DAYLIGHT
BEGIN:STANDARD
TZOFFSETFROM:-0700
TZOFFSETTO:-0800
TZNAME:PST
DTSTART:20221106T090000
END:STANDARD
BEGIN:DAYLIGHT
TZOFFSETFROM:-0800
TZOFFSETTO:-0700
TZNAME:PDT
DTSTART:20230312T100000
END:DAYLIGHT
BEGIN:STANDARD
TZOFFSETFROM:-0700
TZOFFSETTO:-0800
TZNAME:PST
DTSTART:20231105T090000
END:STANDARD
BEGIN:DAYLIGHT
TZOFFSETFROM:-0800
TZOFFSETTO:-0700
TZNAME:PDT
DTSTART:20240310T100000
END:DAYLIGHT
BEGIN:STANDARD
TZOFFSETFROM:-0700
TZOFFSETTO:-0800
TZNAME:PST
DTSTART:20241103T090000
END:STANDARD
END:VTIMEZONE
BEGIN:VEVENT
DTSTART;TZID=America/Vancouver:20230927T190000
DTEND;TZID=America/Vancouver:20230927T210000
DTSTAMP:20260424T180110
CREATED:20230830T172416Z
LAST-MODIFIED:20230830T172416Z
UID:18193-1695841200-1695848400@www.readlocalbc.ca
SUMMARY:Launch of Hologram: an Homage to P.K. Page
DESCRIPTION:Join Munro’s Books for the launch of Hologram: an Homage to P.K. Page \nEditors Yvonne Blomer and D.C. Reid will host an evening of poetry with local poets John Barton\, Stephen T. Berg\, Barbara Black\, Wendy Donawa\, Beth Kope\, Dan MacIsaac\, Lynne Mustard\, Barbara Pelman\, Pamela Porter\, and Cynthia Woodman Kerkham in a poetic tribute to one of Canada’s most influential and celebrated poets. \nEdited by Yvonne Blomer and DC Reid\, and featuring pieces from renowned poets including John Barton\, Marilyn Bowering\, Lorna Crozier\, Eve Joseph\, Patrick Lane\, Alice Major\, kjmunro\, Patricia Young\, and many others\, Hologram is testament to the mentoring that P.K. Page offered through community and conversation\, as a living writer and through her poetry.
URL:https://www.readlocalbc.ca/event/launch-of-hologram-an-homage-to-p-k-page/
LOCATION:Munro’s Books\, 1108 Government Street\, Victoria\, BC\, V8W 1Y2\, Canada
CATEGORIES:Launch
ATTACH;FMTTYPE=image/jpeg:https://www.readlocalbc.ca/wp-content/uploads/2023/08/Hologram-Launch-Social-Media-Post-Square.jpg
ORGANIZER;CN="Munro's Books":MAILTO:events@munrobooks.com
END:VEVENT
END:VCALENDAR