BEGIN:VCALENDAR
VERSION:2.0
PRODID:-//Read Local BC - ECPv6.15.20//NONSGML v1.0//EN
CALSCALE:GREGORIAN
METHOD:PUBLISH
X-ORIGINAL-URL:https://www.readlocalbc.ca
X-WR-CALDESC:Events for Read Local BC
REFRESH-INTERVAL;VALUE=DURATION:PT1H
X-Robots-Tag:noindex
X-PUBLISHED-TTL:PT1H
BEGIN:VTIMEZONE
TZID:America/Vancouver
BEGIN:DAYLIGHT
TZOFFSETFROM:-0800
TZOFFSETTO:-0700
TZNAME:PDT
DTSTART:20220313T100000
END:DAYLIGHT
BEGIN:STANDARD
TZOFFSETFROM:-0700
TZOFFSETTO:-0800
TZNAME:PST
DTSTART:20221106T090000
END:STANDARD
BEGIN:DAYLIGHT
TZOFFSETFROM:-0800
TZOFFSETTO:-0700
TZNAME:PDT
DTSTART:20230312T100000
END:DAYLIGHT
BEGIN:STANDARD
TZOFFSETFROM:-0700
TZOFFSETTO:-0800
TZNAME:PST
DTSTART:20231105T090000
END:STANDARD
BEGIN:DAYLIGHT
TZOFFSETFROM:-0800
TZOFFSETTO:-0700
TZNAME:PDT
DTSTART:20240310T100000
END:DAYLIGHT
BEGIN:STANDARD
TZOFFSETFROM:-0700
TZOFFSETTO:-0800
TZNAME:PST
DTSTART:20241103T090000
END:STANDARD
END:VTIMEZONE
BEGIN:VEVENT
DTSTART;TZID=America/Vancouver:20231018T190000
DTEND;TZID=America/Vancouver:20231018T203000
DTSTAMP:20260424T180255
CREATED:20231012T165359Z
LAST-MODIFIED:20231012T165359Z
UID:18962-1697655600-1697661000@www.readlocalbc.ca
SUMMARY:Book Launch Event for Male Pregnancy in Reverse!
DESCRIPTION:Tom will be reading with Mark Laba in Vancouver in October: \nHe will be reading from his forthcoming collection\, Male Pregnancy in Reverse\, releasing on September 30th! \nTom Prime is\, as described by Daniel Harris\, author of The Posthuman Series\, “at the forefront of a new generation of avant-gardists.” His latest work is a long poem “in 5 Acts” that transmutes a disturbing and sometimes horrifying experience—albeit one which is only ever obliquely and allegorically described—into a dazzling and heady literary puzzle. \nPlease note that if you wish to reserve a seat at the event\, you may add the FREE ticket below to your cart when purchasing your book at the Cross and Crows website. All Preorders (not-yet-published books) are 20% off\, taken at checkout. Preorders must be prepaid to receive the discount.
URL:https://www.readlocalbc.ca/event/book-launch-event-for-male-pregnancy-in-reverse-2/
LOCATION:Cross and Crows Bookstore\, 2836 Commercial Drive\, Vancouver\, BC\, Canada
CATEGORIES:Launch
ATTACH;FMTTYPE=image/jpeg:https://www.readlocalbc.ca/wp-content/uploads/2023/10/MPiR_VancouverSquare-1-1536x1536-1.jpg
END:VEVENT
END:VCALENDAR