BEGIN:VCALENDAR
VERSION:2.0
PRODID:-//Read Local BC - ECPv6.15.20//NONSGML v1.0//EN
CALSCALE:GREGORIAN
METHOD:PUBLISH
X-ORIGINAL-URL:https://www.readlocalbc.ca
X-WR-CALDESC:Events for Read Local BC
REFRESH-INTERVAL;VALUE=DURATION:PT1H
X-Robots-Tag:noindex
X-PUBLISHED-TTL:PT1H
BEGIN:VTIMEZONE
TZID:America/Vancouver
BEGIN:DAYLIGHT
TZOFFSETFROM:-0800
TZOFFSETTO:-0700
TZNAME:PDT
DTSTART:20220313T100000
END:DAYLIGHT
BEGIN:STANDARD
TZOFFSETFROM:-0700
TZOFFSETTO:-0800
TZNAME:PST
DTSTART:20221106T090000
END:STANDARD
BEGIN:DAYLIGHT
TZOFFSETFROM:-0800
TZOFFSETTO:-0700
TZNAME:PDT
DTSTART:20230312T100000
END:DAYLIGHT
BEGIN:STANDARD
TZOFFSETFROM:-0700
TZOFFSETTO:-0800
TZNAME:PST
DTSTART:20231105T090000
END:STANDARD
BEGIN:DAYLIGHT
TZOFFSETFROM:-0800
TZOFFSETTO:-0700
TZNAME:PDT
DTSTART:20240310T100000
END:DAYLIGHT
BEGIN:STANDARD
TZOFFSETFROM:-0700
TZOFFSETTO:-0800
TZNAME:PST
DTSTART:20241103T090000
END:STANDARD
END:VTIMEZONE
BEGIN:VEVENT
DTSTART;TZID=America/Vancouver:20231101T190000
DTEND;TZID=America/Vancouver:20231101T210000
DTSTAMP:20260424T165522
CREATED:20230912T164550Z
LAST-MODIFIED:20230912T164550Z
UID:18440-1698865200-1698872400@www.readlocalbc.ca
SUMMARY:Ali Blythe and Jason Jobin Book Launch
DESCRIPTION:Please join Munro’s Books in celebrating new books by two local authors: Ali Blythe and Jason Jobin! \nBright star\, would I were stedfast as thou art — \nBreaking open John Keats’s “Last Sonnet\,” in his third book of poetry\, Stedfast\, Ali Blythe writes marginality into the canon\, at once claiming\, reviving\, and un-fixing the Romantic vision. \nTaking place over one night\, the poet in bed next to a sleeping lover\, Blythe’s revelatory poems struggle with questions of illusion and reality\, immersion and escapism\, that which endures and that which is transient. Held taut in formal quivers of short lines\, each poem is shot through with eros — to address\, to dress and undress\, the subject of the love poem and perhaps love itself. \nJason Jobin’s debut\, The Wild Mandrake\, is a memoir that covers his life from the cusp of adulthood\, as he faces cancer that keeps coming back. \nDoctors used to tell him he was cured. That was a long time ago. Ever since he first left home at age nineteen\, writer Jason Jobin has had cancer. Every five years\, like clockwork\, it relapses\, and yet he always pulls through\, surrounded by friends and family but isolated by illness. Chemotherapy\, surgeries\, radiation — these persist\, but they aren’t the milestones of his life. They can’t be\, he won’t let them be. \nFrom helicoptering into the Yukon backcountry to teaching in an elite writing program\, Jason strives to enter adulthood with some normalcy\, but his is the life of “a special case.” And he does live. He lives working at a deli for minimum wage as his students come down the hill to shop and ask what he’s doing there. He lives measuring out nausea pills and benzos while his roommates drink and smoke and party. He lives lying to girlfriends about past diagnoses because what can you say? What do you build on rubble? He lives high and low and in between. Again he is sick\, again he is cured. It’s miraculous. A great gift. But never enough. \nTold in short glimpses\, this story redefines what it means to survive. Jobin brings together the illuminated moments of loss and joy as he navigates chronic illness and builds from it something new and wildly unexpected. \nWHEN: Wednesday\, November 1st at 7:00 PM (doors at 6:30). \nWHERE: In-store at Munro’s Books\, 1108 Government St. \nWHAT: A reading and signings by Ali Blythe and Jason Jobin. \nHOW: This event is free to attend.
URL:https://www.readlocalbc.ca/event/ali-blythe-and-jason-jobin-book-launch/
LOCATION:Munro’s Books\, 1108 Government Street\, Victoria\, BC\, V8W 1Y2\, Canada
CATEGORIES:Launch
ATTACH;FMTTYPE=image/jpeg:https://www.readlocalbc.ca/wp-content/uploads/2023/09/Ali-and-Jason-IG.jpg
ORGANIZER;CN="Munro's Books":MAILTO:events@munrobooks.com
END:VEVENT
END:VCALENDAR