BEGIN:VCALENDAR
VERSION:2.0
PRODID:-//Read Local BC - ECPv6.15.20//NONSGML v1.0//EN
CALSCALE:GREGORIAN
METHOD:PUBLISH
X-WR-CALNAME:Read Local BC
X-ORIGINAL-URL:https://www.readlocalbc.ca
X-WR-CALDESC:Events for Read Local BC
REFRESH-INTERVAL;VALUE=DURATION:PT1H
X-Robots-Tag:noindex
X-PUBLISHED-TTL:PT1H
BEGIN:VTIMEZONE
TZID:America/Vancouver
BEGIN:DAYLIGHT
TZOFFSETFROM:-0800
TZOFFSETTO:-0700
TZNAME:PDT
DTSTART:20230312T100000
END:DAYLIGHT
BEGIN:STANDARD
TZOFFSETFROM:-0700
TZOFFSETTO:-0800
TZNAME:PST
DTSTART:20231105T090000
END:STANDARD
BEGIN:DAYLIGHT
TZOFFSETFROM:-0800
TZOFFSETTO:-0700
TZNAME:PDT
DTSTART:20240310T100000
END:DAYLIGHT
BEGIN:STANDARD
TZOFFSETFROM:-0700
TZOFFSETTO:-0800
TZNAME:PST
DTSTART:20241103T090000
END:STANDARD
BEGIN:DAYLIGHT
TZOFFSETFROM:-0800
TZOFFSETTO:-0700
TZNAME:PDT
DTSTART:20250309T100000
END:DAYLIGHT
BEGIN:STANDARD
TZOFFSETFROM:-0700
TZOFFSETTO:-0800
TZNAME:PST
DTSTART:20251102T090000
END:STANDARD
END:VTIMEZONE
BEGIN:VEVENT
DTSTART;TZID=America/Vancouver:20240405T153000
DTEND;TZID=America/Vancouver:20240405T170000
DTSTAMP:20260424T104438
CREATED:20240409T163637Z
LAST-MODIFIED:20240409T163637Z
UID:21296-1712331000-1712336400@www.readlocalbc.ca
SUMMARY:Book Launch: Boxing the Compass by Michael L. Hadley
DESCRIPTION:Join award-winning historian and mariner Michael L. Hadley on his international adventures as he launches his memoir\, Boxing the Compass: A Life of Seafaring\, Music\, and Pilgrimage (Heritage House\, 2024). \nFriday\, April 5\, 2024 | 3:30–5:00 pm\nMaritime Museum of BC | 744 Douglas St. | Victoria\, BC \nRegister at mmbc.bc.ca\nEvent included with museum admission or membership—come early to visit the museum\nBooks available for purchase and signing
URL:https://www.readlocalbc.ca/event/book-launch-boxing-the-compass-by-michael-l-hadley/
LOCATION:Maritime Museum of BC\, 634 Humboldt St.\, Victoria\, BC\, Canada
CATEGORIES:Launch
ATTACH;FMTTYPE=image/jpeg:https://www.readlocalbc.ca/wp-content/uploads/2024/04/Boxing-the-Compass_Victoria-MMBC-Apr2024-blog.jpg
END:VEVENT
BEGIN:VEVENT
DTSTART;TZID=America/Vancouver:20240405T153000
DTEND;TZID=America/Vancouver:20240405T170000
DTSTAMP:20260424T104438
CREATED:20240409T163714Z
LAST-MODIFIED:20240409T163714Z
UID:21301-1712331000-1712336400@www.readlocalbc.ca
SUMMARY:Book Launch: Boxing the Compass by Michael L. Hadley
DESCRIPTION:Join award-winning historian and mariner Michael L. Hadley on his international adventures as he launches his memoir\, Boxing the Compass: A Life of Seafaring\, Music\, and Pilgrimage (Heritage House\, 2024). \nFriday\, April 5\, 2024 | 3:30–5:00 pm\nMaritime Museum of BC | 744 Douglas St. | Victoria\, BC \nRegister at mmbc.bc.ca\nEvent included with museum admission or membership—come early to visit the museum\nBooks available for purchase and signing
URL:https://www.readlocalbc.ca/event/book-launch-boxing-the-compass-by-michael-l-hadley-2/
LOCATION:Maritime Museum of BC\, 634 Humboldt St.\, Victoria\, BC\, Canada
CATEGORIES:Launch
END:VEVENT
END:VCALENDAR