BEGIN:VCALENDAR
VERSION:2.0
PRODID:-//Read Local BC - ECPv6.15.20//NONSGML v1.0//EN
CALSCALE:GREGORIAN
METHOD:PUBLISH
X-ORIGINAL-URL:https://www.readlocalbc.ca
X-WR-CALDESC:Events for Read Local BC
REFRESH-INTERVAL;VALUE=DURATION:PT1H
X-Robots-Tag:noindex
X-PUBLISHED-TTL:PT1H
BEGIN:VTIMEZONE
TZID:America/Vancouver
BEGIN:DAYLIGHT
TZOFFSETFROM:-0800
TZOFFSETTO:-0700
TZNAME:PDT
DTSTART:20230312T100000
END:DAYLIGHT
BEGIN:STANDARD
TZOFFSETFROM:-0700
TZOFFSETTO:-0800
TZNAME:PST
DTSTART:20231105T090000
END:STANDARD
BEGIN:DAYLIGHT
TZOFFSETFROM:-0800
TZOFFSETTO:-0700
TZNAME:PDT
DTSTART:20240310T100000
END:DAYLIGHT
BEGIN:STANDARD
TZOFFSETFROM:-0700
TZOFFSETTO:-0800
TZNAME:PST
DTSTART:20241103T090000
END:STANDARD
BEGIN:DAYLIGHT
TZOFFSETFROM:-0800
TZOFFSETTO:-0700
TZNAME:PDT
DTSTART:20250309T100000
END:DAYLIGHT
BEGIN:STANDARD
TZOFFSETFROM:-0700
TZOFFSETTO:-0800
TZNAME:PST
DTSTART:20251102T090000
END:STANDARD
END:VTIMEZONE
BEGIN:VEVENT
DTSTART;TZID=America/Vancouver:20240420T130000
DTEND;TZID=America/Vancouver:20240420T140000
DTSTAMP:20260424T104527
CREATED:20240409T163525Z
LAST-MODIFIED:20240409T163525Z
UID:21285-1713618000-1713621600@www.readlocalbc.ca
SUMMARY:Book Launch: Always On Call • Terrace\, BC
DESCRIPTION:Join bestselling author Marion McKinnon Crook to launch Always On Call: Adventures in Nursing\, Ranching\, and Rural Living—the much-anticipated sequel to Always Pack a Candle! \nSaturday\, April 20\, 2024\n1–2 pm\nTerrace Public Library\, 4610 Park Ave.\, Terrace\, BC \n• free to attend — everyone welcome\n• Books for sale by Misty River Books
URL:https://www.readlocalbc.ca/event/book-launch-always-on-call-terrace-bc/
LOCATION:Terrace Public Library\, 4610 Park Ave\, Terrace\, BC\, V8G 1V6\, Canada
CATEGORIES:Launch
ATTACH;FMTTYPE=image/jpeg:https://www.readlocalbc.ca/wp-content/uploads/2024/04/Always-On-Call_Terrace-Apr2024_blog.jpg
END:VEVENT
END:VCALENDAR