BEGIN:VCALENDAR
VERSION:2.0
PRODID:-//Read Local BC - ECPv6.15.20//NONSGML v1.0//EN
CALSCALE:GREGORIAN
METHOD:PUBLISH
X-WR-CALNAME:Read Local BC
X-ORIGINAL-URL:https://www.readlocalbc.ca
X-WR-CALDESC:Events for Read Local BC
REFRESH-INTERVAL;VALUE=DURATION:PT1H
X-Robots-Tag:noindex
X-PUBLISHED-TTL:PT1H
BEGIN:VTIMEZONE
TZID:America/Vancouver
BEGIN:DAYLIGHT
TZOFFSETFROM:-0800
TZOFFSETTO:-0700
TZNAME:PDT
DTSTART:20230312T100000
END:DAYLIGHT
BEGIN:STANDARD
TZOFFSETFROM:-0700
TZOFFSETTO:-0800
TZNAME:PST
DTSTART:20231105T090000
END:STANDARD
BEGIN:DAYLIGHT
TZOFFSETFROM:-0800
TZOFFSETTO:-0700
TZNAME:PDT
DTSTART:20240310T100000
END:DAYLIGHT
BEGIN:STANDARD
TZOFFSETFROM:-0700
TZOFFSETTO:-0800
TZNAME:PST
DTSTART:20241103T090000
END:STANDARD
BEGIN:DAYLIGHT
TZOFFSETFROM:-0800
TZOFFSETTO:-0700
TZNAME:PDT
DTSTART:20250309T100000
END:DAYLIGHT
BEGIN:STANDARD
TZOFFSETFROM:-0700
TZOFFSETTO:-0800
TZNAME:PST
DTSTART:20251102T090000
END:STANDARD
END:VTIMEZONE
BEGIN:VEVENT
DTSTART;TZID=America/Vancouver:20240928T123000
DTEND;TZID=America/Vancouver:20240928T140000
DTSTAMP:20260424T035548
CREATED:20240908T202712Z
LAST-MODIFIED:20240908T202712Z
UID:25581-1727526600-1727532000@www.readlocalbc.ca
SUMMARY:Poetry Bus! Celebrating the 28th Year of Poetry in Transit
DESCRIPTION:In partnership with TransLink and BC Transit\, Read Local BC presents the launch of this year’s Poetry In Transit campaign at Word Vancouver. Now celebrating its 28th year\, this beloved community-engagement project displays the work of ten BC poets on public transit vehicles throughout the province. Join us to hear a selection of the featured 2024-25 poets read from their work\, followed by a short discussion and Q&A in which you can engage with the poets over your love of the written verse! Hosted by Evelyn Lau.
URL:https://www.readlocalbc.ca/event/poetry-bus-celebrating-the-28th-year-of-poetry-in-transit/
LOCATION:UBC Robson Square\, 800 Robson St\, Vancouver\, BC\, V6E 1A7\, Canada
CATEGORIES:Festival,Launch,Reading
ATTACH;FMTTYPE=image/png:https://www.readlocalbc.ca/wp-content/uploads/2024/09/PoetryinTransit-WordVan-2024-2.png
ORGANIZER;CN="Word Vancouver":MAILTO:blnish_pandoras@yahoo.ca
END:VEVENT
END:VCALENDAR