BEGIN:VCALENDAR
VERSION:2.0
PRODID:-//Read Local BC - ECPv6.15.20//NONSGML v1.0//EN
CALSCALE:GREGORIAN
METHOD:PUBLISH
X-ORIGINAL-URL:https://www.readlocalbc.ca
X-WR-CALDESC:Events for Read Local BC
REFRESH-INTERVAL;VALUE=DURATION:PT1H
X-Robots-Tag:noindex
X-PUBLISHED-TTL:PT1H
BEGIN:VTIMEZONE
TZID:America/Vancouver
BEGIN:DAYLIGHT
TZOFFSETFROM:-0800
TZOFFSETTO:-0700
TZNAME:PDT
DTSTART:20230312T100000
END:DAYLIGHT
BEGIN:STANDARD
TZOFFSETFROM:-0700
TZOFFSETTO:-0800
TZNAME:PST
DTSTART:20231105T090000
END:STANDARD
BEGIN:DAYLIGHT
TZOFFSETFROM:-0800
TZOFFSETTO:-0700
TZNAME:PDT
DTSTART:20240310T100000
END:DAYLIGHT
BEGIN:STANDARD
TZOFFSETFROM:-0700
TZOFFSETTO:-0800
TZNAME:PST
DTSTART:20241103T090000
END:STANDARD
BEGIN:DAYLIGHT
TZOFFSETFROM:-0800
TZOFFSETTO:-0700
TZNAME:PDT
DTSTART:20250309T100000
END:DAYLIGHT
BEGIN:STANDARD
TZOFFSETFROM:-0700
TZOFFSETTO:-0800
TZNAME:PST
DTSTART:20251102T090000
END:STANDARD
END:VTIMEZONE
BEGIN:VEVENT
DTSTART;TZID=America/Vancouver:20241029T183000
DTEND;TZID=America/Vancouver:20241029T203000
DTSTAMP:20260424T024039
CREATED:20241010T152217Z
LAST-MODIFIED:20241010T152217Z
UID:26591-1730226600-1730233800@www.readlocalbc.ca
SUMMARY:Canadian Photographs Book Launch
DESCRIPTION:The Polygon Gallery proudly presents the launch of Canadian Photographs\, the latest book by renowned British-Canadian photographer Geoffrey James. \nPublished by Figure 1 Publishing\, and designed by Naomi MacDougall\, the 144-page volume offers a fresh look at Canada’s in-between spaces and forgotten places\, resisting the sense of a cohesive national identity. James documents telling moments: a demolition derby in Quebec\, an inmate’s decorated cell at Kingston Penitentiary\, the Dickensian side door of Massey Hall in Toronto. Captured with an eye for pictorial depth and detail\, James’ photographs do not shy from contradictions: the bifurcation of rural and urban\, rapid growth and increasing inequality\, and the slow journey toward truth and reconciliation. Largely taken from train windows in the vast terrain between the Pacific and Atlantic Coasts\, this unofficial portrait of Canada brings into sharp relief the mercurial nature of the nation. \nCanadian Photographs includes a conversation between the photographer and Peter Galassi\, former Chief Curator of Photography at the Museum of Modern Art\, New York. \nOn the occasion of the book launch\, the Artist will engage in a conversation with acclaimed art historian and curator John O’Brian\, followed by a book signing. \nDoors Open: 6pm\nConversation and Q&A: 6:30 – 7:30pm\nReception and Book Signing: 7:30 – 8pm
URL:https://www.readlocalbc.ca/event/canadian-photographs-book-launch/
LOCATION:The Polygon Gallery\, 101 Carrie Cates Court\, North Vancouver\, BC\, V7M3J4\, Canada
CATEGORIES:Launch
ATTACH;FMTTYPE=image/jpeg:https://www.readlocalbc.ca/wp-content/uploads/2024/10/Geoffrey-James.jpg
ORGANIZER;CN="The Polygon Gallery":MAILTO:info@thepolygon.ca
END:VEVENT
END:VCALENDAR