BEGIN:VCALENDAR
VERSION:2.0
PRODID:-//Read Local BC - ECPv6.15.20//NONSGML v1.0//EN
CALSCALE:GREGORIAN
METHOD:PUBLISH
X-WR-CALNAME:Read Local BC
X-ORIGINAL-URL:https://www.readlocalbc.ca
X-WR-CALDESC:Events for Read Local BC
REFRESH-INTERVAL;VALUE=DURATION:PT1H
X-Robots-Tag:noindex
X-PUBLISHED-TTL:PT1H
BEGIN:VTIMEZONE
TZID:America/Vancouver
BEGIN:DAYLIGHT
TZOFFSETFROM:-0800
TZOFFSETTO:-0700
TZNAME:PDT
DTSTART:20230312T100000
END:DAYLIGHT
BEGIN:STANDARD
TZOFFSETFROM:-0700
TZOFFSETTO:-0800
TZNAME:PST
DTSTART:20231105T090000
END:STANDARD
BEGIN:DAYLIGHT
TZOFFSETFROM:-0800
TZOFFSETTO:-0700
TZNAME:PDT
DTSTART:20240310T100000
END:DAYLIGHT
BEGIN:STANDARD
TZOFFSETFROM:-0700
TZOFFSETTO:-0800
TZNAME:PST
DTSTART:20241103T090000
END:STANDARD
BEGIN:DAYLIGHT
TZOFFSETFROM:-0800
TZOFFSETTO:-0700
TZNAME:PDT
DTSTART:20250309T100000
END:DAYLIGHT
BEGIN:STANDARD
TZOFFSETFROM:-0700
TZOFFSETTO:-0800
TZNAME:PST
DTSTART:20251102T090000
END:STANDARD
END:VTIMEZONE
BEGIN:VEVENT
DTSTART;TZID=America/Vancouver:20241114T183000
DTEND;TZID=America/Vancouver:20241114T203000
DTSTAMP:20260424T011429
CREATED:20241105T205824Z
LAST-MODIFIED:20241105T205824Z
UID:27261-1731609000-1731616200@www.readlocalbc.ca
SUMMARY:Book Launch: THE SACRED HEART MOTEL
DESCRIPTION:Join Grace Kwan for their hometown launch of THE SACRED HEART MOTEL\, hosted at the City Centre Artist Lodge (Well Studios) in Mount Pleasant. \nFeaturing special guests Kyla Jamieson and Clio Lake \nFood! Drinks! Readings! Heart-shaped key chains! \nThis is a free event. There is one flight of stairs to access the venue. There is one all-genders washroom. \n// \nIn poet Grace Kwan’s debut\, they are ruthless and nimble\, guiding us through the recesses of body and roadside space. The reader tours the motel through this multiverse narrative\, from amenities to rooms to back alleys\, through the generations of ghosts and queer love stories\, until they are left alone with the heart at the centre. The Sacred Heart Motel is a disorienting\, startling collection about placelessness and longing. \nKyla Jamieson (she/her) is the author of Body Count (Nightwood Editions\, 2020)\, which was shortlisted for the Pat Lowther Memorial Award\, named a CBC Best Poetry Book of 2020\, and awarded third place in the Metatron Prize for Rising Authors by CA Conrad and Anne Boyer. Kyla currently lives and relies on the traditional unceded territories of the Squamish\, Musqueam\, and Tsleil-Waututh Nations\, where she dreams of systemic change\, care-full futures\, and disabled joy. Find her online or in the water. \nGrace Kwan is a Malaysian-born sociologist and writer based in “Vancouver\,” the unceded territories of the Musqueam\, Squamish\, and Tsleil-Waututh peoples. Their recent poetry appears in Canthius\, Room Magazine\, and others. Find them at https://grckwn.wordpress.com/. \nClio Lake is mixed\, trans\, and gnc\, living as a settler on unceded xʷməθkʷəy̓əm\, Sḵwx̱wú7mesh\, and səlil̓wətaʔɬ territories. They like bosc pears\, pomegranates\, and being in the water. You can find her writing collected by Publication Studio Vancouver\, BiteZine N°2\, and in ___figuration: an anthology of trans writers\, forthcoming from Gnashing Teeth. She is a recipient of accolade for drama from the UC Writing Awards.
URL:https://www.readlocalbc.ca/event/book-launch-the-sacred-heart-motel/
LOCATION:City Centre Artist Lodge\, 2111 Main Street\, Vancouver\, BC\, Canada
CATEGORIES:Launch
ATTACH;FMTTYPE=image/webp:https://www.readlocalbc.ca/wp-content/uploads/2024/11/shm-vancouver-launch-w-guest-readers.png.webp
ORGANIZER;CN="Metonymy Press":MAILTO:publish@metonymypress.com
END:VEVENT
END:VCALENDAR