BEGIN:VCALENDAR
VERSION:2.0
PRODID:-//Read Local BC - ECPv6.15.20//NONSGML v1.0//EN
CALSCALE:GREGORIAN
METHOD:PUBLISH
X-ORIGINAL-URL:https://www.readlocalbc.ca
X-WR-CALDESC:Events for Read Local BC
REFRESH-INTERVAL;VALUE=DURATION:PT1H
X-Robots-Tag:noindex
X-PUBLISHED-TTL:PT1H
BEGIN:VTIMEZONE
TZID:America/Vancouver
BEGIN:DAYLIGHT
TZOFFSETFROM:-0800
TZOFFSETTO:-0700
TZNAME:PDT
DTSTART:20230312T100000
END:DAYLIGHT
BEGIN:STANDARD
TZOFFSETFROM:-0700
TZOFFSETTO:-0800
TZNAME:PST
DTSTART:20231105T090000
END:STANDARD
BEGIN:DAYLIGHT
TZOFFSETFROM:-0800
TZOFFSETTO:-0700
TZNAME:PDT
DTSTART:20240310T100000
END:DAYLIGHT
BEGIN:STANDARD
TZOFFSETFROM:-0700
TZOFFSETTO:-0800
TZNAME:PST
DTSTART:20241103T090000
END:STANDARD
BEGIN:DAYLIGHT
TZOFFSETFROM:-0800
TZOFFSETTO:-0700
TZNAME:PDT
DTSTART:20250309T100000
END:DAYLIGHT
BEGIN:STANDARD
TZOFFSETFROM:-0700
TZOFFSETTO:-0800
TZNAME:PST
DTSTART:20251102T090000
END:STANDARD
END:VTIMEZONE
BEGIN:VEVENT
DTSTART;TZID=America/Vancouver:20240501T190000
DTEND;TZID=America/Vancouver:20240501T210000
DTSTAMP:20260424T051854
CREATED:20240409T163727Z
LAST-MODIFIED:20240409T163727Z
UID:21381-1714590000-1714597200@www.readlocalbc.ca
SUMMARY:Double Poetry Launch: Julie Paul and Miranda Pearson
DESCRIPTION:Join Munro’s Books in celebrating new work by two talented poets!! \n“Chomping / champing / championing / churlish / … / There’s a wolf at the door / that looks exactly like me.” Who is the “whiny baby” in this book? Rather than calling names or hurling insults\, the candid poems in this collection most often implicate the poet herself. Expansive in form and voice\, the poems in Julie Paul’s second collection\, Whiny Baby\, offer both love letters and laments. They take us to construction sites\, meadows\, waiting rooms\, beaches\, alleys\, gardens\, and frozen rivers\, from Montreal to Hornby Island. They ask us to live in the moment\, despite the moment. Including a spirited long poem that riffs on the fairy tale “Three Billy Goats Gruff\,” these poems are like old friends that at once console and confess. They blow kisses\, they remember\, and they celebrate the broken and the lost alongside the beautiful. At turns frank\, peevish\, introspective\, and mischievous\, the poems share sincere and intimate perspectives on the changing female body\, our natural and built landscapes\, and the idiosyncrasies of modern life. Whiny Baby calls on us to simultaneously examine and exult in our brief time on earth. \nJULIE PAUL’s second book of poetry\, Whiny Baby\, follows the 2017 release of the poetry collection The Rules of the Kingdom\, both published with McGill-Queen’s University Press. She is also the author of three short fiction collections\, The Jealousy Bone (Emdash\, 2008)\, The Pull of the Moon (Touchwood / Brindle & Glass\, 2014)\, and Meteorites (Touchwood\, 2019). Her writing has been published widely in journals and has received recognition from a number of sources. The Pull of the Moon won the 2015 Victoria Butler Book Prize\, and The Rules of the Kingdom was a finalist for both the Dorothy Livesay Poetry Prize and the Gerald Lampert Memorial Award. Her personal essay “It Not Only Rises\, It Shines” won the Edna Staebler Personal Essay Award from The New Quarterly and her short story “The Expansion” won The Rusty Toque’s Chapbook Award. Unless she’s visiting her daughter in Montreal\, Julie lives in Victoria BC\, where\, in addition to writing\, she works as a Registered Massage Therapist.\n—\n“Come\, anguish. Help us manage / the plainsong of an open shore\, / its language of high tide rich and close\, / close and hard to see.” The early elegiac poems in Bridestones emerge from the borderlands between life and death\, loss and renewal. Drawing on dreams\, opera\, and visual art\, and employing symbolist and playfully surreal imagery\, Miranda Pearson questions the ways we tend and grieve – for each other and our environment. Beginning with a sudden bereavement\, the first section ends with a long poem\, “Clearance\,” that depicts the experience of emptying and departing a home – the physicality of a house serving as a vehicle for processing grief. Pearson writes on family trauma\, illness\, love\, and desire with a pervading sense of hauntedness\, compressed\, lyrical accounts of complex and ambivalent terrain. The impact of a pandemic lurks in the background\, and themes of fear run through much of this collection\, with poems exploring how we face our fears – or deny and avoid them – and\, ultimately\, how we grow and adapt. Through meditations on art\, myth\, archaeology\, ceremony\, and death\, Pearson reveals the veil between life and death when drawn to its thinnest. Like the hovering falcon depicted in “A Song of Roses\,” the poems view the world from above: “if earth is body\, and sky – God help us\, spirit.” \nMIRANDA PEARSON is widely published in literary journals and anthologies\, and Bridestones is her sixth book of poetry. Two of the previous titles\, Harbour and The Fire Extinguisher\, were shortlisted for the BC and Yukon Book Prizes Dorothy Livesay Poetry Prize. While completing her MFA at UBC\, Miranda served as poetry editor for Prism international\, and has since taught at UBC and SFU. Miranda currently lives between the UK and Vancouver. \nPlease join us for readings from these two poets\, followed by a Q&A with the audience and refreshments! \nWHEN: Wednesday\, May 1st at 7:00 p.m. (doors at 6:30)\nWHERE: In-store at Munro’s Books\, 1108 Government St.\nWHAT: Readings by Julie Paul and Miranda Pearson from their new poetry collections\, followed by a Q&A with the audience. Refreshments will be provided.\nHOW: This event is free to attend.
URL:https://www.readlocalbc.ca/event/double-poetry-launch-julie-paul-and-miranda-pearson/
LOCATION:Munro’s Books\, 1108 Government Street\, Victoria\, BC\, V8W 1Y2\, Canada
CATEGORIES:Launch,Meet & Greet
ATTACH;FMTTYPE=image/jpeg:https://www.readlocalbc.ca/wp-content/uploads/2024/04/Julie-P-and-MP-IG.jpg
ORGANIZER;CN="Munro's Books":MAILTO:events@munrobooks.com
END:VEVENT
BEGIN:VEVENT
DTSTART;TZID=America/Vancouver:20240510T130000
DTEND;TZID=America/Vancouver:20240510T143000
DTSTAMP:20260424T051854
CREATED:20240422T173351Z
LAST-MODIFIED:20240422T173351Z
UID:21603-1715346000-1715351400@www.readlocalbc.ca
SUMMARY:Book Signing: Hand Drawn Victoria with Emma Fitzgerald
DESCRIPTION:Join Munro’s Books on May 10th to meet Emma Fitzgerald\, author of Hand Drawn Victoria: An Illustrated Tour in and Around BC’s Capital City!! \nFor locals and visitors alike\, these sketches and stories highlight both the historic monuments and everyday moments that make Victoria shine. \nYou never know quite what you’ll come across in British Columbia’s capital city. With its unmissable landmarks that attract people from around the world\, Victoria is also rich in forested beauty\, charming houses\, and curious people\, and is steeped in local history. \nFollowing the charm of her previous book\, Hand Drawn Vancouver\, in this memorable book\, Emma FitzGerald captures the coastal city of Victoria and its surrounding communities in over 100 sketches of: \n• Iconic Landmarks: It wouldn’t be a visit to Victoria without stopping by the Empress\, Munro’s\, or Butchart Gardens.\n• Local Favourites: The longstanding Beacon Drive In and James Bay’s Birdcage Confectionary are some beloved spots honoured within these pages.\n• Beautiful Architecture: Journey back in time by admiring historic buildings\, like Queen Anne–style homes and the spiraling Belfry Theatre.\n• Stunning West Coast Landscape: Explore natural wonders\, from culturally significant fields of camas flowers to Mystic Beach’s stunning shoreline.\n• Overheard Conversations: What really makes a city are the people who live there—Emma documents snippets of passersby’s conversations as she sketches. \nStructured by neighbourhood\, Hand Drawn Victoria is a beautiful keepsake for locals and visitors alike\, and a lovely way to celebrate the city—its buildings\, its people\, and its essence. \nEMMA FITZGERALD was born to Irish parents in Lesotho\, a small mountainous kingdom in Southern Africa. She moved to Canada at a young age and spent most of her childhood in Vancouver\, BC. Emma received a BFA in Visual Art from the University of British Columbia in 2004\, and a Masters in Architecture from Dalhousie University in 2008. She has worked in architecture offices across Canada and in Johannesburg\, South Africa. Her love of drawing on location led to her first book\, Hand Drawn Halifax\, and its follow-up\, Sketch by Sketch Along Nova Scotia’s South Shore. She then turned her interest in people and places to where she grew up; Hand Drawn Vancouver was published in 2020 as she began working on Hand Drawn Victoria. In between her Hand Drawn series\, Emma has illustrated five children’s books\, including EveryBody’s Different on EveryBody Street\, written by Sheree Fitch. She lives and draws in Lunenburg\, Nova Scotia. \nWHEN: Friday\, May 10th from 1:00-2:30 p.m.\nWHERE: In-store at Munro’s Books\, 1108 Government St.\nWHAT: Meet and greet plus book signing with Emma Fitzgerald.\nHOW: This event is free to attend.
URL:https://www.readlocalbc.ca/event/book-signing-hand-drawn-victoria-with-emma-fitzgerald/
LOCATION:Munro’s Books\, 1108 Government Street\, Victoria\, BC\, V8W 1Y2\, Canada
CATEGORIES:Launch,Meet & Greet
ATTACH;FMTTYPE=image/jpeg:https://www.readlocalbc.ca/wp-content/uploads/2024/04/HDV_IG-from-pub.jpg
ORGANIZER;CN="Munro's Books":MAILTO:events@munrobooks.com
END:VEVENT
BEGIN:VEVENT
DTSTART;TZID=America/Vancouver:20240520T120000
DTEND;TZID=America/Vancouver:20240520T150000
DTSTAMP:20260424T051854
CREATED:20240422T173842Z
LAST-MODIFIED:20240422T173842Z
UID:21827-1716206400-1716217200@www.readlocalbc.ca
SUMMARY:Victoria Day Explore Victoria Book Signing!
DESCRIPTION:Join Munro’s Books on Victoria Day to meet the authors of four local books: Collin Varner’s 50 Keystone Flora Species of Coastal British Columbia and the Pacific Northwest and 50 Keystone Fauna Species of Coastal British Columbia and the Pacific Northwest; Taryn Eyton’s Backpacking on Vancouver Island; and Dave Doroghy and Graeme Menzies’ 111 Places in Victoria That You Must Not Miss! \n12:00-1:30 p.m.: Collin Varner and Taryn Eyton \nAbout 50 Keystone Flora Species of Coastal British Columbia and the Pacific Northwest: \nA keystone species is an organism that defines and supports an entire ecosystem\, filling a vital ecological niche. Without these species\, the ecosystem would be radically altered or even collapse. This pocket-sized field guide by bestselling naturalist Collin Varner highlights 50 keystone trees\, flowering plants\, fruit-bearing plants\, marine plants\, and fungi found across the Pacific Northwest bioregion—including Douglas Fir\, Sitka Spruce\, Large-leafed Lupine\, Wild Mint\, Salal\, Salmonberry\, Marine Eelgrass\, Red-belted Polypore\, and more. Each entry features clear photography\, etymology\, descriptions\, habitat information\, risks and warnings. This convenient and easy reference is perfect for casual walkers\, hikers\, campers\, and beachcombers\, and draws awareness to the importance of conservation and protection of these crucial species. \nAbout 50 Keystone Fauna Species of Coastal British Columbia and the Pacific Northwest: \nA keystone species is an organism that defines and supports an entire ecosystem\, filling a vital ecological niche. Without these species\, the ecosystem would be radically altered or even collapse. This pocket-sized field guide by bestselling naturalist Collin Varner highlights 50 keystone birds\, mammals\, amphibians\, insects\, fish\, shellfish\, and mollusks found across the Pacific Northwest bioregion—including the American Crow\, Bald Eagle\, American Beaver\, California Sea Lion\, Sea Otter\, Orca\, Coyote\, Grizzly Bear\, Giant Pacific Octopus\, Chinook Salmon\, Pacific Tree Frog\, Pacific Banana Slug\, Mixed Bumblebee\, and more. Each entry features clear photography\, etymology\, descriptions\, habitat information\, risks and warnings. This convenient and easy reference is perfect for casual walkers\, hikers\, campers\, beachcombers\, sailors\, paddlers\, and whale watchers\, and draws awareness to the importance of conservation and protection of these crucial species. \nAbout Backpacking on Vancouver Island: \nDiscover 35 of Vancouver Island’s best day hikes and overnight trips. Vancouver Island is home to legendary backpacking routes\, and this expertly researched book takes you to the best of the best\, whether you’re looking for a weekend trip to a mountain peak\, a multi-day adventure to a secluded beach\, or an easy day trip to a waterfall. The author\, Taryn Eyton\, is an experienced backpacker and Leave No Trace Master Educator. In addition to sharing the best backpacking routes on the Island\, she provides practical advice to promote fun wilderness experiences and minimize your environmental impact. Every featured backpacking trip includes: Elevation\, distance\, and time information Route descriptions and trail maps Points of cultural and natural history Tips on where to camp and where to find water Information about fees\, permits\, and reservations. \n1:30 p.m. to 3:00 p.m.: Dave Doroghy and Graeme Menzies \nAbout 111 Places in Victoria That You Must Not Miss: \nAuthors Dave Doroghy and Graeme Menzies take you to find the cool\, the quirky\, and the unusual places hidden in Victoria amidst the fascinating architecture and glorious outdoor scenery. Visit the place where author Rudyard Kipling slept. Explore Canada’s largest ant farm. Answer the call of nature in a pub’s haunted loo. Or take a date to a secluded\, waterfront fish-and-chips shop. See the world’s tallest totem pole while it still stands. If it’s history you’re after\, consider that James Cook was the first non-indigenous person to set foot near here in 1778. Later\, the Hudson’s Bay Company established the spot as a trading post\, naming it Fort Victoria after the reigning British queen. Vestiges of the old British Empire can still be spotted in the majestic colonial buildings in the inner harbor\, the red double decker buses on its busy streets and the occasional old fashioned British telephone booths. \nWHEN: Monday\, May 20th from 12:00 p.m. to 3:00 p.m.\nWHERE: At Munro’s Books\, 1108 Government St. Outside\, weather permitting\, or inside the store.\nWHAT: Book signings with Collin Varner\, Taryn Eyton\, Dave Doroghy\, and Graeme Menzies\nHOW: This event is free to attend.
URL:https://www.readlocalbc.ca/event/victoria-day-explore-victoria-book-signing/
LOCATION:Munro’s Books\, 1108 Government Street\, Victoria\, BC\, V8W 1Y2\, Canada
CATEGORIES:Meet & Greet
ATTACH;FMTTYPE=image/jpeg:https://www.readlocalbc.ca/wp-content/uploads/2024/04/Munros-Signing-May20_Facebook.jpg
ORGANIZER;CN="Munro's Books":MAILTO:events@munrobooks.com
END:VEVENT
BEGIN:VEVENT
DTSTART;TZID=America/Vancouver:20240522T190000
DTEND;TZID=America/Vancouver:20240522T210000
DTSTAMP:20260424T051854
CREATED:20240430T203601Z
LAST-MODIFIED:20240430T203601Z
UID:22050-1716404400-1716411600@www.readlocalbc.ca
SUMMARY:Wildlife Conservation Book Launch: Bob McDonald in Conversation with Greg Cummings and Sarah Cox
DESCRIPTION:Please join Munro’s Books in launching two new books by local authors about wildlife conversation!! We’ll present Greg Cummings\, author of Gorilla Tactics: How to Save a Species and Sarah Cox\, author of Signs of Life: Fieldnotes From the Frontlines of Extinction in conversation with Bob McDonald\, author of The Future is Now: Solving the Climate Crisis with Today’s Technologies\, and host of CBC Radio’s Quirks and Quarks! \nGorillas are among the most recognizable of the large charismatic mammals\, but climate change and poaching has brought them to the brink of extinction. Greg Cummings was the executive director of the Dian Fossey Gorilla Fund for seventeen years. He shares his fascinating experiences as a “wildlife Robin Hood”—raising money from the rich and famous and redistributing it to endangered gorillas and their habitats. He met and enlisted the help of celebrities such as Sigourney Weaver\, Arthur C. Clark\, Douglas Adams\, and Leonardo DiCaprio. This thirty-year worldwide journey moves from boardrooms in Manhattan and London to mountain treks in Rwanda and Congo. Gorilla Tactics is sure to enchant readers with Greg’s unique experiences\, while sharing insight into the work it takes to save a species from extinction. \nGREG CUMMINGS has been featured in international publications such as the Guardian\, Ecologist\, and Sea Angler. In 2006 his organization was awarded the BBC Animal Award for best wildlife conservation program. A fundraiser since 1990\, Cummings has raised money in America\, Britain\, France\, Holland\, Italy\, and Canada for causes ranging from wildlife conservation to mental health. As director of the Dian Fossey Gorilla Fund UK\, he set up dozens of innovative\, grassroots projects in troubled parts of the world—many of which are self-sustaining to this day. His global perspective has given him an eye for where the next crisis might arise\, and how to thwart it. He lives in Victoria\, British Columbia. \n— \nWhat’s to be done when only three spotted owls are left in Canada’s wild? When wolves eat endangered caribou\, cormorants kill rare trees\, and housing developments threaten a tiny frog? Environmental journalist Sarah Cox has witnessed what happens when we drive species to the brink of extinction. In Signs of Life\, she tags along with the Canadian military\, Indigenous guardians\, biologists\, conservationists\, and ordinary people who are racing to save hundreds of species before it’s too late. Travelling across the country\, Cox visits the Toronto Zoo\, home of Canada’s only wildlife biobank\, where scientists conserve living cells from endangered species in the event of future loss; tours Canada’s military bases\, home to some of Canada’s last preserved ecosystems; and travels to Indigenous communities where land stewards are striving to restore the delicate ecological balance that has sustained people for millennia. Through the eyes and work of individuals who are bringing species back from the precipice\, Cox delivers both an urgent message and a fresh perspective on how we can protect biodiversity and begin to turn things around. \nSARAH COX is an award-winning author and journalist based in Victoria\, B.C. In 2022\, Cox won the Canadian Association of Journalists’ Award for Environmental & Climate Change Reporting and her investigative reporting for the Narwhal has also been awarded the World Press Freedom Award and the Canadian Journalism Foundation’s Jackman Award for Excellence in Journalism. She has also won a Gold Digital Publishing Award with her colleagues at The Narwhal and previously won two Western Magazine Awards. Sarah’s first book Breaching the Peace: The Site C Dam and a Valley’s Stand Against Big Hydro won a B.C. Book Prize and was a finalist for the Shaughnessy Cohen Prize for Political Writing (Writers’ Trust of Canada) and the George Ryga Award for Social Awareness in Literature. \n— \nBOB McDONALD has been the host of CBC Radio’s Quirks & Quarks since 1992. He is a regular science commentator on CBC’s News Network and a science correspondent for CBC TV’s The National. His book Measuring the Earth with a Stick was shortlisted for the Canadian Science Writers Association Book Award. He has been honoured with the 2001 Michael Smith Award for Science Promotion from the Natural Sciences and Engineering Research Council of Canada; the 2002 Sandford Fleming Medal from The Royal Canadian Institute; and the 2005 McNeil Medal for the Public Awareness of Science from the Royal Society of Canada. In November 2011\, he was made an Officer of the Order of Canada. \nWHEN: Wednesday\, May 22nd at 7:00 p.m. (doors at 6:30) \nWHERE: In-store at Munro’s Books\, 1108 Government St. in Victoria \nWHAT: Readings from Greg Cummings and Sarah Cox\, followed by a conversation moderated by Bob McDonald and a Q&A with the audience. Book signings will follow. \nHOW: This event is free to attend.
URL:https://www.readlocalbc.ca/event/wildlife-conservation-book-launch-bob-mcdonald-in-conversation-with-greg-cummings-and-sarah-cox/
LOCATION:Munro’s Books\, 1108 Government Street\, Victoria\, BC\, V8W 1Y2\, Canada
CATEGORIES:Interview,Launch,Meet & Greet
ATTACH;FMTTYPE=image/jpeg:https://www.readlocalbc.ca/wp-content/uploads/2024/04/Wildlife-Conservation-Launch-IG.jpg
ORGANIZER;CN="Munro's Books":MAILTO:events@munrobooks.com
END:VEVENT
BEGIN:VEVENT
DTSTART;TZID=America/Vancouver:20240530T190000
DTEND;TZID=America/Vancouver:20240530T220000
DTSTAMP:20260424T051854
CREATED:20240516T173014Z
LAST-MODIFIED:20240516T173014Z
UID:22135-1717095600-1717106400@www.readlocalbc.ca
SUMMARY:Wild Prose Reading Series Presents: BACK to the Future!
DESCRIPTION:Join the Wild Prose Reading Series on Thursday\, May 30th for BACK to the Future! Readings about time travel and nostalgia\, from Astrid Blodgett (This is How You Start to Disappear)\, Kevin Chong (The Double Life of Benson Yu)\, and Lori Hahnel (Flicker)! \nWe’ll begin with an open mic\, as always (ALL genres welcome) at 7:00 (sign up at 6:30) and then featured readings will start at 7:30. \nBACK to the Future! with Astrid Blodgett\, Kevin Chong\, and Lori Hahnel\nThursday\, May 30th\nat Paul Phillips Hall\, 1923 Fernwood Road\nDoors 6:30\nOpen Mic 7:00\nFeatured Readers 7:30\nAdmission: $5 or pay what you can (CASH)\nFree refreshments \nPlease bring CASH for admission and books \nMore info: https://www.susansanfordblades.com/wild-prose-reading-series
URL:https://www.readlocalbc.ca/event/wild-prose-reading-series-presents-back-to-the-future/
LOCATION:Paul Phillips Hall\, 1923 Fernwood Road\, Victoria\, BC\, V8T 0A5\, Canada
CATEGORIES:Meet & Greet,Open Mic,Panel
ATTACH;FMTTYPE=image/jpeg:https://www.readlocalbc.ca/wp-content/uploads/2024/05/May-Instagram.jpg
ORGANIZER;CN="Wild Prose Reading Series":MAILTO:susan.sanford.blades@gmail.com
END:VEVENT
END:VCALENDAR