BEGIN:VCALENDAR
VERSION:2.0
PRODID:-//Read Local BC - ECPv6.15.20//NONSGML v1.0//EN
CALSCALE:GREGORIAN
METHOD:PUBLISH
X-WR-CALNAME:Read Local BC
X-ORIGINAL-URL:https://www.readlocalbc.ca
X-WR-CALDESC:Events for Read Local BC
REFRESH-INTERVAL;VALUE=DURATION:PT1H
X-Robots-Tag:noindex
X-PUBLISHED-TTL:PT1H
BEGIN:VTIMEZONE
TZID:America/Vancouver
BEGIN:DAYLIGHT
TZOFFSETFROM:-0800
TZOFFSETTO:-0700
TZNAME:PDT
DTSTART:20240310T100000
END:DAYLIGHT
BEGIN:STANDARD
TZOFFSETFROM:-0700
TZOFFSETTO:-0800
TZNAME:PST
DTSTART:20241103T090000
END:STANDARD
BEGIN:DAYLIGHT
TZOFFSETFROM:-0800
TZOFFSETTO:-0700
TZNAME:PDT
DTSTART:20250309T100000
END:DAYLIGHT
BEGIN:STANDARD
TZOFFSETFROM:-0700
TZOFFSETTO:-0800
TZNAME:PST
DTSTART:20251102T090000
END:STANDARD
BEGIN:DAYLIGHT
TZOFFSETFROM:-0800
TZOFFSETTO:-0700
TZNAME:PDT
DTSTART:20260308T100000
END:DAYLIGHT
BEGIN:STANDARD
TZOFFSETFROM:-0700
TZOFFSETTO:-0800
TZNAME:PST
DTSTART:20261101T090000
END:STANDARD
END:VTIMEZONE
BEGIN:VEVENT
DTSTART;TZID=America/Vancouver:20250602T190000
DTEND;TZID=America/Vancouver:20250602T203000
DTSTAMP:20260423T083959
CREATED:20250522T070521Z
LAST-MODIFIED:20250522T070521Z
UID:30957-1748890800-1748896200@www.readlocalbc.ca
SUMMARY:Bones of a Giant with Brian Thomas Isaac
DESCRIPTION:Join Massy Books\, Penguin Random House\, and Brian Thomas Isaac for the launch of “Bones of a Giant” at 7 pm on Monday\, June 2nd! \nBooks will be for sale at the event\, including “All the Quiet Places.” \nVenue: \nThe event will be hosted at the Massy Books\, at 229 East Georgia Street in Chinatown\, Vancouver. \nRegistration is free or by donation and required for entry. \nThe bookstore is wheelchair accessible and a gender-neutral washroom is on-site. \nPlease refrain from wearing scents or heavy perfumes. \nCovid Protocols: Masks keep our community safe and are recommended and will be provided at the venue. We ask if you are showing symptoms\, that you stay home. Thank you kindly. \nAbout the Book: \nSummer\, 1968. For the first time since his big brother\, Eddie\, disappeared two years earlier—either a runaway or dead by his own hand—sixteen-year-old Lewis Toma has shaken off some of his grief. His mother\, Grace\, and her friend Isabel have gone south to the United States to pack fruit to earn the cash Grace needs to put a bathroom and running water into the three-room shack they share on the reserve\, leaving Lewis to spend the summer with his cousins\, his Uncle Ned and his Aunt Jean in the new house they’ve built on their farm along the Salmon River. Their warm family life is almost enough to counter the pressures he feels as a boy trying to become a man in a place where responsible adult men like his uncle are largely absent\, broken by residential school and racism. Everywhere he looks\, women are left to carry the load\, sometimes with kindness\, but often with the bitterness\, anger and ferocity of his own mother\, who kicked Lewis’s lowlife father\, Jimmy\, to the curb long ago. \nLewis has vowed never to be like his father—but an encounter with a predatory older woman tests him and he suffers the consequences. Worse\, his dad is back in town and scheming on how to use the Indian Act to steal the land Lewis and his mom have been living on. And then\, at summer’s end\, more shocking revelations shake the family\, unleashing a deadly force of anger and frustration. \nWith so many traps laid around him\, how will Lewis find a path to a different future? \nAbout the Author: \nBrian Thomas Isaac was born in 1950 on the Okanagan Indian Reserve\, near Vernon\, British Columbia. After completing grade eight\, he found work in the Alberta oil fields and in construction\, eventually retiring as a bricklayer. He came to writing late in life. In 2022\, his bestselling debut\, All the Quiet Places\, won an Indigenous Voices Award\, was a finalist for the Governor General’s Literary Award for Fiction and the Amazon Canada First Novel Award\, and was longlisted for the Scotiabank Giller Prize and CBC’s Canada Reads. He lives with his wife in West Kelowna\, BC.
URL:https://www.readlocalbc.ca/event/bones-of-a-giant-with-brian-thomas-isaac/
LOCATION:Native Education College\, 285 East 5th Avenue\, Vancouver\, BC\, V5T 1H2\, Canada
CATEGORIES:Book Signing,Interview,Launch,Meet & Greet,Panel
ATTACH;FMTTYPE=image/jpeg:https://www.readlocalbc.ca/wp-content/uploads/2025/05/Massy-books-4.jpg
ORGANIZER;CN="massy books":MAILTO:info@massybooks.com
END:VEVENT
BEGIN:VEVENT
DTSTART;TZID=America/Vancouver:20250608T130000
DTEND;TZID=America/Vancouver:20250608T150000
DTSTAMP:20260423T083959
CREATED:20250512T052040Z
LAST-MODIFIED:20250512T052242Z
UID:30887-1749387600-1749394800@www.readlocalbc.ca
SUMMARY:Book Talk with Karen Harmon
DESCRIPTION:NVDPL is excited to host author Karen Harmon for a book talk at the Capilano Library! \nKaren will be reading from her new book\, Class of ’56 \nSet against the nostalgic backdrop of diners\, hot rods\, and sock hops\, Class of ’56 is a prequel to Karen Harmon’s award-winning Class of ’78\, where the secrets behind MeadowBrook’s white picket fences begin to crack\, revealing a town where no one is truly innocent. \nKaren will then read three short excerpts from her latest book\, Class of ’56\, followed by a Q&A session and three fun prize draws.
URL:https://www.readlocalbc.ca/event/book-talk-with-karen-harmon/
LOCATION:North Vancouver Public Library – Capilano branch\, 3045 Highland Blvd.\, North Vancouver\, BC\, V7R 2X4\, Canada
CATEGORIES:Meet & Greet
ATTACH;FMTTYPE=image/jpeg:https://www.readlocalbc.ca/wp-content/uploads/2025/05/56.jpg
ORGANIZER;CN="North Vancouver District Public Library":MAILTO:info@nvdpl.ca
END:VEVENT
BEGIN:VEVENT
DTSTART;TZID=America/Vancouver:20250614T103000
DTEND;TZID=America/Vancouver:20250614T120000
DTSTAMP:20260423T083959
CREATED:20250422T184402Z
LAST-MODIFIED:20250422T184402Z
UID:30594-1749897000-1749902400@www.readlocalbc.ca
SUMMARY:Word Vancouver & Timothy Taylor: Literary Walking Tour
DESCRIPTION:Become a member of Word Vancouver to get access to exclusive events! \nOn June 14th\, Timothy Taylor will host a Literary Walking Tour.\nJoin Timothy and Word Vancouver on a walk through the streets of downtown while Timothy Taylor talks about the spots which influenced his latest book The Rise and Fall of Magic Wolf (Dundurn Press.) To be followed by lunch with Timothy. Restaurant tba. \nTimothy Taylor is a Vancouver novelist\, journalist\, and creative writing professor. He’s the author of the best selling award winning novel Stanley Park\, as well as numerous other works of fiction and nonfiction. His most recent nonfiction work is the six part documentary Walrus Labs podcast The Hidden Holocaust Papers. His most recent novel is The Rise and Fall of Magic Wolf. \nEmail wordvancouverinfo@gmail.com to register.
URL:https://www.readlocalbc.ca/event/word-vancouver-timothy-taylor-literary-walking-tour/
LOCATION:BC
CATEGORIES:Interview,Meet & Greet
END:VEVENT
END:VCALENDAR