BEGIN:VCALENDAR
VERSION:2.0
PRODID:-//Read Local BC - ECPv6.15.20//NONSGML v1.0//EN
CALSCALE:GREGORIAN
METHOD:PUBLISH
X-WR-CALNAME:Read Local BC
X-ORIGINAL-URL:https://www.readlocalbc.ca
X-WR-CALDESC:Events for Read Local BC
REFRESH-INTERVAL;VALUE=DURATION:PT1H
X-Robots-Tag:noindex
X-PUBLISHED-TTL:PT1H
BEGIN:VTIMEZONE
TZID:America/Vancouver
BEGIN:DAYLIGHT
TZOFFSETFROM:-0800
TZOFFSETTO:-0700
TZNAME:PDT
DTSTART:20220313T100000
END:DAYLIGHT
BEGIN:STANDARD
TZOFFSETFROM:-0700
TZOFFSETTO:-0800
TZNAME:PST
DTSTART:20221106T090000
END:STANDARD
BEGIN:DAYLIGHT
TZOFFSETFROM:-0800
TZOFFSETTO:-0700
TZNAME:PDT
DTSTART:20230312T100000
END:DAYLIGHT
BEGIN:STANDARD
TZOFFSETFROM:-0700
TZOFFSETTO:-0800
TZNAME:PST
DTSTART:20231105T090000
END:STANDARD
BEGIN:DAYLIGHT
TZOFFSETFROM:-0800
TZOFFSETTO:-0700
TZNAME:PDT
DTSTART:20240310T100000
END:DAYLIGHT
BEGIN:STANDARD
TZOFFSETFROM:-0700
TZOFFSETTO:-0800
TZNAME:PST
DTSTART:20241103T090000
END:STANDARD
END:VTIMEZONE
BEGIN:VEVENT
DTSTART;TZID=America/Vancouver:20230222T190000
DTEND;TZID=America/Vancouver:20230222T203000
DTSTAMP:20260425T071052
CREATED:20230222T204924Z
LAST-MODIFIED:20230222T204924Z
UID:15426-1677092400-1677097800@www.readlocalbc.ca
SUMMARY:Incite: VenCo: Cherie Dimaline
DESCRIPTION:Presented by the Vancouver Writers Fest in partnership with Vancouver Public Library and Massy Books. \nDon your cloaks and gather with other members of our literary coven for an evening of divine storytelling and witchcraft. Our third Incite event features Festival favourite Cherie Dimaline\, whose book The Marrow Thieves has garnered multiple awards and maintained an astonishingly frequent presence on the Canadian bestseller’s list for the past five years. Her latest novel for adults invites readers on an enchanting\, treacherous road trip adventure that will “bring magic back into your life” (Eden Robinson). \nVenCo is a wickedly subversive\, deliciously imaginative\, deeply feminist novel of contemporary witches on the rise. When Métis millennial Lucky St. James finds a spoon in her basement inscribed with the letters S-A-L-E-M\, she joins a network of extraordinary women across North America who are searching desperately for the final spoon—and the unknown witch who holds it. The Kirkus Prize and Governor General’s Literary Award winning author joins author and academic Billy-Ray Belcourt (A History of My Brief Body\, A Minor Chorus) to discuss her spellbinding new book\, and her prolific and varied writing life. \nBooks will be for sale before and after the event courtesy of Massy Books.
URL:https://www.readlocalbc.ca/event/incite-venco-cherie-dimaline/
LOCATION:Vancouver Public Library\, Central Branch\, 350 West Georgia St.\, Vancouver\, BC\, V6B 6B1\, Canada
CATEGORIES:Meet & Greet,Reading
ATTACH;FMTTYPE=image/jpeg:https://www.readlocalbc.ca/wp-content/uploads/2023/02/2023-Incite_social_02-22_banner.jpg
ORGANIZER;CN="Vancouver Writers Fest":MAILTO:info@writersfest.bc.ca
END:VEVENT
END:VCALENDAR