BEGIN:VCALENDAR
VERSION:2.0
PRODID:-//Read Local BC - ECPv6.15.20//NONSGML v1.0//EN
CALSCALE:GREGORIAN
METHOD:PUBLISH
X-WR-CALNAME:Read Local BC
X-ORIGINAL-URL:https://www.readlocalbc.ca
X-WR-CALDESC:Events for Read Local BC
REFRESH-INTERVAL;VALUE=DURATION:PT1H
X-Robots-Tag:noindex
X-PUBLISHED-TTL:PT1H
BEGIN:VTIMEZONE
TZID:America/Vancouver
BEGIN:DAYLIGHT
TZOFFSETFROM:-0800
TZOFFSETTO:-0700
TZNAME:PDT
DTSTART:20230312T100000
END:DAYLIGHT
BEGIN:STANDARD
TZOFFSETFROM:-0700
TZOFFSETTO:-0800
TZNAME:PST
DTSTART:20231105T090000
END:STANDARD
BEGIN:DAYLIGHT
TZOFFSETFROM:-0800
TZOFFSETTO:-0700
TZNAME:PDT
DTSTART:20240310T100000
END:DAYLIGHT
BEGIN:STANDARD
TZOFFSETFROM:-0700
TZOFFSETTO:-0800
TZNAME:PST
DTSTART:20241103T090000
END:STANDARD
BEGIN:DAYLIGHT
TZOFFSETFROM:-0800
TZOFFSETTO:-0700
TZNAME:PDT
DTSTART:20250309T100000
END:DAYLIGHT
BEGIN:STANDARD
TZOFFSETFROM:-0700
TZOFFSETTO:-0800
TZNAME:PST
DTSTART:20251102T090000
END:STANDARD
END:VTIMEZONE
BEGIN:VEVENT
DTSTART;TZID=America/Vancouver:20240117T183000
DTEND;TZID=America/Vancouver:20240117T200000
DTSTAMP:20260424T131629
CREATED:20240109T185900Z
LAST-MODIFIED:20240109T185900Z
UID:19751-1705516200-1705521600@www.readlocalbc.ca
SUMMARY:North Shore Reads: Outsider
DESCRIPTION:Join the North Shore libraries for a community-wide book club event! \nNorth Shore Reads — a collaboration between North Vancouver City Library\, North Vancouver District Public Library\, and West Vancouver Memorial Library — presents an evening with Brett Popplewell in conversation with Marsha Lederman. Popplewell will discuss his 2023 national bestseller Outsider: An Old Man\, a Mountain and the Search for a Hidden Past. \nWhen journalist Brett Popplewell first heard about Dag Aabye\, an aging former stuntman who lived alone in a school bus on a mountain\, running day and night through blizzards and heat waves\, he was intrigued and bewildered. Captivated by the seemingly implausible tale of a wild super-athlete aging more slowly than the rest of us\, he was determined to meet the apocryphal white-haired man who was pushing the boundaries of the human mind and body beyond what anyone could dream was possible. \nWhat Popplewell witnessed on a secluded mountain perch led him on a six-year odyssey to uncover the true story of the 81-year-old man. Outsider takes readers on a remarkable journey from Nazi-occupied Norway to Argentina and British Columbia. The book chronicles how a child born under mysterious circumstances during World War II finds his way onto the big screen in Goldfinger\, is heralded as the world’s first extreme skier\, and is later driven into the wilderness. Both joyful and tragic\, Outsider presents a bold challenge to our notions of aging\, belonging and human accomplishment. \nNorth Shore Reads invites you to a dynamic conversation between Brett Popplewell and Marsha Lederman. Our program will begin with a traditional Indigenous welcome from Tsitsáyxemaat Rebecca Duncan of the Sḵwx̱wú7mesh Úxwumixw (Squamish) and xʷməθkʷəy̓əm (Musqueam) Nation.
URL:https://www.readlocalbc.ca/event/north-shore-reads-outsider/
LOCATION:Zoom
CATEGORIES:Meet & Greet
ORGANIZER;CN="North Vancouver District Public Library":MAILTO:info@nvdpl.ca
END:VEVENT
END:VCALENDAR