BEGIN:VCALENDAR
VERSION:2.0
PRODID:-//Read Local BC - ECPv6.15.20//NONSGML v1.0//EN
CALSCALE:GREGORIAN
METHOD:PUBLISH
X-ORIGINAL-URL:https://www.readlocalbc.ca
X-WR-CALDESC:Events for Read Local BC
REFRESH-INTERVAL;VALUE=DURATION:PT1H
X-Robots-Tag:noindex
X-PUBLISHED-TTL:PT1H
BEGIN:VTIMEZONE
TZID:America/Vancouver
BEGIN:DAYLIGHT
TZOFFSETFROM:-0800
TZOFFSETTO:-0700
TZNAME:PDT
DTSTART:20230312T100000
END:DAYLIGHT
BEGIN:STANDARD
TZOFFSETFROM:-0700
TZOFFSETTO:-0800
TZNAME:PST
DTSTART:20231105T090000
END:STANDARD
BEGIN:DAYLIGHT
TZOFFSETFROM:-0800
TZOFFSETTO:-0700
TZNAME:PDT
DTSTART:20240310T100000
END:DAYLIGHT
BEGIN:STANDARD
TZOFFSETFROM:-0700
TZOFFSETTO:-0800
TZNAME:PST
DTSTART:20241103T090000
END:STANDARD
BEGIN:DAYLIGHT
TZOFFSETFROM:-0800
TZOFFSETTO:-0700
TZNAME:PDT
DTSTART:20250309T100000
END:DAYLIGHT
BEGIN:STANDARD
TZOFFSETFROM:-0700
TZOFFSETTO:-0800
TZNAME:PST
DTSTART:20251102T090000
END:STANDARD
END:VTIMEZONE
BEGIN:VEVENT
DTSTART;TZID=America/Vancouver:20240220T190000
DTEND;TZID=America/Vancouver:20240220T210000
DTSTAMP:20260424T131659
CREATED:20240130T204708Z
LAST-MODIFIED:20240130T204708Z
UID:20152-1708455600-1708462800@www.readlocalbc.ca
SUMMARY:Sheila Heti in Conversation with Lee Henderson
DESCRIPTION:Please join Munro’s Books in celebrating the launch of Sheila Heti’s latest book\, Alphabetical Diaries. Sheila will be in conversation with UVic writing professor\, Lee Henderson. \nMunro’s Books is pleased to present two Canadian award-winning authors\, Sheila Heti and Lee Henderson\, in conversation at their store on Tuesday\, February 20th at 7:00 p.m. Sheila Heti will read from her new book Alphabetical Diaries and then chat about it with local fiction writer and UVic creative writing professor\, Lee Henderson. The evening will end with a Q&A with audience members and a book signing with Sheila Heti. This event is free to attend. \nA little over a decade ago\, Sheila Heti—the award-winning author of a string of modern classics including How Should a Person Be?\, Motherhood\, and Pure Colour—began looking back at the diaries she’d kept over the previous ten years\, searching for signs of deeper change inside herself. She loaded all 500\,000 words of her journals into Microsoft Excel\, to order the sentences alphabetically and seek out patterns and repetitions. How many times had she written\, “I hate him\,” for example? With the sentences untethered from the narrative of her diaries\, she started to see herself—and the Self—in a new way: as something quite solid\, anchored by shockingly few characteristic preoccupations. Returning to the project over the years\, something more universal and novelistic emerged. Alphabetical Diaries is the sublime and probing result—one that rises to the heights of artistry and insight for which Heti is rightfully acclaimed. \nSheila Heti is one of our greatest literary innovators and has been pushing boundaries with her work since the age of 24\, when she published her first book\, the short-story collection\, The Middle Stories\, in 2001. She’s since won the Governor General’s Award for Fiction and the Vine Award for Canadian Jewish Literature\, and has been shortlisted for the Giller Prize and longlisted for the Women’s Prize for Fiction. Heti’s fiction and criticism have appeared in the New York Review of Books\, London Review of Books\, The Paris Review\, The New Yorker\, and Granta. \nWHEN: Tuesday\, February 20th at 7:00 p.m. (doors at 6:30). \nWHERE: In-store at Munro’s Books\, 1108 Government St. \nWHAT: A reading by Sheila Heti from her latest book\, followed by a conversation with Lee Henderson and a Q&A with the audience. \nHOW: This event is free to attend.
URL:https://www.readlocalbc.ca/event/sheila-heti-in-conversation-with-lee-henderson/
LOCATION:Munro’s Books\, 1108 Government Street\, Victoria\, BC\, V8W 1Y2\, Canada
CATEGORIES:Interview,Launch,Meet & Greet,Panel
ATTACH;FMTTYPE=image/jpeg:https://www.readlocalbc.ca/wp-content/uploads/2024/01/Alphabetical-Diaries-Feb-20-FB-banner.jpg
ORGANIZER;CN="Munro's Books":MAILTO:events@munrobooks.com
END:VEVENT
END:VCALENDAR