BEGIN:VCALENDAR
VERSION:2.0
PRODID:-//Read Local BC - ECPv6.15.20//NONSGML v1.0//EN
CALSCALE:GREGORIAN
METHOD:PUBLISH
X-ORIGINAL-URL:https://www.readlocalbc.ca
X-WR-CALDESC:Events for Read Local BC
REFRESH-INTERVAL;VALUE=DURATION:PT1H
X-Robots-Tag:noindex
X-PUBLISHED-TTL:PT1H
BEGIN:VTIMEZONE
TZID:America/Vancouver
BEGIN:DAYLIGHT
TZOFFSETFROM:-0800
TZOFFSETTO:-0700
TZNAME:PDT
DTSTART:20230312T100000
END:DAYLIGHT
BEGIN:STANDARD
TZOFFSETFROM:-0700
TZOFFSETTO:-0800
TZNAME:PST
DTSTART:20231105T090000
END:STANDARD
BEGIN:DAYLIGHT
TZOFFSETFROM:-0800
TZOFFSETTO:-0700
TZNAME:PDT
DTSTART:20240310T100000
END:DAYLIGHT
BEGIN:STANDARD
TZOFFSETFROM:-0700
TZOFFSETTO:-0800
TZNAME:PST
DTSTART:20241103T090000
END:STANDARD
BEGIN:DAYLIGHT
TZOFFSETFROM:-0800
TZOFFSETTO:-0700
TZNAME:PDT
DTSTART:20250309T100000
END:DAYLIGHT
BEGIN:STANDARD
TZOFFSETFROM:-0700
TZOFFSETTO:-0800
TZNAME:PST
DTSTART:20251102T090000
END:STANDARD
END:VTIMEZONE
BEGIN:VEVENT
DTSTART;TZID=America/Vancouver:20240313T190000
DTEND;TZID=America/Vancouver:20240313T210000
DTSTAMP:20260424T104234
CREATED:20240223T171939Z
LAST-MODIFIED:20240223T171939Z
UID:20501-1710356400-1710363600@www.readlocalbc.ca
SUMMARY:Book Launch: Holly Ringland and Tamara Goranson
DESCRIPTION:Please join Munro’s Books to launch new fantastical novels by Holly Ringland and Tamara Goranson!! \nHolly Ringland’s new novel\, The Seven Skins of Esther Wilding\, is a haunting\, magical novel about joy\, grief\, courage and transformation that follows from the international bestselling\, The Lost Flowers of Alice Hart. \n‘On the afternoon that Esther Wilding drove homeward along the coast\, a year after her sister had walked into the sea and disappeared\, the light was painfully golden.’ \nThe last time Esther Wilding’s beloved older sister Aura was seen\, she was walking along the shore towards the sea. In the wake of Aura’s disappearance\, Esther’s family struggles to live with their loss. To seek the truth about her sister’s death\, Esther reluctantly travels from Lutruwita/Tasmania\, to Copenhagen\, and then to the Faroe Islands\, following the trail of the stories Aura left behind: seven fairy tales about selkies\, swans and women\, alongside cryptic verses Aura wrote and had secretly tattooed on her body. The Seven Skins of Esther Wilding is a sweeping\, deeply beautiful and profoundly moving novel about the far reaches of sisterly love\, the power of wearing your heart on your skin and the ways life can transform when we find the courage to feel the fullness of both grief and joy. \nHolly Ringland is the author of the award-winning international bestseller The Lost Flowers of Alice Hart\, adapted into a seven-part TV series on Amazon Prime\, starring Sigourney Weaver. After living between Australia and the UK for ten years\, Holly has been based in the Yugambeh region of southeast Queensland since 2020\, where she wrote The Seven Skins of Esther Wilding in her “office\,” a vintage caravan named Frenchie. \nTamara Goranson’s Oath of Bjorn is Book 3 of her Vinland Viking Saga. Anja has just settled into a new life on the silver shores of Vinland with her beloved\, Bjorn. But then a local warrior bursts onto the scene seeking revenge\, swearing to spill Viking blood. And so Bjorn must risk everything to save the woman he loves before she steps into the darkness and sets their world ablaze. The Oath of Bjorn is an epic historical novel of gripping adventure and love everlasting – perfect for fans of Vikings and Outlander. \nTamara Goranson holds a Ph.D. in Clinical Psychology and Neuropsychology as well as Adjunct Professor status at the University of Victoria in British Columbia\, Canada. She published several academic pieces before she turned to writing short stories\, creative non-fiction\, and historical fiction\, winning 3rd prize in the 2019 Vancouver Island Writers’ Association annual general contest for her nonfiction piece\, ‘A Voice in Time’. She lives in Victoria with her husband and two daughters. \nWHEN: Wednesday\, March 13th\, 7:00 p.m. (doors at 6:30).\nWHERE: In-store at Munro’s Books\, 1108 Government St. in Victoria.\nWHAT: Readings by Holly Ringland and Tamara Goranson\, followed by a Q&A with the audience and book signings.\nHOW: This event is free to attend.
URL:https://www.readlocalbc.ca/event/book-launch-holly-ringland-and-tamara-goranson/
LOCATION:Munro’s Books\, 1108 Government Street\, Victoria\, BC\, V8W 1Y2\, Canada
CATEGORIES:Launch,Meet & Greet
ATTACH;FMTTYPE=image/jpeg:https://www.readlocalbc.ca/wp-content/uploads/2024/02/Ringland-Goranson-IG.jpg
ORGANIZER;CN="Munro's Books":MAILTO:events@munrobooks.com
END:VEVENT
END:VCALENDAR