BEGIN:VCALENDAR
VERSION:2.0
PRODID:-//Read Local BC - ECPv6.15.20//NONSGML v1.0//EN
CALSCALE:GREGORIAN
METHOD:PUBLISH
X-WR-CALNAME:Read Local BC
X-ORIGINAL-URL:https://www.readlocalbc.ca
X-WR-CALDESC:Events for Read Local BC
REFRESH-INTERVAL;VALUE=DURATION:PT1H
X-Robots-Tag:noindex
X-PUBLISHED-TTL:PT1H
BEGIN:VTIMEZONE
TZID:America/Vancouver
BEGIN:DAYLIGHT
TZOFFSETFROM:-0800
TZOFFSETTO:-0700
TZNAME:PDT
DTSTART:20230312T100000
END:DAYLIGHT
BEGIN:STANDARD
TZOFFSETFROM:-0700
TZOFFSETTO:-0800
TZNAME:PST
DTSTART:20231105T090000
END:STANDARD
BEGIN:DAYLIGHT
TZOFFSETFROM:-0800
TZOFFSETTO:-0700
TZNAME:PDT
DTSTART:20240310T100000
END:DAYLIGHT
BEGIN:STANDARD
TZOFFSETFROM:-0700
TZOFFSETTO:-0800
TZNAME:PST
DTSTART:20241103T090000
END:STANDARD
BEGIN:DAYLIGHT
TZOFFSETFROM:-0800
TZOFFSETTO:-0700
TZNAME:PDT
DTSTART:20250309T100000
END:DAYLIGHT
BEGIN:STANDARD
TZOFFSETFROM:-0700
TZOFFSETTO:-0800
TZNAME:PST
DTSTART:20251102T090000
END:STANDARD
END:VTIMEZONE
BEGIN:VEVENT
DTSTART;TZID=America/Vancouver:20240615T120000
DTEND;TZID=America/Vancouver:20240615T133000
DTSTAMP:20260424T052318
CREATED:20240521T164927Z
LAST-MODIFIED:20240521T164927Z
UID:22438-1718452800-1718458200@www.readlocalbc.ca
SUMMARY:Book Signing: William Deverell's Long-Shot Trial
DESCRIPTION:Join Munro’s Books on June 15th to meet William Deverell\, the author of the Arthur Beauchamp thriller series! He’ll be signing the ninth book in the series: The Long-Shot Trial! \nIn the Long-Shot Trial\, Arthur Beauchamp takes a break from the courtroom to write a memoir so he can set the record straight about a headline murder case he fought as a young lawyer in 1966. The trial would either mark him as a pathetic loser or thrust him into the top ranks of criminal counsel. The background: in 1966\, a young housemaid was raped by her employer\, a callous and vindictive millionaire. She shot him point blank\, so it seemed an open-and-shut case of first-degree murder. Enter Arthur Beauchamp\, a young lawyer haunted by having bungled his only previous murder case. He is now called upon to defend a case that he is almost certain can’t be won. But as the trial speeds through twists and turns\, his slashing cross-examinations bring hope that the jury might entertain a reasonable doubt. In the present time\, Arthur learns that writing about his social gaffes\, booze\, and sex is not easy\, especially as his efforts are regularly interrupted by the quirky characters who inhabit his supposedly idyllic Garibaldi Island. \nAfter careers as a journalist\, criminal lawyer\, and political activist\, WILLIAM DEVERELL turned to fiction\, and his first effort won the Seal First Novel Award. Since then\, he has earned multiple prizes for his 20 published novels\, including the Dashiell Hammett Prize for literary excellence in crime writing in North America\, two Crime Writers of Canada Awards (formerly the Arthur Ellis Award)\, and two runners-up for the Stephen Leacock Medal for Humour. He lives on Pender Island in British Columbia. \nWHEN: Saturday\, June 15th from 12:00 p.m. until 1:30 p.m.\nWHERE: In-Store at Munro’s Books\, 1108 Government St. in Victoria.\nWHAT: Meet\, greet\, and have William Deverell sign your copies of his book!\nHOW: This event is free to attend.
URL:https://www.readlocalbc.ca/event/book-signing-william-deverells-long-shot-trial/
LOCATION:Munro’s Books\, 1108 Government Street\, Victoria\, BC\, V8W 1Y2\, Canada
CATEGORIES:Meet & Greet
ATTACH;FMTTYPE=image/jpeg:https://www.readlocalbc.ca/wp-content/uploads/2024/05/longshottrial_munros_facebook_v1.jpg
ORGANIZER;CN="Munro's Books":MAILTO:events@munrobooks.com
END:VEVENT
END:VCALENDAR