BEGIN:VCALENDAR
VERSION:2.0
PRODID:-//Read Local BC - ECPv6.15.20//NONSGML v1.0//EN
CALSCALE:GREGORIAN
METHOD:PUBLISH
X-WR-CALNAME:Read Local BC
X-ORIGINAL-URL:https://www.readlocalbc.ca
X-WR-CALDESC:Events for Read Local BC
REFRESH-INTERVAL;VALUE=DURATION:PT1H
X-Robots-Tag:noindex
X-PUBLISHED-TTL:PT1H
BEGIN:VTIMEZONE
TZID:America/Vancouver
BEGIN:DAYLIGHT
TZOFFSETFROM:-0800
TZOFFSETTO:-0700
TZNAME:PDT
DTSTART:20230312T100000
END:DAYLIGHT
BEGIN:STANDARD
TZOFFSETFROM:-0700
TZOFFSETTO:-0800
TZNAME:PST
DTSTART:20231105T090000
END:STANDARD
BEGIN:DAYLIGHT
TZOFFSETFROM:-0800
TZOFFSETTO:-0700
TZNAME:PDT
DTSTART:20240310T100000
END:DAYLIGHT
BEGIN:STANDARD
TZOFFSETFROM:-0700
TZOFFSETTO:-0800
TZNAME:PST
DTSTART:20241103T090000
END:STANDARD
BEGIN:DAYLIGHT
TZOFFSETFROM:-0800
TZOFFSETTO:-0700
TZNAME:PDT
DTSTART:20250309T100000
END:DAYLIGHT
BEGIN:STANDARD
TZOFFSETFROM:-0700
TZOFFSETTO:-0800
TZNAME:PST
DTSTART:20251102T090000
END:STANDARD
END:VTIMEZONE
BEGIN:VEVENT
DTSTART;TZID=America/Vancouver:20240913T090000
DTEND;TZID=America/Vancouver:20240915T160000
DTSTAMP:20260424T000149
CREATED:20240328T182849Z
LAST-MODIFIED:20240702T195013Z
UID:20937-1726218000-1726416000@www.readlocalbc.ca
SUMMARY:Write on Bowen Festival for Readers & Writers
DESCRIPTION:The Write on Bowen Festival of Readers & Writers is a three-day event on beautiful Bowen Island that showcases writers and authors and their work. It provides opportunities for participants to attend workshops and other events that will aid them in the development of word-based creative endeavours. It allows everyone\, including the general public\, to be exposed to a rich diversity of voices\, styles and presentation of works. It engenders connections and inspiration between and amongst all in attendance as they are drawn together around the love of the written and spoken word. \nIn addition to offering stimulating interactive workshops to writers of all genres and levels\, the Festival presents author readings\, a Saturday night Gala featuring a keynote speaker\, luncheon panels and other special events. We look forward to welcoming you to our idyllic island.
URL:https://www.readlocalbc.ca/event/write-on-bowen-festival-for-readers-writers-2/
LOCATION:Cove Commons on Bowen Island\, 430 Bowen Island Trunk Rd\, Bowen Island\, British Columbia\, V0N 1G0\, Canada
CATEGORIES:Festival,Meet & Greet,Workshop
ATTACH;FMTTYPE=image/png:https://www.readlocalbc.ca/wp-content/uploads/2024/03/WOB-Logo-01.png
ORGANIZER;CN="Write on Bowen Festival Society":MAILTO:info@writeonbowen.com
END:VEVENT
BEGIN:VEVENT
DTSTART;TZID=America/Vancouver:20240914T180000
DTEND;TZID=America/Vancouver:20240914T210000
DTSTAMP:20260424T000149
CREATED:20240812T172714Z
LAST-MODIFIED:20240812T172714Z
UID:24581-1726336800-1726347600@www.readlocalbc.ca
SUMMARY:More Than Two\, Second Edition: Book Launch and Conversation
DESCRIPTION:Join us and Eve Rickert & Andrea Zanin for the release of More Than Two\, Second Edition. Cultivating nonmonogamous relationships with kindness and integrity\, in conversation with Carrie Jenkins. \nVenue & Accessibility\nThe event will be hosted at the Massy Arts Gallery\, at 23 East Pender Street in Chinatown\, Vancouver.\nRegistration is free\, open to all and required for entrance. The gallery is wheelchair accessible and a gender-neutral washroom is on-site. Please refrain from wearing scents or heavy perfumes.For more on accessibility including parking\, seating\, venue measurements and floor plan\, and how to request ASL interpretation please visit: massyarts.com/accessibility \nCovid Protocols: Masks keep our community safe and are mandatory (N95 masks are recommended as they offer the best protection). We ask if you are showing symptoms\, that you stay home. Thank you kindly. \nAbout the Book\nMore Than Two\, Second Edition: Cultivating Nonmonogamous Relationships with Kindness and Integrity. by Eve Rickert and Andrea Zanin\, with a foreword by Dr. Kim TallBear\, author of The Critical Polyamorist. \n“A modern topology of nonmonogamy’s many possibilities—and consequences—fully revised and updated on the tenth anniversary of the bestselling first edition” \n“Can you love more than one person?” A lot of conversations about nonmonogamy start this way. When we discuss “opening”relationships\, contemplate whether we want to beexclusive with our partners\, or introduce multiple partners tofriends and family\, we are asking the people in our lives\, and ourselves\, to contend with this question. The answer is obvious\, and misleading. The love one feels in their heart and the love one expresses through daily acts of care and affection are both “love” in the true sense\, but they have different requirements\, present different options and produce different outcomes. \nMore Than Two can’t promise outcomes\, but it is a guide to the paths—from anchor or nesting partnerships to relationship anarchy—possible within nonmonogamy. This long-awaited second edition bridges emerging theories on attachment and relationship diversity with authors Eve Rickert and Andrea Zanin’s insight and experience. The arcs of nonmonogamous partnerships bend towards complexity\, introspection and compromise—or at least they can\, if we work at it. \nAbout the Authors\nEve Rickert is a Gen X\, queer\, solo polyamorous\, relationship anarchist\, neurodivergent cis woman living on unceded WSÁNEC and Lekwungen territory on the west coast of the place currently known as Canada. She is the curator of the More Than Two Essentials series and the nonmonogamy resource site morethantwo.ca\, the founder and publisher of Thornapple Press\, and the founder and mastermind of the science communications firm Talk Science to Me. \nAndrea Zanin\, MA\, is a white\, nonbinary\, middle-aged queer writer who lives in Tkaronto (Toronto\, Ontario)\, on the traditional territory of the Mississaugas of the Credit\, the Anishnabeg\, the Chippewa\, the Haudenosaunee and the Wendat peoples. Andrea is the author of Post-Nonmonogamy and Beyond\, part of the More Than Two Essentials series\, and has written for the Globe and Mail\, The Tyee\, Bitch\, Ms.\, Xtra\, IN Magazine\, Outlooks Magazine and the Montreal Mirror. Andrea blogs at sexgeek.wordpress.com\, where they created the 10 Rules for Happy Nonmonogamy and coined the term “polynormativity.” \nAbout the Moderator\nCarrie Jenkins: is a professor of philosophy at the University of British Columbia and the author of What Love Is (and What it Could Be)\, Sad Love: Romance and the Search for Meaning\, and Nonmonogamy and Happiness as well as other titles. She holds a PhD in philosophy from Trinity College\, Cambridge\, and an MFA in creative writing from UBC. She has been featured in The Atlantic\, the New York Times\, the Globe and Mail and the Telegraph\, among others.
URL:https://www.readlocalbc.ca/event/more-than-two-second-edition-book-launch-and-conversation/
LOCATION:Massy Arts\, 23 East Pender\, Vancouver\, B.C.\, Canada
CATEGORIES:Meet & Greet,Reading
ATTACH;FMTTYPE=image/jpeg:https://www.readlocalbc.ca/wp-content/uploads/2024/08/452852849_793801206296419_8306567117347690249_n.jpg
END:VEVENT
END:VCALENDAR