BEGIN:VCALENDAR
VERSION:2.0
PRODID:-//Read Local BC - ECPv6.15.20//NONSGML v1.0//EN
CALSCALE:GREGORIAN
METHOD:PUBLISH
X-ORIGINAL-URL:https://www.readlocalbc.ca
X-WR-CALDESC:Events for Read Local BC
REFRESH-INTERVAL;VALUE=DURATION:PT1H
X-Robots-Tag:noindex
X-PUBLISHED-TTL:PT1H
BEGIN:VTIMEZONE
TZID:America/Vancouver
BEGIN:DAYLIGHT
TZOFFSETFROM:-0800
TZOFFSETTO:-0700
TZNAME:PDT
DTSTART:20250309T100000
END:DAYLIGHT
BEGIN:STANDARD
TZOFFSETFROM:-0700
TZOFFSETTO:-0800
TZNAME:PST
DTSTART:20251102T090000
END:STANDARD
BEGIN:DAYLIGHT
TZOFFSETFROM:-0800
TZOFFSETTO:-0700
TZNAME:PDT
DTSTART:20260308T100000
END:DAYLIGHT
BEGIN:STANDARD
TZOFFSETFROM:-0700
TZOFFSETTO:-0800
TZNAME:PST
DTSTART:20261101T090000
END:STANDARD
BEGIN:DAYLIGHT
TZOFFSETFROM:-0800
TZOFFSETTO:-0700
TZNAME:PDT
DTSTART:20270314T100000
END:DAYLIGHT
BEGIN:STANDARD
TZOFFSETFROM:-0700
TZOFFSETTO:-0800
TZNAME:PST
DTSTART:20271107T090000
END:STANDARD
END:VTIMEZONE
BEGIN:VEVENT
DTSTART;TZID=America/Vancouver:20260411T130000
DTEND;TZID=America/Vancouver:20260411T150000
DTSTAMP:20260422T210712
CREATED:20260316T180346Z
LAST-MODIFIED:20260316T180346Z
UID:50119-1775912400-1775919600@www.readlocalbc.ca
SUMMARY:Creator Series: Audio Plays with Cee Peal
DESCRIPTION:An audio play or drama relies strictly on acoustical elements for its manifestation. There are no visual components involved as it’s rendered strictly with dialogue\, sound effects\, and music alone to help listeners imagine the characters and the story. \nAt this fun and playful event\, participants are invited to create a live audio play with Cee Peal the 2026 Indigenous Storyteller in Residence. \nHave you ever imagined yourself as an actor? If so\, then maybe you’d like to use your voice to recite dialogue (practice with our play collection on level 6 at Central Library). Would you like to be more in the background and create noise with sounds effects? Do you know about the Inspiration Lab and its resources? If you are a musician\, you may want to experiment with a new instrument. In that case\, we want to make sure that you are aware of our Musical Instrument Lending Library. If you’d prefer to sit and watch that is wonderful too as audience members are a huge part of this event as well. \n— \nCee Peal is a theatre artist from the Nisga’a First Nation of Northern B.C. now working in Vancouver on the traditional\, unceded territories of the xʷməθkʷəy̓əm (Musqueam)\, səl̓ilwətaɁɬ (Tsleil-waututh)\, and sḵwx̱wú7mesh (Squamish) peoples. He brings to the library his experience in storytelling\, theatre\, and image making\, drawing from his experience working as an actor\, director\, writer\, dancer\, and producer on various productions. With a passion for Indigenous studies and cultural evolution\, Cee is also the Indigenous outreach coordinator at The Cultch and the artistic associate at The Carmen Arts Group. \nTo find out more about Cee’s residency and keep up with his upcoming events visit: vpl.ca/storyteller
URL:https://www.readlocalbc.ca/event/creator-series-audio-plays-with-cee-peal/
LOCATION:VANCOUVER PUBLIC LIBRARY – CENTRAL LIBRARY
CATEGORIES:Meet & Greet,Workshop
ATTACH;FMTTYPE=image/jpeg:https://www.readlocalbc.ca/wp-content/uploads/2026/03/CeePealCreatorSeries.jpg
ORGANIZER;CN="Vancouver Public Library":MAILTO:candie.tanaka@vpl.ca
END:VEVENT
END:VCALENDAR