BEGIN:VCALENDAR
VERSION:2.0
PRODID:-//Read Local BC - ECPv6.15.20//NONSGML v1.0//EN
CALSCALE:GREGORIAN
METHOD:PUBLISH
X-WR-CALNAME:Read Local BC
X-ORIGINAL-URL:https://www.readlocalbc.ca
X-WR-CALDESC:Events for Read Local BC
REFRESH-INTERVAL;VALUE=DURATION:PT1H
X-Robots-Tag:noindex
X-PUBLISHED-TTL:PT1H
BEGIN:VTIMEZONE
TZID:America/Vancouver
BEGIN:DAYLIGHT
TZOFFSETFROM:-0800
TZOFFSETTO:-0700
TZNAME:PDT
DTSTART:20220313T100000
END:DAYLIGHT
BEGIN:STANDARD
TZOFFSETFROM:-0700
TZOFFSETTO:-0800
TZNAME:PST
DTSTART:20221106T090000
END:STANDARD
BEGIN:DAYLIGHT
TZOFFSETFROM:-0800
TZOFFSETTO:-0700
TZNAME:PDT
DTSTART:20230312T100000
END:DAYLIGHT
BEGIN:STANDARD
TZOFFSETFROM:-0700
TZOFFSETTO:-0800
TZNAME:PST
DTSTART:20231105T090000
END:STANDARD
BEGIN:DAYLIGHT
TZOFFSETFROM:-0800
TZOFFSETTO:-0700
TZNAME:PDT
DTSTART:20240310T100000
END:DAYLIGHT
BEGIN:STANDARD
TZOFFSETFROM:-0700
TZOFFSETTO:-0800
TZNAME:PST
DTSTART:20241103T090000
END:STANDARD
END:VTIMEZONE
BEGIN:VEVENT
DTSTART;TZID=America/Vancouver:20230613T190000
DTEND;TZID=America/Vancouver:20230613T200000
DTSTAMP:20260423T044521
CREATED:20230419T174050Z
LAST-MODIFIED:20230419T174050Z
UID:16426-1686682800-1686686400@www.readlocalbc.ca
SUMMARY:Nature\, Nurture\, and Rewild
DESCRIPTION:Join us for a triple book launch!\nHear from Chef Robin Kort\, Amanda Lewis\, and Carolyn Redl\, in conversation with moderator Yvonne Blomer as they discuss all things wild and natural. \n— “The Coastal Forager’s Cookbook: Feasting Wild in the Pacific Northwest” by ROBIN KORT is a collection of 40 recipes that showcase foraged ingredients from the Pacific Northwest coast by the chef behind the popular Swallow Tail Supper Club.\n— “Tracking Giants: Big Trees\, Tiny Triumphs\, and Misadventures in the Forest” by AMANDA LEWIS is a funny\, deeply relatable book about one woman’s quest to track some of the world’s biggest trees.\n— “Four Seasons by the Salish Sea: Discovering the Natural Wonders of Coastal Living” by CAROLYN REDL is part travelogue\, part natural history\, this enchanting book explores Island life over the course of a year.\nWith moderator YVONNE BLOMER—writer\, editor\, teacher\, and poet\, Blomer is a past City of Victoria Poet Laureate. Her latest book is “The Last Show on Earth” (2022). \n• Books for sale & signing\n• Everyone welcome\n• Free to attend
URL:https://www.readlocalbc.ca/event/nature-nurture-and-rewild/
LOCATION:Bolen Books\, #111-1644 Hillside Ave.\, Victoria\, BC\, V8T 2C5\, Canada
CATEGORIES:Launch,Meet & Greet
END:VEVENT
BEGIN:VEVENT
DTSTART;TZID=America/Vancouver:20230610T140000
DTEND;TZID=America/Vancouver:20230610T160000
DTSTAMP:20260423T044521
CREATED:20230526T212857Z
LAST-MODIFIED:20230526T212857Z
UID:17013-1686405600-1686412800@www.readlocalbc.ca
SUMMARY:Book Signing: Room at the Inn with Greg Nesteroff
DESCRIPTION:Pick up a copy of “Room at the Inn: Historic Hotels of British Columbia’s Southern Interior”\, signed by local historian and author Greg Nesteroff\, who wrote the foreword. \nWritten by the late Glen A. Mofford\, “Room at the Inn” is an illustrated social history profiling 40 historic hotels spread over five regions of the southern interior\, revealing the long-forgotten histories of BC’s early hospitality industry. \nRoom at the Inn
URL:https://www.readlocalbc.ca/event/book-signing-room-at-the-inn-with-greg-nesteroff/
LOCATION:Otter Books\, 398 Baker St\, Nelson\, BC\, V1L 4H5\, Canada
CATEGORIES:Meet & Greet
ATTACH;FMTTYPE=image/jpeg:https://www.readlocalbc.ca/wp-content/uploads/2023/05/346263509_1909552666066689_3718592635329740104_n.jpg
END:VEVENT
BEGIN:VEVENT
DTSTART;TZID=America/Vancouver:20230529T183000
DTEND;TZID=America/Vancouver:20230529T193000
DTSTAMP:20260423T044521
CREATED:20230510T205451Z
LAST-MODIFIED:20230510T205451Z
UID:16737-1685385000-1685388600@www.readlocalbc.ca
SUMMARY:Author Talk: Ellen Schwartz - Galena Bay Odyssey | Kaslo\, BC
DESCRIPTION:Laugh and reminisce about the 70s in the Kootenay region with award-winning author Ellen Schwartz.\nEllen will share funny and touching stories from her new book\, “Galena Bay Odyssey: Reflections of a Hippie Homesteader” (Heritage House\, 2023).\nIn her memoir\, Ellen reflects on the idealistic\, tumultuous\, and eye-opening time she spent as a back-to-the-land hippie homesteader in Kootenays in the 1970s.\nGalena Bay Odyssey
URL:https://www.readlocalbc.ca/event/author-talk-ellen-schwartz-galena-bay-odyssey-kaslo-bc/
LOCATION:Kaslo & District Public Library\, 413 4th St\, Kaslo\, BC\, V0G 1M0\, Canada
CATEGORIES:Launch,Meet & Greet
ATTACH;FMTTYPE=image/jpeg:https://www.readlocalbc.ca/wp-content/uploads/2023/05/Schwartz_Kaslo_May2023_Facebook.jpg
END:VEVENT
BEGIN:VEVENT
DTSTART;TZID=America/Vancouver:20230527T150000
DTEND;TZID=America/Vancouver:20230527T163000
DTSTAMP:20260423T044521
CREATED:20230419T174235Z
LAST-MODIFIED:20230419T174246Z
UID:16437-1685199600-1685205000@www.readlocalbc.ca
SUMMARY:On Local Nature: Author Talk & Panel Discussion | Parksville\, BC
DESCRIPTION:Join the VIRL in welcoming local author CAROLYN REDL with her new book\, “Four Seasons by the Salish Sea: Discovering the Natural Wonders of Coastal Living” (Heritage House\, 2023).\n• • • • •\nSaturday\, May 27\n3:00–4:30 pm\nThe Forum: Parksville Civic & Technology Centre\n100 Jensen Ave. E.\, Parksville\, BC\n• • • • •\nPart travelogue\, part natural history\, this enchanting book explores Island life over the course of a year.\nCarolyn will be joined by contributing photographer Nancy Randall as well as two Oceanside residents and retired teachers\, Linda Fullalove and Nanci Langford.\nListen to an author reading and learn about the wonders in the region along with gardening and travel tips.\n• Books for sale at event by Sea & Summit Bookshop\n• Everyone welcome\n• Free to attend
URL:https://www.readlocalbc.ca/event/on-local-nature-author-talk-panel-discussion-parksville-bc/
LOCATION:Parksville Civic And Technology Centre\, 100 Jensen Ave E\, Parksville\, BC\, V9P 2H3\, Canada
CATEGORIES:Launch,Meet & Greet
ATTACH;FMTTYPE=image/jpeg:https://www.readlocalbc.ca/wp-content/uploads/2023/04/Redl_VIRL-Parksville_Facebook-rev.jpg
END:VEVENT
BEGIN:VEVENT
DTSTART;TZID=America/Vancouver:20230527T140000
DTEND;TZID=America/Vancouver:20230527T160000
DTSTAMP:20260423T044521
CREATED:20230510T205704Z
LAST-MODIFIED:20230510T205704Z
UID:16747-1685196000-1685203200@www.readlocalbc.ca
SUMMARY:Book Signing: Ellen Schwartz - Galena Bay Odyssey | Nelson\, BC
DESCRIPTION:Meet award-winning author Ellen Schwartz and get a signed copy of her new book\, “Galena Bay Odyssey: Reflections of a Hippie Homesteader” (Heritage House\, 2023).\nIn her memoir\, Ellen reflects on the idealistic\, tumultuous\, and eye-opening time she spent as a back-to-the-land hippie homesteader in Kootenays in the 1970s.\nGalena Bay Odyssey
URL:https://www.readlocalbc.ca/event/book-signing-ellen-schwartz-galena-bay-odyssey-nelson-bc/
LOCATION:Otter Books\, 398 Baker St\, Nelson\, BC\, V1L 4H5\, Canada
CATEGORIES:Launch,Meet & Greet
ATTACH;FMTTYPE=image/jpeg:https://www.readlocalbc.ca/wp-content/uploads/2023/05/Schwartz_Otter-Books_May2023_Facebook.jpg
END:VEVENT
BEGIN:VEVENT
DTSTART;TZID=America/Vancouver:20230527T130000
DTEND;TZID=America/Vancouver:20230527T140000
DTSTAMP:20260423T044521
CREATED:20230419T173941Z
LAST-MODIFIED:20230419T173941Z
UID:16422-1685192400-1685196000@www.readlocalbc.ca
SUMMARY:Double Book Launch: Haley Healey; Trailblazing Canadians Series
DESCRIPTION:Join bestselling author Haley Healey for an afternoon of adventurous stories and brave women to celebrate the launch of her two new picture books—the first in the Trailblazing Canadians series from Heritage House.\n“Kimiko Murakami: A Japanese-Canadian Pioneer” is the inspiring and true life story of a Salt Spring Island homesteader and internment camp survivor.\n“Lilian Bland: An Amazing Aviatrix” is the amazing life story of Lilian Bland\, the first woman ever to design\, build\, and fly her own airplane.\n• Everyone welcome\n• Books available for sale during event by Windowseat Books\n• Get your copy signed by the author!
URL:https://www.readlocalbc.ca/event/double-book-launch-haley-healey-trailblazing-canadians-series/
LOCATION:NANAIMO BAKERY & CAFE\, 2025 BOWEN RD.\, NANAIMO\, BC\, V9S 5W6\, Canada
CATEGORIES:Launch,Meet & Greet
ATTACH;FMTTYPE=image/jpeg:https://www.readlocalbc.ca/wp-content/uploads/2023/04/Healey_Nanaimo-Launch-KidsBooks_Facebook.jpg
END:VEVENT
BEGIN:VEVENT
DTSTART;TZID=America/Vancouver:20230526T190000
DTEND;TZID=America/Vancouver:20230526T200000
DTSTAMP:20260423T044521
CREATED:20230510T205855Z
LAST-MODIFIED:20230510T205855Z
UID:16750-1685127600-1685131200@www.readlocalbc.ca
SUMMARY:Author Talk: Ellen Schwartz - Galena Bay Odyssey | Nakusp\, BC
DESCRIPTION:Meet award-winning author Ellen Schwartz at Notably\, a Book Lover’s Emporium and get a signed copy of her new book\, “Galena Bay Odyssey: Reflections of a Hippie Homesteader” (Heritage House\, 2023).
URL:https://www.readlocalbc.ca/event/author-talk-ellen-schwartz-galena-bay-odyssey-nakusp-bc-2/
LOCATION:Notably\, a Book Lover’s Emporium\, 454 Ward St\, Nelson\, BC\, V1L 1S8\, Canada
CATEGORIES:Launch,Meet & Greet
ATTACH;FMTTYPE=image/jpeg:https://www.readlocalbc.ca/wp-content/uploads/2023/05/Schwartz_Notably-Books_May2023_Facebook.jpg
END:VEVENT
BEGIN:VEVENT
DTSTART;TZID=America/Vancouver:20230526T150000
DTEND;TZID=America/Vancouver:20230526T163000
DTSTAMP:20260423T044521
CREATED:20230419T174458Z
LAST-MODIFIED:20230419T174706Z
UID:16433-1685113200-1685118600@www.readlocalbc.ca
SUMMARY:Author Talk: Carolyn Redl's Four Seasons by the Salish Sea | Courtenay\, BC
DESCRIPTION:Join the VIRL in welcoming author Carolyn Redl with her new book\, “Four Seasons by the Salish Sea: Discovering the Natural Wonders of Coastal Living” (Heritage House\, 2023).\nPart travelogue\, part natural history\, this enchanting book explores Island life over the course of a year.\nListen to a short reading and view photos from the book. Hear about the wonders in the region and learn some handy gardening and travel tips.\n• Free to attend\n• Books for sale at event from Laughing Oyster Bookshop\n• Q&A to follow\n• Everyone welcome\n—-\nWe would like to acknowledge financial assistance for this event from The Canada Council for the Arts through The Writers’ Union of Canada.
URL:https://www.readlocalbc.ca/event/author-talk-carolyn-redls-four-seasons-by-the-salish-sea-courtenay-bc/
LOCATION:VI Regional Library Courtenay\, 300 6th Street\, Courtenay\, BC\, V9N 9V9\, Canada
CATEGORIES:Meet & Greet
ATTACH;FMTTYPE=image/jpeg:https://www.readlocalbc.ca/wp-content/uploads/2023/04/Redl_VIRL-Courtenay_FB-event.jpg
END:VEVENT
BEGIN:VEVENT
DTSTART;TZID=America/Vancouver:20230524T190000
DTEND;TZID=America/Vancouver:20230524T200000
DTSTAMP:20260423T044521
CREATED:20230510T205625Z
LAST-MODIFIED:20230510T205625Z
UID:16743-1684954800-1684958400@www.readlocalbc.ca
SUMMARY:Author Talk: Ellen Schwartz - Galena Bay Odyssey | Nakusp\, BC
DESCRIPTION:Meet award-winning author Ellen Schwartz and reminisce about the 70s in the Kootenay region.\nEllen will share stories from her new book\, “Galena Bay Odyssey: Reflections of a Hippie Homesteader” (Heritage House\, 2023).\nIn her memoir\, Ellen reflects on the idealistic\, tumultuous\, and eye-opening time she spent as a back-to-the-land hippie homesteader in Kootenays in the 1970s.\nGalena Bay Odyssey
URL:https://www.readlocalbc.ca/event/author-talk-ellen-schwartz-galena-bay-odyssey-nakusp-bc/
LOCATION:Nakusp Public Library\, 92 6 Ave NW\, Nakusp\, BC\, V0G 1R0\, Canada
CATEGORIES:Launch,Meet & Greet
ATTACH;FMTTYPE=image/jpeg:https://www.readlocalbc.ca/wp-content/uploads/2023/05/Schwartz_Nakusp_May2023_Facebook.jpg
END:VEVENT
BEGIN:VEVENT
DTSTART;TZID=America/Vancouver:20230507T130000
DTEND;TZID=America/Vancouver:20230507T150000
DTSTAMP:20260423T044521
CREATED:20230327T205837Z
LAST-MODIFIED:20230327T205837Z
UID:16150-1683464400-1683471600@www.readlocalbc.ca
SUMMARY:Wine and Words: Dimsum with the Authors
DESCRIPTION:Join us and the LiterASIAN Festival for an afternoon of food and festivities! This fundraiser will include dim sum\, wine tastings\, author readings\, and live and silent auctions. All event proceeds go to supporting this year’s Word Vancouver literary festival in September.\nTickets are $60. Members enjoy a discounted rate at $45 through a promo code.\nTo receive the promo code and for membership access to other exclusive events and perks\, sign up here on the Word Vancouver website!\nHosted by JJ Lee\, The Measure of a Man: The Story of a Father\, a Son\, and a Suit (Penguin Random House). Featuring authors Candie Tanaka\, Baby Drag Queen (Orca Books)\, David Ly\, Dream of Me as Water (Palimpsest Press)\, David Mura\, The Stories Whiteness Tells Itself: Racial Myths and Our American Narratives (University Of Minnesota Press)\, Emi Sasagawa\, Atomweight (Tidewater Press)\, Gillian Sze\, The Night is Deep and Wide (Penguin Random House)\, Hieu Pham-Fraser\, The Little Girl (‎FriesenPress)\, Jack Wang\, We Two Alone (House of Anansi)\, Simon Johnston\, House of Daughters (Earnshaw Books Ltd )\, Steffi Tad-y\, From the Shoreline (Gordon Hill Press)\, Tariq Malik\, Exit Wounds (Caitlin Press)\, Winnie L. Cheung\, Childhood Lost: Memoir of a Self-Taught Grandma Who Grew Up in a War-Torn Country.
URL:https://www.readlocalbc.ca/event/wine-and-words-dimsum-with-the-authors/
LOCATION:Floata Resturant\, 180 Keefer Street\, Vancouver\, BC\, V6A 1X4\, Canada
CATEGORIES:Meet & Greet
ATTACH;FMTTYPE=image/jpeg:https://www.readlocalbc.ca/wp-content/uploads/2023/03/2023-03-14_WineAndWords.jpg
ORGANIZER;CN="Word Vancouver":MAILTO:blnish_pandoras@yahoo.ca
END:VEVENT
BEGIN:VEVENT
DTSTART;TZID=America/Vancouver:20230317T190000
DTEND;TZID=America/Vancouver:20230317T210000
DTSTAMP:20260423T044521
CREATED:20230302T222831Z
LAST-MODIFIED:20230302T222831Z
UID:15761-1679079600-1679086800@www.readlocalbc.ca
SUMMARY:Caitlin Press Book Launch & Readings: Susan Braley\, Judy LeBlanc\, Andrea Routley
DESCRIPTION:Judy LeBlanc will be launching her debut novel The Broken Heart of Winter and reading alongside Andrea Routley and Susan Braley. All three writers are published by Caitlin Press. \nSusan Braley will be reading from her recently released collection of poetry Tilling the Darkness and Andrea Routley will be reading from her novella collection This Unlikely Soil published in Fall 2022. \nFor more information on these books and their writers visit the Caitlin Press website. \nThis event will be held at the Fanny Bay Hall\, 7793 Island Highway\, between Qualicum and Courtenay. Donations at the door.
URL:https://www.readlocalbc.ca/event/caitlin-press-book-launch-readings-susan-braley-judy-leblanc-andrea-routley/
LOCATION:Fanny Bay Hall\, Fanny Bay
CATEGORIES:Launch,Meet & Greet,Reading
ATTACH;FMTTYPE=image/jpeg:https://www.readlocalbc.ca/wp-content/uploads/2023/02/4Judy2023FatOysterWeb.jpg
END:VEVENT
BEGIN:VEVENT
DTSTART;TZID=America/Vancouver:20230317T190000
DTEND;TZID=America/Vancouver:20230317T210000
DTSTAMP:20260423T044521
CREATED:20230202T194831Z
LAST-MODIFIED:20230202T194831Z
UID:15210-1679079600-1679086800@www.readlocalbc.ca
SUMMARY:Book Launch: The Broken Heart of Winter
DESCRIPTION:📚\nThe Broken Heart of Winter by Judy LeBlanc is available to pre-order from Indigo\, caitlin-press.com\, and your local independent bookstore.\n📚\nIn award-winning writer Judy LeBlanc’s debut novel\, three women are linked by generations of hardship\, displacement\, and the mystery of an eighteenth-century French musket that has been passed down through the LeBlanc family since the time of the Acadian expulsion. A riveting and heart-wrenching look at the effects of cultural trauma on Canada’s Acadian community\, The Broken Heart of Winter takes readers on a riveting ride from modern-day Canada to a 19th-century Maritime island to untangle a family’s web of secrets and lies.\n📚\n“If you are Acadian\, Mi’kmaq\, or a Vietnamese baker working the night shift in Victoria\, BC\, what does survival—physical\, familial\, cultural and financial—look and sound and feel like? This powerful\, beautifully written novel explores the grim historical realities of Acadian expulsion and exile as well as the glorious small and large-scale triumphs of survival in the 1830s and modern-day Canada. A timely and necessary contribution to understanding and empathy for this planet’s perennial population of refugees\, the exiled\, those who perished and those who survived.”\n—Caroline Woodward\, author of Alaska Highway Two-Step\n📚\nLeBlanc will launch her book in Fanny Bay with fellow Caitlin Press authors Andrea Routley (This Unlikely Soil) and Susan Braley (Tilling the Darkness).
URL:https://www.readlocalbc.ca/event/book-launch-the-broken-heart-of-winter/
LOCATION:Fanny Bay Hall\, Fanny Bay
CATEGORIES:Launch,Meet & Greet,Reading
ATTACH;FMTTYPE=image/jpeg:https://www.readlocalbc.ca/wp-content/uploads/2023/02/Screen-Shot-2023-02-02-at-11.46.42-AM.jpg
END:VEVENT
BEGIN:VEVENT
DTSTART;TZID=America/Vancouver:20230315T190000
DTEND;TZID=America/Vancouver:20230315T200000
DTSTAMP:20260423T044521
CREATED:20230222T211257Z
LAST-MODIFIED:20230222T211257Z
UID:15497-1678906800-1678910400@www.readlocalbc.ca
SUMMARY:READING: An Evening with Tara MacLean
DESCRIPTION:Singer/songwriter Tara MacLean has had an extraordinary musical career. From being discovered singing on a BC ferry to touring with Dido\, Tom Cochrane and Lilith Fair\, her solo albums and those with the band Shaye have touched legions of fans. But she hasn’t\, until now\, disclosed the details of how the power of song saved her from a childhood filled with danger. Come out and hear her story as she introduces her new memoir\, Song of the Sparrow\, with both readings and songs. It’s going to be an evening of beautiful things!
URL:https://www.readlocalbc.ca/event/reading-an-evening-with-tara-maclean/
LOCATION:Bolen Books\, #111-1644 Hillside Ave.\, Victoria\, BC\, V8T 2C5\, Canada
CATEGORIES:Launch,Meet & Greet,Reading
ATTACH;FMTTYPE=image/jpeg:https://www.readlocalbc.ca/wp-content/uploads/2023/02/Copy-of-FB-event-cover-1.jpg
ORGANIZER;CN="Bolen Books":MAILTO:heidi@bolen.bc.ca
END:VEVENT
BEGIN:VEVENT
DTSTART;TZID=America/Vancouver:20230222T190000
DTEND;TZID=America/Vancouver:20230222T203000
DTSTAMP:20260423T044521
CREATED:20230222T204924Z
LAST-MODIFIED:20230222T204924Z
UID:15426-1677092400-1677097800@www.readlocalbc.ca
SUMMARY:Incite: VenCo: Cherie Dimaline
DESCRIPTION:Presented by the Vancouver Writers Fest in partnership with Vancouver Public Library and Massy Books. \nDon your cloaks and gather with other members of our literary coven for an evening of divine storytelling and witchcraft. Our third Incite event features Festival favourite Cherie Dimaline\, whose book The Marrow Thieves has garnered multiple awards and maintained an astonishingly frequent presence on the Canadian bestseller’s list for the past five years. Her latest novel for adults invites readers on an enchanting\, treacherous road trip adventure that will “bring magic back into your life” (Eden Robinson). \nVenCo is a wickedly subversive\, deliciously imaginative\, deeply feminist novel of contemporary witches on the rise. When Métis millennial Lucky St. James finds a spoon in her basement inscribed with the letters S-A-L-E-M\, she joins a network of extraordinary women across North America who are searching desperately for the final spoon—and the unknown witch who holds it. The Kirkus Prize and Governor General’s Literary Award winning author joins author and academic Billy-Ray Belcourt (A History of My Brief Body\, A Minor Chorus) to discuss her spellbinding new book\, and her prolific and varied writing life. \nBooks will be for sale before and after the event courtesy of Massy Books.
URL:https://www.readlocalbc.ca/event/incite-venco-cherie-dimaline/
LOCATION:Vancouver Public Library\, Central Branch\, 350 West Georgia St.\, Vancouver\, BC\, V6B 6B1\, Canada
CATEGORIES:Meet & Greet,Reading
ATTACH;FMTTYPE=image/jpeg:https://www.readlocalbc.ca/wp-content/uploads/2023/02/2023-Incite_social_02-22_banner.jpg
ORGANIZER;CN="Vancouver Writers Fest":MAILTO:info@writersfest.bc.ca
END:VEVENT
BEGIN:VEVENT
DTSTART;TZID=America/Vancouver:20230215T190000
DTEND;TZID=America/Vancouver:20230215T210000
DTSTAMP:20260423T044521
CREATED:20230202T193147Z
LAST-MODIFIED:20230202T193147Z
UID:15205-1676487600-1676494800@www.readlocalbc.ca
SUMMARY:Book Launch: Hand on My Heart: A Canadian Doctor's Awakening in Afghanistan
DESCRIPTION:MaureenMayhew‘s Hand on My Heart: A Canadian Doctor’s Awakening in Afghanistan. Mark your calendars for the upcoming book launch: February 15th\, 7-9 PM at UBC’s School of Population and Public Health. Books will be available for sale!
URL:https://www.readlocalbc.ca/event/book-launch-hand-on-my-heart-a-canadian-doctors-awakening-in-afghanistan/
LOCATION:ubc school of population and public health
CATEGORIES:Launch,Meet & Greet,Reading
ATTACH;FMTTYPE=image/jpeg:https://www.readlocalbc.ca/wp-content/uploads/2023/02/FnfM0QTXoAALiiN.jpeg
END:VEVENT
BEGIN:VEVENT
DTSTART;TZID=America/Vancouver:20230211T160000
DTEND;TZID=America/Vancouver:20230211T180000
DTSTAMP:20260423T044521
CREATED:20230202T192748Z
LAST-MODIFIED:20230202T192748Z
UID:15200-1676131200-1676138400@www.readlocalbc.ca
SUMMARY:Book Signing: Bloom Where You Are Planted | Indigo Granville
DESCRIPTION:Chat with the author and pick up a copy of “Bloom Where You Are Planted: 50 Conversations with Inspiring British Columbians” at Indigo Granville.\nA gorgeous book to keep or gift\, “Bloom Where You Are Planted” is a collection of interviews and photography that celebrates 50 innovative\, hard-working\, diverse people.\nhttps://www.chapters.indigo.ca/…/9781772034295-item.html
URL:https://www.readlocalbc.ca/event/book-signing-bloom-where-you-are-planted-indigo-granville/
LOCATION:Chapters Indigo – Vancouver\, Granville & Broadway\, 2505 Granville Street\, Vancouver\, BC\, V6H 3G7\, Canada
CATEGORIES:Meet & Greet,Reading
ATTACH;FMTTYPE=image/jpeg:https://www.readlocalbc.ca/wp-content/uploads/2023/02/Fn-qfJhaYAUpeU9.jpeg
END:VEVENT
BEGIN:VEVENT
DTSTART;TZID=America/Vancouver:20230208T190000
DTEND;TZID=America/Vancouver:20230208T203000
DTSTAMP:20260423T044521
CREATED:20230202T214035Z
LAST-MODIFIED:20230202T214035Z
UID:15214-1675882800-1675888200@www.readlocalbc.ca
SUMMARY:Incite: Superfan: Jen Sookfong Lee
DESCRIPTION:Music. Movies. Celebrity crushes. Pop culture permeates all levels of our lives\, from the entertainment we consume (or abhor) to the memes we make and share with friends. Jen Sookfong Lee has been at the centre of this commentary for years\, as author\, lifestyle commentator\, podcaster\, and now memoirist of Superfan: How Pop Culture Broke My Heart\, a searing\, revelatory\, and intimate collection exploring the ways in which pop culture has shaped—and unshaped—Lee throughout her life. \nJoined by longtime Festival friend and Globe and Mail columnist Marsha Lederman\, this special Incite event will celebrate Lee’s debut memoir-in-pieces\, and explore all the ways in which pop culture intersects with the reality of so many\, how our collective obsessions make and break us\, and why our fascinations persist in spite of it all.
URL:https://www.readlocalbc.ca/event/incite-superfan-jen-sookfong-lee/
LOCATION:Vancouver Public Library\, Central Branch\, 350 West Georgia St.\, Vancouver\, BC\, V6B 6B1\, Canada
CATEGORIES:Meet & Greet,Panel,Reading
ATTACH;FMTTYPE=image/jpeg:https://www.readlocalbc.ca/wp-content/uploads/2023/02/Website-banner-Incite-02-08.jpg
END:VEVENT
END:VCALENDAR