BEGIN:VCALENDAR
VERSION:2.0
PRODID:-//Read Local BC - ECPv6.15.20//NONSGML v1.0//EN
CALSCALE:GREGORIAN
METHOD:PUBLISH
X-WR-CALNAME:Read Local BC
X-ORIGINAL-URL:https://www.readlocalbc.ca
X-WR-CALDESC:Events for Read Local BC
REFRESH-INTERVAL;VALUE=DURATION:PT1H
X-Robots-Tag:noindex
X-PUBLISHED-TTL:PT1H
BEGIN:VTIMEZONE
TZID:America/Vancouver
BEGIN:DAYLIGHT
TZOFFSETFROM:-0800
TZOFFSETTO:-0700
TZNAME:PDT
DTSTART:20250309T100000
END:DAYLIGHT
BEGIN:STANDARD
TZOFFSETFROM:-0700
TZOFFSETTO:-0800
TZNAME:PST
DTSTART:20251102T090000
END:STANDARD
BEGIN:DAYLIGHT
TZOFFSETFROM:-0800
TZOFFSETTO:-0700
TZNAME:PDT
DTSTART:20260308T100000
END:DAYLIGHT
BEGIN:STANDARD
TZOFFSETFROM:-0700
TZOFFSETTO:-0800
TZNAME:PST
DTSTART:20261101T090000
END:STANDARD
BEGIN:DAYLIGHT
TZOFFSETFROM:-0800
TZOFFSETTO:-0700
TZNAME:PDT
DTSTART:20270314T100000
END:DAYLIGHT
BEGIN:STANDARD
TZOFFSETFROM:-0700
TZOFFSETTO:-0800
TZNAME:PST
DTSTART:20271107T090000
END:STANDARD
END:VTIMEZONE
BEGIN:VEVENT
DTSTART;TZID=America/Vancouver:20260228T033000
DTEND;TZID=America/Vancouver:20260228T173000
DTSTAMP:20260422T223445
CREATED:20260219T004637Z
LAST-MODIFIED:20260219T004637Z
UID:48399-1772249400-1772299800@www.readlocalbc.ca
SUMMARY:"The Librarians" Film Screening at the Rio Theatre
DESCRIPTION:Celebrate Freedom to Read by joining local libraries for a screening of the 2025 documentary The Librarians\, a documentary film about how Librarians unite to combat book banning\, defending intellectual freedom on democracy’s frontlines amid unprecedented censorship in Texas\, Florida\, and beyond. \nThe screening will be accompanied by a short discussion with local librarians and academics on book bans and challenges in Canada\, including libraries’ roles in protecting freedom to read and how we can all defend our right to intellectual freedom. \nWhere: Rio Theatre (1660 East Broadway\, Vancouver\, BC\, V5N 1W1)\nWhen: Saturday\, February 28 (Doors 3:00 pm | Movie 3:30 pm) \nTickets & more info: $16 from the Rio Theatre:\nhttps://riotheatretickets.ca/events/40213-the-librarians-with-post-show-panel-discussion
URL:https://www.readlocalbc.ca/event/the-librarians-film-screening-at-the-rio-theatre/
LOCATION:BC
CATEGORIES:Panel
ORGANIZER;CN="North Vancouver District Public Library":MAILTO:info@nvdpl.ca
END:VEVENT
END:VCALENDAR