BEGIN:VCALENDAR
VERSION:2.0
PRODID:-//Read Local BC - ECPv6.15.20//NONSGML v1.0//EN
CALSCALE:GREGORIAN
METHOD:PUBLISH
X-WR-CALNAME:Read Local BC
X-ORIGINAL-URL:https://www.readlocalbc.ca
X-WR-CALDESC:Events for Read Local BC
REFRESH-INTERVAL;VALUE=DURATION:PT1H
X-Robots-Tag:noindex
X-PUBLISHED-TTL:PT1H
BEGIN:VTIMEZONE
TZID:America/Vancouver
BEGIN:DAYLIGHT
TZOFFSETFROM:-0800
TZOFFSETTO:-0700
TZNAME:PDT
DTSTART:20250309T100000
END:DAYLIGHT
BEGIN:STANDARD
TZOFFSETFROM:-0700
TZOFFSETTO:-0800
TZNAME:PST
DTSTART:20251102T090000
END:STANDARD
BEGIN:DAYLIGHT
TZOFFSETFROM:-0800
TZOFFSETTO:-0700
TZNAME:PDT
DTSTART:20260308T100000
END:DAYLIGHT
BEGIN:STANDARD
TZOFFSETFROM:-0700
TZOFFSETTO:-0800
TZNAME:PST
DTSTART:20261101T090000
END:STANDARD
BEGIN:DAYLIGHT
TZOFFSETFROM:-0800
TZOFFSETTO:-0700
TZNAME:PDT
DTSTART:20270314T100000
END:DAYLIGHT
BEGIN:STANDARD
TZOFFSETFROM:-0700
TZOFFSETTO:-0800
TZNAME:PST
DTSTART:20271107T090000
END:STANDARD
END:VTIMEZONE
BEGIN:VEVENT
DTSTART;TZID=America/Vancouver:20260501T190000
DTEND;TZID=America/Vancouver:20260501T203000
DTSTAMP:20260422T212306
CREATED:20260422T232527Z
LAST-MODIFIED:20260422T232527Z
UID:52703-1777662000-1777667400@www.readlocalbc.ca
SUMMARY:Talonbooks Spring 2026 Launch
DESCRIPTION:Join us at the Martha Lou Henley Rehearsal Hall for the launch of the Talonbooks spring 2026 titles! Come help us celebrate this season’s authors and books. Here’s the lineup! It’s going to be an amazing evening. \nTaryn Hubbard will read from Beautiful Unknown Future\nJenn Ashton (attending digitally) will read from Growing My Way Home\nGeorge Bowering (attending digitally) will read from Pearl\nJónína Kirton will read from Save Your Prayers – Send Money\nElee Kraljii Gardiner will read from sometimes\, forest\nNicole Raziya Fong will read from SUBTEXT and\nDanielle LaFrance will read from Verbal Violence! \nThe launch will be hosted by the author of Future Works\, Jeff Derksen! \nA live stream will be available on the Talonbooks YouTube page. Light snacks and drinks will be provided. Hope to see you there! \nTalonbooks Spring Launch\nMartha Lou Henley Rehearsal Hall\nVancouver\, BC\nMay 1\, 2026\nDoors at 7 p.m.\, readings begin at 7:30 p.m. PDT
URL:https://www.readlocalbc.ca/event/talonbooks-spring-2026-launch/
LOCATION:Martha Lou Henley Rehearsal Hall\, 1955 McLean Dr\, Vancouver\, BC V5N 3J7\, Vancouver\, BC\, V5N 3J7\, Canada
CATEGORIES:Author Discussion,Launch,Meet & Greet,Panel,Reading
ATTACH;FMTTYPE=image/jpeg:https://www.readlocalbc.ca/wp-content/uploads/2026/04/4122.jpg
END:VEVENT
END:VCALENDAR