BEGIN:VCALENDAR
VERSION:2.0
PRODID:-//Read Local BC - ECPv6.15.20//NONSGML v1.0//EN
CALSCALE:GREGORIAN
METHOD:PUBLISH
X-WR-CALNAME:Read Local BC
X-ORIGINAL-URL:https://www.readlocalbc.ca
X-WR-CALDESC:Events for Read Local BC
REFRESH-INTERVAL;VALUE=DURATION:PT1H
X-Robots-Tag:noindex
X-PUBLISHED-TTL:PT1H
BEGIN:VTIMEZONE
TZID:America/Vancouver
BEGIN:DAYLIGHT
TZOFFSETFROM:-0800
TZOFFSETTO:-0700
TZNAME:PDT
DTSTART:20240310T100000
END:DAYLIGHT
BEGIN:STANDARD
TZOFFSETFROM:-0700
TZOFFSETTO:-0800
TZNAME:PST
DTSTART:20241103T090000
END:STANDARD
BEGIN:DAYLIGHT
TZOFFSETFROM:-0800
TZOFFSETTO:-0700
TZNAME:PDT
DTSTART:20250309T100000
END:DAYLIGHT
BEGIN:STANDARD
TZOFFSETFROM:-0700
TZOFFSETTO:-0800
TZNAME:PST
DTSTART:20251102T090000
END:STANDARD
BEGIN:DAYLIGHT
TZOFFSETFROM:-0800
TZOFFSETTO:-0700
TZNAME:PDT
DTSTART:20260308T100000
END:DAYLIGHT
BEGIN:STANDARD
TZOFFSETFROM:-0700
TZOFFSETTO:-0800
TZNAME:PST
DTSTART:20261101T090000
END:STANDARD
END:VTIMEZONE
BEGIN:VEVENT
DTSTART;TZID=America/Vancouver:20250909T183000
DTEND;TZID=America/Vancouver:20250909T200000
DTSTAMP:20260423T043717
CREATED:20250728T210650Z
LAST-MODIFIED:20250728T210650Z
UID:32575-1757442600-1757448000@www.readlocalbc.ca
SUMMARY:Urban Matters: Poetry in the City
DESCRIPTION:Join authors Daniela Elza and Daniel Cowper for a launch\, reading\, and discussion on celebration of the life of a city and an interrogation of its cost on our well-being. \n— \nDaniela Elza was longlisted for the 2024 CBC Poetry Prize for poems from her latest book SCAR/CITY (McGill-Queen’s University Press\, 2025). Her debut prose collection Is This an Illness or an Accident? (Caitlin Press\, 2025) delves into the conflicts and contradictions of what it means to belong\, to work\, and to find home. Daniela is the recipient of the 2024 Colleen Thibaudeau Award for Outstanding Contribution to Poetry. \nDaniel Cowper’s poetry and critical writing has appeared in numerous publications in Canada\, the US\, Ireland\, and the UK. His poems have been collected in The God of Doors (winner of the Frog Hollow Press Chapbook contest) and Grotesque Tenderness (MQUP\, 2019). His latest work is Kingdom of the Clock\, a novel in verse about urban life. He is a contributing editor with New Verse Review\, and lives on Bowen Island.
URL:https://www.readlocalbc.ca/event/urban-matters-poetry-in-the-city/
LOCATION:Vancouver Public Library\, Central Branch\, 350 West Georgia St.\, Vancouver\, BC\, V6B 6B1\, Canada
CATEGORIES:Author Discussion,Book Signing,Reading
ATTACH;FMTTYPE=image/jpeg:https://www.readlocalbc.ca/wp-content/uploads/2025/07/Urban-Matters-Poetry-in-the-City1.jpg
ORGANIZER;CN="Vancouver Public Library":MAILTO:candie.tanaka@vpl.ca
END:VEVENT
BEGIN:VEVENT
DTSTART;TZID=America/Vancouver:20250917T183000
DTEND;TZID=America/Vancouver:20250917T200000
DTSTAMP:20260423T043717
CREATED:20250805T222634Z
LAST-MODIFIED:20250811T164309Z
UID:32978-1758133800-1758139200@www.readlocalbc.ca
SUMMARY:Encrypted: A Reading with Arleen Paré
DESCRIPTION:Join us for an evening in celebration of Paré’s newest poetry collection on grief\, family\, and loneliness.
URL:https://www.readlocalbc.ca/event/encrypted-a-reading-with-arleen-pare/
LOCATION:Upstart & Crow\, 1387 Railspur Alley Vancouver\, BC V6H 3R7\, Vancouver\, BC\, V6H 3R7\, Canada
CATEGORIES:Reading
ATTACH;FMTTYPE=image/jpeg:https://www.readlocalbc.ca/wp-content/uploads/2025/08/upstart.jpeg
END:VEVENT
BEGIN:VEVENT
DTSTART;TZID=America/Vancouver:20250919T150000
DTEND;TZID=America/Vancouver:20250919T160000
DTSTAMP:20260423T043717
CREATED:20250904T224212Z
LAST-MODIFIED:20250904T224212Z
UID:36085-1758294000-1758297600@www.readlocalbc.ca
SUMMARY:Reading by C. E. Gatchalian
DESCRIPTION:Double Melancholy: Art\, Beauty\, and the Making of a Brown Queer Man—a lyrical exploration of race\, desire\, and artistic identity shaped by literature\, film\, and family history. \nFor those interested\, at 4pm\, Gatchalian will lead Writing the Unraveling Self\, a workshop that invites participants to embrace emotional rawness and creative disruption through guided prompts and reflection. The reading is Pay What You Can\, and the workshop is $25.
URL:https://www.readlocalbc.ca/event/reading-by-c-e-gatchalian/
LOCATION:Summerland Library ORL Branch\, 9533 Main Street\, Summerland\, BC\, Canada
CATEGORIES:Meet & Greet,Reading
ATTACH;FMTTYPE=image/webp:https://www.readlocalbc.ca/wp-content/uploads/2025/09/untitled-design-10.webp
ORGANIZER;CN="The Ryga Festival Society":MAILTO:gm@rygafest.ca
END:VEVENT
BEGIN:VEVENT
DTSTART;TZID=America/Vancouver:20250920T140000
DTEND;TZID=America/Vancouver:20250920T153000
DTSTAMP:20260423T043717
CREATED:20250903T211049Z
LAST-MODIFIED:20250911T175813Z
UID:35691-1758376800-1758382200@www.readlocalbc.ca
SUMMARY:Poetry Bus! Celebrating the 29th Year of Poetry in Transit
DESCRIPTION:In partnership with TransLink and BC Transit\, Read Local BC presents the launch of this year’s Poetry In Transit campaign at Word Vancouver. Now celebrating its 29th year\, this beloved community-engagement project displays the work of ten BC poets on public transit vehicles throughout the province. Join us to hear a selection of the featured 2025-26 poets read from their work\, followed by a short discussion and Q&A in which you can engage with the poets over your love of the written verse! \nREADERS\nHOST Elee Kraljii Gardiner is an author\, editor\, and creative mentor whose award-winning books of poetry include Trauma Head and serpentine loop\, and the anthologies Against Death: 35 Essays on Living and V6A: Writing from Vancouver’s Downtown Eastside\, and three chapbooks: Residence\, WATCHER with Gary Barwin\, and Trauma Head: the medical file. A frequent collaborator with choreographers\, musicians\, and visual artists\, Elee is currently collaborating with nature via a series of durational installations that investigate the law of thermodynamics and cultural ideas regarding the passing of time. Originally from Boston\, she lives in Canada where she directs Vancouver Manuscript Intensive\, a program pairing authors with mentors. eleekg.com \n  \n  \n \nSusan Alexander’s poems have appeared in Canadian and international anthologies and literary magazines\, such as The Southern Review\, Pangyrus\, Arc and Grain. Her most recent publication is Berberitzen with Raven Chapbooks (2024). She is the author of two full collections\, Nothing You Can Carry (2020) and The Dance Floor Tilts (2017) with Thistledown Press. Her poetry has won multiple awards\, including the 2022 Vancouver’s City Poem Prize. She has hosted poetry readings and panels for the Federation of BC Writers and Victoria’s Festival of Writers. Susan lives on Nexwlélexm/Bowen Island\, the traditional and unceded territory of the Squamish people. \n  \nJen Currin is the author of seven books\, including Hider/Seeker: Stories\, which was a finalist for a ReLit Award and was named a 2018 Globe and Mail Best Book\, and The Inquisition Yours\, which won the 2011 Audre Lorde Award and was a Lambda finalist. Born and raised in Portland\, Oregon\, on the traditional territories of the Multnomah\, Chinook\, Clackamas\, and other tribes\, Currin lives in New Westminster\, BC\, on unceded Qayqayt\, Kwantlen\, Kwikwetlem\, and Musqueam territories and teaches creative writing and English at Kwantlen Polytechnic University. \n  \nJunie Désil\, born to Haitian immigrant parents in Montréal and raised in Winnipeg\, has devoted over two decades to empowering communities made marginalized. An accomplished poet\, her debut collection\, eat salt | gaze at the ocean (2020)\, was a finalist for the Dorothy Livesay Poetry Prize and explores themes of Black sovereignty and the Haitian diaspora. Currently residing on the Traditional Territories of the Homalco\, Tla’amin\, and Klahoose\, Junie mentors emerging writers at Simon Fraser University’s The Writer’s Studio. Beyond her professional life\, Junie enjoys writing\, coaching\, consulting\, and raising goats. \n  \n  \n  \n  \nJoseph Kidney’s poems have been published in Best Canadian Poetry 2024\, Vallum\, The Malahat Review\, The Fiddlehead\, The Ex-Puritan\, Al-Araby Al-Jadeed (in Arabic translation)\, and more. He has won the Short Grain Contest\, the Young Buck Poetry Prize\, and Arc’s Poem of the Year. Devotional Forensics is his first full-length collection. \n  \n  \n  \n  \n  \n  \n  \nNatalie Lim is a Chinese-Canadian poet living on the unceded\, traditional territories of the Musqueam\, Squamish and Tsleil-Waututh Peoples (Vancouver\, BC). She is the winner of the 2018 CBC Poetry Prize and Room magazine’s 2020 Emerging Writer Award\, with work published in Arc Poetry Magazine\, Best Canadian Poetry 2020 and elsewhere. She is the author of a chapbook\, arrhythmia (Rahila’s Ghost Press\, 2022). \n  \n  \nLauren Peat is a poet\, translator\, and teacher based in Vancouver\, BC. Her poems\, essays\, and translations from French have appeared in a wide variety of journals and magazines\, and her many collaborations with composers are featured in the repertoire of acclaimed vocal ensembles across North America. Her debut poetry chapbook\, Future Tense\, was published by Baseline Press in 2024. \n  \n  \n  \n  \nTom Wayman’s prolific literary career includes writing more than twenty poetry collections\, three collections of critical and cultural essays\, three books of short fiction and a novel\, as well as editing six poetry anthologies. He received British Columbia’s 2022 George Woodcock Award for Lifetime Achievement in the literary arts. In 2015\, he was named a Vancouver Literary Landmark\, with a plaque on the city’s Commercial Drive commemorating his championing of people writing for themselves about their daily employment. He won the Western Canada Jewish Book Awards prize for fiction in 2016 (for the short story collection\, The Shadows We Mistake for Love) and for poetry in 2023 (for Watching a Man Break a Dog’s Back: Poems for a Dark Time). His memoir\, The Road to Appledore (or How I Went Back to The Land Without Ever Having Lived There in the First Place)\, was published in 2024. Wayman lives in Winlaw\, BC\, and his website is www.tomwayman.com. \n  \nCalvin Wharton has been published in numerous magazines and anthologies in Canada\, the U.S.\, Wales\, Sweden\, and Denmark. He is a former chair of Creative Writing at Douglas College and writer in residence at the University of Wales. His books include a collection of short fiction\, Three Songs by Hank Williams\, and poetry collections The Song Collides\, The Invention of Birds\, and This Here Paradise.
URL:https://www.readlocalbc.ca/event/poetry-bus-celebrating-the-29th-year-of-poetry-in-transit/
LOCATION:UBC Robson Square\, 800 Robson St\, Vancouver\, BC\, V6E 1A7\, Canada
CATEGORIES:Festival,Launch,Reading
ATTACH;FMTTYPE=image/jpeg:https://www.readlocalbc.ca/wp-content/uploads/2025/09/PoetryinTransit-WordVan-Facebook.jpg
ORGANIZER;CN="Read Local BC":MAILTO:asna@books.bc.ca
END:VEVENT
BEGIN:VEVENT
DTSTART;TZID=America/Vancouver:20250923T190000
DTEND;TZID=America/Vancouver:20250923T200000
DTSTAMP:20260423T043717
CREATED:20250904T223316Z
LAST-MODIFIED:20250904T223316Z
UID:36068-1758654000-1758657600@www.readlocalbc.ca
SUMMARY:Author Talk: Daniel Kalla
DESCRIPTION:Join Richmond Public Library as they welcome back international best-selling author Daniel Kalla as he reads and answers your questions about his newly released novel\, The Deepest Fake.
URL:https://www.readlocalbc.ca/event/author-talk-daniel-kalla/
LOCATION:Richmond Public Library\, Brighouse Branch\, 7700 Minoru Gate\, Richmond\, BC\, V6Y 1R8\, Canada
CATEGORIES:Meet & Greet,Reading
ATTACH;FMTTYPE=image/webp:https://www.readlocalbc.ca/wp-content/uploads/2025/09/cd-eventthumbs.webp
ORGANIZER;CN="Richmond Public Library":MAILTO:askus@yourlibrary.ca
END:VEVENT
BEGIN:VEVENT
DTSTART;TZID=America/Vancouver:20250923T190000
DTEND;TZID=America/Vancouver:20250923T203000
DTSTAMP:20260423T043717
CREATED:20250904T225138Z
LAST-MODIFIED:20250904T225138Z
UID:36090-1758654000-1758659400@www.readlocalbc.ca
SUMMARY:Booksmack! An evening of book reviews and laughter
DESCRIPTION:Do you love to read? Our highly specialized team of wild and nerdy bibliophiles go head to head as they race against the clock to speed review their favourite books\, podcasts and more! Booklists and laughter are included. Drop-in and free of charge.
URL:https://www.readlocalbc.ca/event/booksmack-an-evening-of-book-reviews-and-laughter/
LOCATION:Okanagan Regional Library\, Vernon branch\, 2800 30th Avenue\, Vernon\, BC\, V1T 8S3\, Canada
CATEGORIES:Reading
ATTACH;FMTTYPE=image/jpeg:https://www.readlocalbc.ca/wp-content/uploads/2025/09/1753293650.jpg
ORGANIZER;CN="Okanagan Regional Library":MAILTO:vereference@orl.bc.ca
END:VEVENT
END:VCALENDAR