BEGIN:VCALENDAR
VERSION:2.0
PRODID:-//Read Local BC - ECPv6.15.20//NONSGML v1.0//EN
CALSCALE:GREGORIAN
METHOD:PUBLISH
X-WR-CALNAME:Read Local BC
X-ORIGINAL-URL:https://www.readlocalbc.ca
X-WR-CALDESC:Events for Read Local BC
REFRESH-INTERVAL;VALUE=DURATION:PT1H
X-Robots-Tag:noindex
X-PUBLISHED-TTL:PT1H
BEGIN:VTIMEZONE
TZID:America/Vancouver
BEGIN:DAYLIGHT
TZOFFSETFROM:-0800
TZOFFSETTO:-0700
TZNAME:PDT
DTSTART:20220313T100000
END:DAYLIGHT
BEGIN:STANDARD
TZOFFSETFROM:-0700
TZOFFSETTO:-0800
TZNAME:PST
DTSTART:20221106T090000
END:STANDARD
BEGIN:DAYLIGHT
TZOFFSETFROM:-0800
TZOFFSETTO:-0700
TZNAME:PDT
DTSTART:20230312T100000
END:DAYLIGHT
BEGIN:STANDARD
TZOFFSETFROM:-0700
TZOFFSETTO:-0800
TZNAME:PST
DTSTART:20231105T090000
END:STANDARD
BEGIN:DAYLIGHT
TZOFFSETFROM:-0800
TZOFFSETTO:-0700
TZNAME:PDT
DTSTART:20240310T100000
END:DAYLIGHT
BEGIN:STANDARD
TZOFFSETFROM:-0700
TZOFFSETTO:-0800
TZNAME:PST
DTSTART:20241103T090000
END:STANDARD
END:VTIMEZONE
BEGIN:VEVENT
DTSTART;TZID=America/Vancouver:20230302T180000
DTEND;TZID=America/Vancouver:20230302T200000
DTSTAMP:20260425T121220
CREATED:20230222T205844Z
LAST-MODIFIED:20230222T214220Z
UID:15537-1677780000-1677787200@www.readlocalbc.ca
SUMMARY:Book Launch: Illuminations: An Evening with Sheryda Warrener and Jane Munro
DESCRIPTION:On Thursday\, March 2nd at 6pm\, join Massy Arts Society\, Massy Books\, Harbour Publishing and Coach House Books for Illuminations: An Evening with Sheryda Warrener and Jane Munro\, a double launch of False Creek by Jane Munro and Test Piece by Sheryda Warrener\, hosted by Raoul Fernandes. \nThese two collections of poetry offer meditations on phenomenological experiences. While weaving in explorations of dreams\, visual arts and the natural world\, Munro and Warrener also engage with various histories\, inviting us to reflect on the complexities of these encounters. This evening\, hosted by Raoul Fernandes\, author of Transmitter and Receiver\, celebrates the ability of poetry to transcend form and bring together new perspectives. \nThis project has been made possible by the Government of Canada. Ce projet a été rendu possible grâce au gouvernement du Canada. \nRegistration is free\, open to all\, and required for entrance.\nPurchase at the event:\nFalse Creek by Jane Munro\nTest Piece by Sheryda Warrener
URL:https://www.readlocalbc.ca/event/illuminations-an-evening-with-sheryda-warrener-and-jane-munro/
LOCATION:Massy Arts\, 23 East Pender\, Vancouver\, B.C.\, Canada
CATEGORIES:Launch,Reading
ATTACH;FMTTYPE=image/jpeg:https://www.readlocalbc.ca/wp-content/uploads/2023/02/Illuminations-An-Evening-with-Jane-Munro-Sheryda-Warrner_Header-Graphic-1.jpg
END:VEVENT
END:VCALENDAR