BEGIN:VCALENDAR
VERSION:2.0
PRODID:-//Read Local BC - ECPv6.15.20//NONSGML v1.0//EN
CALSCALE:GREGORIAN
METHOD:PUBLISH
X-WR-CALNAME:Read Local BC
X-ORIGINAL-URL:https://www.readlocalbc.ca
X-WR-CALDESC:Events for Read Local BC
REFRESH-INTERVAL;VALUE=DURATION:PT1H
X-Robots-Tag:noindex
X-PUBLISHED-TTL:PT1H
BEGIN:VTIMEZONE
TZID:America/Vancouver
BEGIN:DAYLIGHT
TZOFFSETFROM:-0800
TZOFFSETTO:-0700
TZNAME:PDT
DTSTART:20220313T100000
END:DAYLIGHT
BEGIN:STANDARD
TZOFFSETFROM:-0700
TZOFFSETTO:-0800
TZNAME:PST
DTSTART:20221106T090000
END:STANDARD
BEGIN:DAYLIGHT
TZOFFSETFROM:-0800
TZOFFSETTO:-0700
TZNAME:PDT
DTSTART:20230312T100000
END:DAYLIGHT
BEGIN:STANDARD
TZOFFSETFROM:-0700
TZOFFSETTO:-0800
TZNAME:PST
DTSTART:20231105T090000
END:STANDARD
BEGIN:DAYLIGHT
TZOFFSETFROM:-0800
TZOFFSETTO:-0700
TZNAME:PDT
DTSTART:20240310T100000
END:DAYLIGHT
BEGIN:STANDARD
TZOFFSETFROM:-0700
TZOFFSETTO:-0800
TZNAME:PST
DTSTART:20241103T090000
END:STANDARD
END:VTIMEZONE
BEGIN:VEVENT
DTSTART;VALUE=DATE:20230303
DTEND;VALUE=DATE:20230307
DTSTAMP:20260425T121211
CREATED:20230213T195216Z
LAST-MODIFIED:20230213T195216Z
UID:15364-1677808800-1678067999@www.readlocalbc.ca
SUMMARY:BC History Bookfest
DESCRIPTION:Friends\, mark your calendars! We’ve been waiting to announce this exciting book signing event! March 3rd – 5th we are honoured to be among some incredible authors as we celebrate BC’s amazing and exciting history! Meet writers who have dedicated themselves to sharing fascinating tales of cursed gold\, treacherous travels\, maritime tales\, local folklore and hauntings\, and personal\, real-life stories that have become an engrained part of Canadian history. Even if you already have the books\, come get your books signed\, meet all of us\, let’s have a discussion\, and support a great local event. We are proud to be part of this event in a line up of some extremely talented individuals. Hope to see you there if you live locally! We will be at Chapters books at Pinetree Village in Coquitlam.
URL:https://www.readlocalbc.ca/event/bc-history-bookfest/
LOCATION:chapters Indigo Coquitlam
CATEGORIES:Reading
ATTACH;FMTTYPE=image/png:https://www.readlocalbc.ca/wp-content/uploads/2023/02/Screen-Shot-2023-02-13-at-11.49.59-AM.png
END:VEVENT
BEGIN:VEVENT
DTSTART;TZID=America/Vancouver:20230304T160000
DTEND;TZID=America/Vancouver:20230304T180000
DTSTAMP:20260425T121211
CREATED:20230222T205948Z
LAST-MODIFIED:20230222T205948Z
UID:15510-1677945600-1677952800@www.readlocalbc.ca
SUMMARY:Reading: Susan Braley at the Art Gallery of Greater Victoria
DESCRIPTION:Join Susan Braley as she reads from her debut poetry collection\, Tilling the Darkness! \nArt Gallery of Greater Victoria\, 1040 Moss Street \nEvent starts at 4 PM (doors open at 3:30 PM) \nBooks are available for purchase from the Art Gallery of Greater Victoria’s gift shop.
URL:https://www.readlocalbc.ca/event/reading-susan-braley-at-the-art-gallery-of-greater-victoria/
LOCATION:Art Gallery of Greater Victoria\, 1040 Moss Street\, Victoria\, BC\, V8V 4P1\, Canada
CATEGORIES:Reading
END:VEVENT
END:VCALENDAR