BEGIN:VCALENDAR
VERSION:2.0
PRODID:-//Read Local BC - ECPv6.15.20//NONSGML v1.0//EN
CALSCALE:GREGORIAN
METHOD:PUBLISH
X-WR-CALNAME:Read Local BC
X-ORIGINAL-URL:https://www.readlocalbc.ca
X-WR-CALDESC:Events for Read Local BC
REFRESH-INTERVAL;VALUE=DURATION:PT1H
X-Robots-Tag:noindex
X-PUBLISHED-TTL:PT1H
BEGIN:VTIMEZONE
TZID:America/Vancouver
BEGIN:DAYLIGHT
TZOFFSETFROM:-0800
TZOFFSETTO:-0700
TZNAME:PDT
DTSTART:20220313T100000
END:DAYLIGHT
BEGIN:STANDARD
TZOFFSETFROM:-0700
TZOFFSETTO:-0800
TZNAME:PST
DTSTART:20221106T090000
END:STANDARD
BEGIN:DAYLIGHT
TZOFFSETFROM:-0800
TZOFFSETTO:-0700
TZNAME:PDT
DTSTART:20230312T100000
END:DAYLIGHT
BEGIN:STANDARD
TZOFFSETFROM:-0700
TZOFFSETTO:-0800
TZNAME:PST
DTSTART:20231105T090000
END:STANDARD
BEGIN:DAYLIGHT
TZOFFSETFROM:-0800
TZOFFSETTO:-0700
TZNAME:PDT
DTSTART:20240310T100000
END:DAYLIGHT
BEGIN:STANDARD
TZOFFSETFROM:-0700
TZOFFSETTO:-0800
TZNAME:PST
DTSTART:20241103T090000
END:STANDARD
END:VTIMEZONE
BEGIN:VEVENT
DTSTART;TZID=America/Vancouver:20230312T150000
DTEND;TZID=America/Vancouver:20230312T170000
DTSTAMP:20260425T121228
CREATED:20230222T210657Z
LAST-MODIFIED:20230222T210657Z
UID:15556-1678633200-1678640400@www.readlocalbc.ca
SUMMARY:Dead Poets Reading Series
DESCRIPTION:On Sunday\, March 12th at 3pm\, join Massy Arts Society\, Massy Books and four fantastic readers for a bi-monthly literary seance: Dead Poets Reading Series. \nReaders act as a medium\, inviting us to time travel by reading a selection of work by their favourite dead poet. Previously held in North Vancouver and the Vancouver Public Library\, Massy Arts Society offers a new home for this longstanding series since it first kicked off in 2007. \nThis month: \n• Mark Aguhar (1987 – 2012) read by Laura Fukumoto \n• Robin Blaser (1925 – 2009) read by Stephen Collis \n• Lee Maracle\, OC (1950 – 2021) read by Joanne Arnott \n• Edward Taylor Fletcher (1817 – 1897) read by James Gifford \nRegister \nVenue & Accessibility \nThe event will be hosted at the Massy Arts Gallery\, at 23 East Pender Street in Chinatown\, Vancouver. \nRegistration is free\, open to all and required for entrance. The gallery is wheelchair accessible and a gender-neutral washroom is on-site. Please refrain from wearing scents or heavy perfumes. \nFor more on accessibility including parking\, seating\, venue measurements and floor plan\, and how to request ASL interpretation please visit: massyarts.com/accessibility \nCovid Protocols: Masks keep our community safe and are mandatory (N95 masks are recommended as they offer the best protection). We ask if you are showing symptoms\, that you stay home. Thank you kindly.
URL:https://www.readlocalbc.ca/event/dead-poets-reading-series/
LOCATION:Massy Arts\, 23 East Pender\, Vancouver\, B.C.\, Canada
CATEGORIES:Launch,Reading
ATTACH;FMTTYPE=image/jpeg:https://www.readlocalbc.ca/wp-content/uploads/2023/02/Dead-Poets-March.jpg
END:VEVENT
END:VCALENDAR