BEGIN:VCALENDAR
VERSION:2.0
PRODID:-//Read Local BC - ECPv6.15.20//NONSGML v1.0//EN
CALSCALE:GREGORIAN
METHOD:PUBLISH
X-ORIGINAL-URL:https://www.readlocalbc.ca
X-WR-CALDESC:Events for Read Local BC
REFRESH-INTERVAL;VALUE=DURATION:PT1H
X-Robots-Tag:noindex
X-PUBLISHED-TTL:PT1H
BEGIN:VTIMEZONE
TZID:America/Vancouver
BEGIN:DAYLIGHT
TZOFFSETFROM:-0800
TZOFFSETTO:-0700
TZNAME:PDT
DTSTART:20220313T100000
END:DAYLIGHT
BEGIN:STANDARD
TZOFFSETFROM:-0700
TZOFFSETTO:-0800
TZNAME:PST
DTSTART:20221106T090000
END:STANDARD
BEGIN:DAYLIGHT
TZOFFSETFROM:-0800
TZOFFSETTO:-0700
TZNAME:PDT
DTSTART:20230312T100000
END:DAYLIGHT
BEGIN:STANDARD
TZOFFSETFROM:-0700
TZOFFSETTO:-0800
TZNAME:PST
DTSTART:20231105T090000
END:STANDARD
BEGIN:DAYLIGHT
TZOFFSETFROM:-0800
TZOFFSETTO:-0700
TZNAME:PDT
DTSTART:20240310T100000
END:DAYLIGHT
BEGIN:STANDARD
TZOFFSETFROM:-0700
TZOFFSETTO:-0800
TZNAME:PST
DTSTART:20241103T090000
END:STANDARD
END:VTIMEZONE
BEGIN:VEVENT
DTSTART;TZID=America/Vancouver:20230313T180000
DTEND;TZID=America/Vancouver:20230313T200000
DTSTAMP:20260425T121343
CREATED:20230222T210859Z
LAST-MODIFIED:20230222T215245Z
UID:15559-1678730400-1678737600@www.readlocalbc.ca
SUMMARY:Panel: Caller ID: Poetry That Calls Back
DESCRIPTION:On Monday\, March 13 at 6pm\, join Massy Arts Society\, Massy Books and a directory of authors in Caller ID: Poetry That Calls Back—featuring David Bradford\, Hari Alluri and River Halen. \nCrossing essays\, poems and journal entries\, these three collections are deeply personal\, tender explorations of inheritance\, grief\, joy and loss through encounters in the everyday. Hosted by author\, Danielle LaFrance\, this evening calls us to consider the ability of language to create new ways of being. Consider these works voicemails to your future selves. \nThis project has been made possible by the Government of Canada. Ce projet a été rendu possible grâce au gouvernement du Canada.
URL:https://www.readlocalbc.ca/event/caller-id-poetry-that-calls-back/
LOCATION:Massy Arts\, 23 East Pender\, Vancouver\, B.C.\, Canada
CATEGORIES:Launch,Reading
ATTACH;FMTTYPE=image/gif:https://www.readlocalbc.ca/wp-content/uploads/2023/02/Caller-ID-Poetry-That-Calls-Back-with-David-Bradford-Hari-Alluri-River-Halen.gif
END:VEVENT
END:VCALENDAR