BEGIN:VCALENDAR
VERSION:2.0
PRODID:-//Read Local BC - ECPv6.15.20//NONSGML v1.0//EN
CALSCALE:GREGORIAN
METHOD:PUBLISH
X-ORIGINAL-URL:https://www.readlocalbc.ca
X-WR-CALDESC:Events for Read Local BC
REFRESH-INTERVAL;VALUE=DURATION:PT1H
X-Robots-Tag:noindex
X-PUBLISHED-TTL:PT1H
BEGIN:VTIMEZONE
TZID:America/Vancouver
BEGIN:DAYLIGHT
TZOFFSETFROM:-0800
TZOFFSETTO:-0700
TZNAME:PDT
DTSTART:20220313T100000
END:DAYLIGHT
BEGIN:STANDARD
TZOFFSETFROM:-0700
TZOFFSETTO:-0800
TZNAME:PST
DTSTART:20221106T090000
END:STANDARD
BEGIN:DAYLIGHT
TZOFFSETFROM:-0800
TZOFFSETTO:-0700
TZNAME:PDT
DTSTART:20230312T100000
END:DAYLIGHT
BEGIN:STANDARD
TZOFFSETFROM:-0700
TZOFFSETTO:-0800
TZNAME:PST
DTSTART:20231105T090000
END:STANDARD
BEGIN:DAYLIGHT
TZOFFSETFROM:-0800
TZOFFSETTO:-0700
TZNAME:PDT
DTSTART:20240310T100000
END:DAYLIGHT
BEGIN:STANDARD
TZOFFSETFROM:-0700
TZOFFSETTO:-0800
TZNAME:PST
DTSTART:20241103T090000
END:STANDARD
END:VTIMEZONE
BEGIN:VEVENT
DTSTART;TZID=America/Vancouver:20230319T180000
DTEND;TZID=America/Vancouver:20230319T193000
DTSTAMP:20260425T121344
CREATED:20230209T212715Z
LAST-MODIFIED:20230222T215456Z
UID:15287-1679248800-1679254200@www.readlocalbc.ca
SUMMARY:Book Launch: How Your Heart Grows with Catherine Hernandez + Hari Alluri + Kimmortal
DESCRIPTION:On Sunday\, March 19 at 6pm\, join Massy Arts Society\, Massy Books and The Lido for a magical night of togetherness in How Your Heart Grows. Celebrating chosen family in the diaspora\, including our queer kin\, this evening will feature award winning author of Scarborough and finalist for Canada Reads 2022\, Catherine Hernandez\, who will read from her new book The Story of Us. \nA captivating narrative of sisterhood\, community\, hope and belonging\, The Story of Us paints a tender portrait of the resilience of migrant women. In conversation with Hari Alluri\, poet and author of Our Echo of Sudden Mercy\, the two discuss ideas around diasporic identities\, home and kinship. This remarkable event will also offer a musical opening by Kimmortal. We invite you for an evening to find the joy of finding love in unlikely places. \nThis project has been made possible by the Government of Canada. Ce projet a été rendu possible grâce au gouvernement du Canada. \nTickets \nTickets for this event are $15\, or $10 available for Indigenous\, Black\, queer\, disabled and community members with intersections that typically exclude them from accessing literary events. \nVenue & Accessibility \nThe event will be hosted at The Lido at 518 E Broadway in Vancouver. \nRegistration is on a sliding scale and required for entrance. The space is wheelchair accessible and has gender-neutral washrooms on-site. Please refrain from wearing scents or heavy perfumes. \nCovid Protocols: Masks keep our community safe and are mandatory (N95 masks are recommended as they offer the best protection). We ask if you are showing symptoms\, that you stay home. Thank you kindly. \nFeaturing Author \nCatherine Hernandez (she/her) is an award-winning author and screenwriter. She is a proud queer woman who is of Filipino\, Spanish\, Chinese and Indian descent and married into the Navajo Nation. Her first novel\, Scarborough\, won the Jim Wong-Chu Award for the unpublished manuscript; was a finalist for several awards including Canada Reads 2022. She wrote the screenplay for the film adaptation of Scarborough\, which was nominated for 11 Canadian Screen Awards and won 8 including Best Picture and Best Adapted Screenplay. Her second novel\, Crosshairs\, was shortlisted for the Toronto Book Award and made the CBC’s Best Canadian Fiction\, NOW Magazine’s 10 Best Books\, Indigo Best Book\, and NBC 20 Best LGBTQ Books list of 2020. Her third novel\, The Story of Us\, was published this year by HarperCollins Canada. She is currently working on a few television projects and her fourth novel.
URL:https://www.readlocalbc.ca/event/how-your-heart-grows-with-catherine-hernandez-hari-alluri-kimmortal/
LOCATION:Massy Books\, 229 E. Georgia St.\, Vancouver\, BC\, V6A 1Z6\, Canada
CATEGORIES:Reading
ATTACH;FMTTYPE=image/png:https://www.readlocalbc.ca/wp-content/uploads/2023/02/How-Your-Heart-Grows_Header_final.png
END:VEVENT
BEGIN:VEVENT
DTSTART;TZID=America/Vancouver:20230319T180000
DTEND;TZID=America/Vancouver:20230319T200000
DTSTAMP:20260425T121344
CREATED:20230222T211814Z
LAST-MODIFIED:20230222T211814Z
UID:15566-1679248800-1679256000@www.readlocalbc.ca
SUMMARY:LAUNCH: How Your Heart Grows with Catherine Hernandez\, Hari Alluri\, Kimmortal
DESCRIPTION:On Sunday\, March 19 at 6pm\, join Massy Arts Society\, Massy Books and The Lido for a magical night of togetherness in How Your Heart Grows. Celebrating chosen family in the diaspora\, including our queer kin\, this evening will feature award winning author of Scarborough and finalist for Canada Reads 2022\, Catherine Hernandez\, who will read from her new book The Story of Us. \nA captivating narrative of sisterhood\, community\, hope and belonging\, The Story of Us paints a tender portrait of the resilience of migrant women. In conversation with Hari Alluri\, poet and author of Our Echo of Sudden Mercy\, the two discuss ideas around diasporic identities\, home and kinship. This remarkable event will also offer a musical opening by Kimmortal. We invite you for an evening to find the joy of finding love in unlikely places. \nThis project has been made possible by the Government of Canada. Ce projet a été rendu possible grâce au gouvernement du Canada. \nTickets \nTickets for this event are $15\, or $10 available for Indigenous\, Black\, queer\, disabled and community members with intersections that typically exclude them from accessing literary events. \nVenue & Accessibility \nThe event will be hosted at The Lido at 518 E Broadway in Vancouver. \nRegistration is on a sliding scale and required for entrance. The space is wheelchair accessible and has gender-neutral washrooms on-site. Please refrain from wearing scents or heavy perfumes. \nCovid Protocols: Masks keep our community safe and are mandatory (N95 masks are recommended as they offer the best protection). We ask if you are showing symptoms\, that you stay home. Thank you kindly.
URL:https://www.readlocalbc.ca/event/launch-how-your-heart-grows-with-catherine-hernandez-hari-alluri-kimmortal/
LOCATION:The Lido\, 518 East Broadway\, Vancouver\, BC\, V5T 1X5\, Canada
CATEGORIES:Launch,Reading
ATTACH;FMTTYPE=image/png:https://www.readlocalbc.ca/wp-content/uploads/2023/02/How-Your-Heart-Grows_Header_final-1.png
END:VEVENT
END:VCALENDAR