BEGIN:VCALENDAR
VERSION:2.0
PRODID:-//Read Local BC - ECPv6.15.20//NONSGML v1.0//EN
CALSCALE:GREGORIAN
METHOD:PUBLISH
X-WR-CALNAME:Read Local BC
X-ORIGINAL-URL:https://www.readlocalbc.ca
X-WR-CALDESC:Events for Read Local BC
REFRESH-INTERVAL;VALUE=DURATION:PT1H
X-Robots-Tag:noindex
X-PUBLISHED-TTL:PT1H
BEGIN:VTIMEZONE
TZID:America/Vancouver
BEGIN:DAYLIGHT
TZOFFSETFROM:-0800
TZOFFSETTO:-0700
TZNAME:PDT
DTSTART:20220313T100000
END:DAYLIGHT
BEGIN:STANDARD
TZOFFSETFROM:-0700
TZOFFSETTO:-0800
TZNAME:PST
DTSTART:20221106T090000
END:STANDARD
BEGIN:DAYLIGHT
TZOFFSETFROM:-0800
TZOFFSETTO:-0700
TZNAME:PDT
DTSTART:20230312T100000
END:DAYLIGHT
BEGIN:STANDARD
TZOFFSETFROM:-0700
TZOFFSETTO:-0800
TZNAME:PST
DTSTART:20231105T090000
END:STANDARD
BEGIN:DAYLIGHT
TZOFFSETFROM:-0800
TZOFFSETTO:-0700
TZNAME:PDT
DTSTART:20240310T100000
END:DAYLIGHT
BEGIN:STANDARD
TZOFFSETFROM:-0700
TZOFFSETTO:-0800
TZNAME:PST
DTSTART:20241103T090000
END:STANDARD
END:VTIMEZONE
BEGIN:VEVENT
DTSTART;TZID=America/Vancouver:20230325T190000
DTEND;TZID=America/Vancouver:20230325T210000
DTSTAMP:20260425T121231
CREATED:20230213T200557Z
LAST-MODIFIED:20230222T215532Z
UID:15381-1679770800-1679778000@www.readlocalbc.ca
SUMMARY:Reading: SAM WIEBE
DESCRIPTION:“The best crime writer in Canada” – Charles Demers   \nTerse dialogue reminiscent of Raymond Chandler\, complex characters and a very real Vancouver characterize Wiebe’s writing. His first crime novel\, the standalone Last of the Independents\, won both the Kobo Emerging Writer and the Arthur Ellis Awards. He has been shortlisted for the Edgar\, Hammett\, Shamus\, and City of Vancouver book prizes and was a former Vancouver Public Library Writer in Residence. \nDave Wakeland is the protagonist of the Wakeland detective series\, “one of the most authentic and acclaimed detective series in Canada.” – Crime Writers of Canada   \nWiebe will be reading from Sunset and Jericho the fourth in his Wakeland series.  \n“The Wakeland novels are an incredible combination of social commentary and just the best of the crime genre.” – Charles Demers
URL:https://www.readlocalbc.ca/event/sam-wiebe/
LOCATION:Sunshine Coast Arts Council\, 5714 Medusa St.\, Sechelt\, BC\, V0N 3A3\, Canada
CATEGORIES:Reading
ATTACH;FMTTYPE=image/jpeg:https://www.readlocalbc.ca/wp-content/uploads/2023/02/Screen-Shot-2023-02-13-at-12.05.31-PM.jpg
END:VEVENT
END:VCALENDAR