BEGIN:VCALENDAR
VERSION:2.0
PRODID:-//Read Local BC - ECPv6.15.20//NONSGML v1.0//EN
CALSCALE:GREGORIAN
METHOD:PUBLISH
X-ORIGINAL-URL:https://www.readlocalbc.ca
X-WR-CALDESC:Events for Read Local BC
REFRESH-INTERVAL;VALUE=DURATION:PT1H
X-Robots-Tag:noindex
X-PUBLISHED-TTL:PT1H
BEGIN:VTIMEZONE
TZID:America/Vancouver
BEGIN:DAYLIGHT
TZOFFSETFROM:-0800
TZOFFSETTO:-0700
TZNAME:PDT
DTSTART:20220313T100000
END:DAYLIGHT
BEGIN:STANDARD
TZOFFSETFROM:-0700
TZOFFSETTO:-0800
TZNAME:PST
DTSTART:20221106T090000
END:STANDARD
BEGIN:DAYLIGHT
TZOFFSETFROM:-0800
TZOFFSETTO:-0700
TZNAME:PDT
DTSTART:20230312T100000
END:DAYLIGHT
BEGIN:STANDARD
TZOFFSETFROM:-0700
TZOFFSETTO:-0800
TZNAME:PST
DTSTART:20231105T090000
END:STANDARD
BEGIN:DAYLIGHT
TZOFFSETFROM:-0800
TZOFFSETTO:-0700
TZNAME:PDT
DTSTART:20240310T100000
END:DAYLIGHT
BEGIN:STANDARD
TZOFFSETFROM:-0700
TZOFFSETTO:-0800
TZNAME:PST
DTSTART:20241103T090000
END:STANDARD
END:VTIMEZONE
BEGIN:VEVENT
DTSTART;TZID=America/Vancouver:20230517T193000
DTEND;TZID=America/Vancouver:20230517T210000
DTSTAMP:20260425T094127
CREATED:20230510T205221Z
LAST-MODIFIED:20230510T205221Z
UID:16818-1684351800-1684357200@www.readlocalbc.ca
SUMMARY:Poetry Reading: Alice Major & Jordan Scott
DESCRIPTION:Poets Corner Reading Series welcomes Alice Major and Jordan Scott. Alice Major has published twelve collections of poetry\, two novels for young adults and an award-winning collection of essays about poetry and science. Jordan Scott is a poet and children’s author. His debut children’s book\, I Talk Like a River (illustrated by Sydney Smith)\, was a New York Times best Children’s Book of 2020. \nIn addition to readings by our featured poets\, Poets Corner welcomes audience members to register at the door for 3-minute Open Mic time slots.\nThis is a hybrid event.\nMay 17 | 7:30 pm PST\nFairleigh Dickinson University\, Vancouver\nOr on Zoom (register for link at poetscorner.ca)\nBy donation (Suggested $5. Money goes to featured poets)
URL:https://www.readlocalbc.ca/event/poetry-reading-alice-major-jordan-scott/
LOCATION:BC
CATEGORIES:Open Mic,Reading
ATTACH;FMTTYPE=image/jpeg:https://www.readlocalbc.ca/wp-content/uploads/2023/05/MAJOR-and-SCOTT-May-2023.jpg
END:VEVENT
END:VCALENDAR