BEGIN:VCALENDAR
VERSION:2.0
PRODID:-//Read Local BC - ECPv6.15.20//NONSGML v1.0//EN
CALSCALE:GREGORIAN
METHOD:PUBLISH
X-ORIGINAL-URL:https://www.readlocalbc.ca
X-WR-CALDESC:Events for Read Local BC
REFRESH-INTERVAL;VALUE=DURATION:PT1H
X-Robots-Tag:noindex
X-PUBLISHED-TTL:PT1H
BEGIN:VTIMEZONE
TZID:America/Vancouver
BEGIN:DAYLIGHT
TZOFFSETFROM:-0800
TZOFFSETTO:-0700
TZNAME:PDT
DTSTART:20220313T100000
END:DAYLIGHT
BEGIN:STANDARD
TZOFFSETFROM:-0700
TZOFFSETTO:-0800
TZNAME:PST
DTSTART:20221106T090000
END:STANDARD
BEGIN:DAYLIGHT
TZOFFSETFROM:-0800
TZOFFSETTO:-0700
TZNAME:PDT
DTSTART:20230312T100000
END:DAYLIGHT
BEGIN:STANDARD
TZOFFSETFROM:-0700
TZOFFSETTO:-0800
TZNAME:PST
DTSTART:20231105T090000
END:STANDARD
BEGIN:DAYLIGHT
TZOFFSETFROM:-0800
TZOFFSETTO:-0700
TZNAME:PDT
DTSTART:20240310T100000
END:DAYLIGHT
BEGIN:STANDARD
TZOFFSETFROM:-0700
TZOFFSETTO:-0800
TZNAME:PST
DTSTART:20241103T090000
END:STANDARD
END:VTIMEZONE
BEGIN:VEVENT
DTSTART;TZID=America/Vancouver:20230727T190000
DTEND;TZID=America/Vancouver:20230727T200000
DTSTAMP:20260425T062938
CREATED:20230705T232558Z
LAST-MODIFIED:20230705T232558Z
UID:17468-1690484400-1690488000@www.readlocalbc.ca
SUMMARY:The Effects of The Postmedia Effect :: Plus! Panel discussion @ SFU
DESCRIPTION:Join us for an informative and fascinating discussion at SFU’s Harbour Centre campus on Thursday July 27\, as Edge leads a panel discussion on topics surrounding Postmedia and its fall from grace\, Canadian media\, and democratic media policies and what they mean for the future. \nThursday July 27th\, 7:00pm\nTeck Gallery Lounge Room 1400 (Updated)– SFU Harbour Centre\n555 W Hastings St\, Vancouver \nStay tuned for an announcement on the panelists! \nIn this opinion piece for The Globe and Mail\, Edge writes “The hedge funds have unfortunately followed the “harvesting” strategy of cutting costs and selling off assets on the assumption that newspapers are dying. Publications which have instead invested in quality content and developed a loyal base of online subscribers\, however\, have found that there is still a solid business model for newspapers\, even in print. Time will soon grind further upon Postmedia\, and it should be allowed to decline. Federal subsidies work only to keep payments flowing to hedge funds\, with debatable returns for taxpayers.
URL:https://www.readlocalbc.ca/event/the-effects-of-the-postmedia-effect-plus-panel-discussion-sfu/
LOCATION:SFU Harbour Centre\, 515 West Hastings Street\, Vancouver\, BC\, Canada
CATEGORIES:Reading
END:VEVENT
END:VCALENDAR