BEGIN:VCALENDAR
VERSION:2.0
PRODID:-//Read Local BC - ECPv6.15.20//NONSGML v1.0//EN
CALSCALE:GREGORIAN
METHOD:PUBLISH
X-WR-CALNAME:Read Local BC
X-ORIGINAL-URL:https://www.readlocalbc.ca
X-WR-CALDESC:Events for Read Local BC
REFRESH-INTERVAL;VALUE=DURATION:PT1H
X-Robots-Tag:noindex
X-PUBLISHED-TTL:PT1H
BEGIN:VTIMEZONE
TZID:America/Vancouver
BEGIN:DAYLIGHT
TZOFFSETFROM:-0800
TZOFFSETTO:-0700
TZNAME:PDT
DTSTART:20240310T100000
END:DAYLIGHT
BEGIN:STANDARD
TZOFFSETFROM:-0700
TZOFFSETTO:-0800
TZNAME:PST
DTSTART:20241103T090000
END:STANDARD
BEGIN:DAYLIGHT
TZOFFSETFROM:-0800
TZOFFSETTO:-0700
TZNAME:PDT
DTSTART:20250309T100000
END:DAYLIGHT
BEGIN:STANDARD
TZOFFSETFROM:-0700
TZOFFSETTO:-0800
TZNAME:PST
DTSTART:20251102T090000
END:STANDARD
BEGIN:DAYLIGHT
TZOFFSETFROM:-0800
TZOFFSETTO:-0700
TZNAME:PDT
DTSTART:20260308T100000
END:DAYLIGHT
BEGIN:STANDARD
TZOFFSETFROM:-0700
TZOFFSETTO:-0800
TZNAME:PST
DTSTART:20261101T090000
END:STANDARD
END:VTIMEZONE
BEGIN:VEVENT
DTSTART;TZID=America/Vancouver:20250423T183000
DTEND;TZID=America/Vancouver:20250423T210000
DTSTAMP:20260423T134944
CREATED:20250422T161447Z
LAST-MODIFIED:20250422T161447Z
UID:30547-1745433000-1745442000@www.readlocalbc.ca
SUMMARY:Celebrating Elise
DESCRIPTION:Celebrating Elise Partridge\nWednesday Apr 23rd\, 2025\n6:30 PM\n–\n9:00 PM\nMain St.\nMain St. Book Warehouse\nCelebrating Elise \nA National Poetry Month reading to celebrate the work and life of Elise Partridge (1958-2015) on the tenth anniversary of her passing. A number of Elise’s friends will read poems by or about her\, or poems she loved. \nStephanie Bolster\, John Donlan\, Mary Gomez Fonseca\, Elee Kraljii Gardiner\, Christopher Levenson\, George McWhirter\, Barbara Nickel\, Bonnie Nish\, Rachel Rose\, Rob Taylor\, and Fiona Tinwei-Lam will be reading. Elise’s and participating readers’ books available for purchase. \nThanks to the League of Canadian Poets and the Canada Council for the Arts for their support. \nDoors at 6:30 pm\, event starts at 7:00 pm; free to attend and all are welcome.
URL:https://www.readlocalbc.ca/event/celebrating-elise/
LOCATION:Book Warehouse – Main Street\, 4118 Main Street\, Vancouver\, BC\, V5V 3P7\, Canada
CATEGORIES:Reading
ATTACH;FMTTYPE=image/jpeg:https://www.readlocalbc.ca/wp-content/uploads/2025/04/celebrating-elise-social-media-1.jpg
END:VEVENT
END:VCALENDAR