BEGIN:VCALENDAR
VERSION:2.0
PRODID:-//Read Local BC - ECPv6.15.20//NONSGML v1.0//EN
CALSCALE:GREGORIAN
METHOD:PUBLISH
X-WR-CALNAME:Read Local BC
X-ORIGINAL-URL:https://www.readlocalbc.ca
X-WR-CALDESC:Events for Read Local BC
REFRESH-INTERVAL;VALUE=DURATION:PT1H
X-Robots-Tag:noindex
X-PUBLISHED-TTL:PT1H
BEGIN:VTIMEZONE
TZID:America/Vancouver
BEGIN:DAYLIGHT
TZOFFSETFROM:-0800
TZOFFSETTO:-0700
TZNAME:PDT
DTSTART:20240310T100000
END:DAYLIGHT
BEGIN:STANDARD
TZOFFSETFROM:-0700
TZOFFSETTO:-0800
TZNAME:PST
DTSTART:20241103T090000
END:STANDARD
BEGIN:DAYLIGHT
TZOFFSETFROM:-0800
TZOFFSETTO:-0700
TZNAME:PDT
DTSTART:20250309T100000
END:DAYLIGHT
BEGIN:STANDARD
TZOFFSETFROM:-0700
TZOFFSETTO:-0800
TZNAME:PST
DTSTART:20251102T090000
END:STANDARD
BEGIN:DAYLIGHT
TZOFFSETFROM:-0800
TZOFFSETTO:-0700
TZNAME:PDT
DTSTART:20260308T100000
END:DAYLIGHT
BEGIN:STANDARD
TZOFFSETFROM:-0700
TZOFFSETTO:-0800
TZNAME:PST
DTSTART:20261101T090000
END:STANDARD
END:VTIMEZONE
BEGIN:VEVENT
DTSTART;TZID=America/Vancouver:20250604T183000
DTEND;TZID=America/Vancouver:20250604T200000
DTSTAMP:20260423T101207
CREATED:20250526T180052Z
LAST-MODIFIED:20250526T180052Z
UID:31267-1749061800-1749067200@www.readlocalbc.ca
SUMMARY:The Teachings of Mutton: A Coast Salish Woolly Dog
DESCRIPTION:Mutton was a Coast Salish Woolly Dog whose pelt lay forgotten in a Smithsonian drawer for 150 years until it was uncovered by an amateur archivist. According to Indigenous Oral Histories of the Pacific Northwest\, this small dog was bred for thousands of years for its woolly fibres\, which were woven into traditional blankets\, robes and regalia. \nAuthors Liz Hammond-Kaarremaa\, Debra Sparrow and Dr. Kerrie Charnley will read excerpts from THE TEACHINGS OF MUTTON and take part in a discussion. \nThe book brings together narratives of science\, post-contact history\, and the profound effects of colonization\, all grounded in Mutton’s journey—a tale of research\, reawakening\, and resurgence that will interest Pacific Northwest history buffs\, textile and fiber enthusiasts\, and dog lovers. \nClick here for more information!
URL:https://www.readlocalbc.ca/event/the-teachings-of-mutton-a-coast-salish-woolly-dog/
LOCATION:Vancouver Public Library\, Central Branch\, 350 West Georgia St.\, Vancouver\, BC\, V6B 6B1\, Canada
CATEGORIES:Reading
END:VEVENT
END:VCALENDAR