BEGIN:VCALENDAR
VERSION:2.0
PRODID:-//Read Local BC - ECPv6.15.20//NONSGML v1.0//EN
CALSCALE:GREGORIAN
METHOD:PUBLISH
X-ORIGINAL-URL:https://www.readlocalbc.ca
X-WR-CALDESC:Events for Read Local BC
REFRESH-INTERVAL;VALUE=DURATION:PT1H
X-Robots-Tag:noindex
X-PUBLISHED-TTL:PT1H
BEGIN:VTIMEZONE
TZID:America/Vancouver
BEGIN:DAYLIGHT
TZOFFSETFROM:-0800
TZOFFSETTO:-0700
TZNAME:PDT
DTSTART:20220313T100000
END:DAYLIGHT
BEGIN:STANDARD
TZOFFSETFROM:-0700
TZOFFSETTO:-0800
TZNAME:PST
DTSTART:20221106T090000
END:STANDARD
BEGIN:DAYLIGHT
TZOFFSETFROM:-0800
TZOFFSETTO:-0700
TZNAME:PDT
DTSTART:20230312T100000
END:DAYLIGHT
BEGIN:STANDARD
TZOFFSETFROM:-0700
TZOFFSETTO:-0800
TZNAME:PST
DTSTART:20231105T090000
END:STANDARD
BEGIN:DAYLIGHT
TZOFFSETFROM:-0800
TZOFFSETTO:-0700
TZNAME:PDT
DTSTART:20240310T100000
END:DAYLIGHT
BEGIN:STANDARD
TZOFFSETFROM:-0700
TZOFFSETTO:-0800
TZNAME:PST
DTSTART:20241103T090000
END:STANDARD
BEGIN:DAYLIGHT
TZOFFSETFROM:-0800
TZOFFSETTO:-0700
TZNAME:PDT
DTSTART:20250309T100000
END:DAYLIGHT
BEGIN:STANDARD
TZOFFSETFROM:-0700
TZOFFSETTO:-0800
TZNAME:PST
DTSTART:20251102T090000
END:STANDARD
END:VTIMEZONE
BEGIN:VEVENT
DTSTART;TZID=America/Vancouver:20240125T190000
DTEND;TZID=America/Vancouver:20240125T220000
DTSTAMP:20260422T234958
CREATED:20240109T185802Z
LAST-MODIFIED:20240109T185802Z
UID:19701-1706209200-1706220000@www.readlocalbc.ca
SUMMARY:Wild Prose Reading Series Presents: The Subversives
DESCRIPTION:Please join us for The Subversives—readings from books about women and nonbinary people subverting the status quo. JD Derbyshire will read from Mercy Gene\, the Man-Made Making of a Madwoman\, a genre-smashing work of auto-fiction about gender confusion\, patriarchy\, addiction\, and mental health; Kathryn Mockler will read from her book of short stories\, Anecdotes\, a book of varied\, immersive works that bristle with truth in the face of unprecedented change; and Emi Sasagawa will read from her debut novel\, Atomweight\, about a “good girl” who becomes herself through fighting—a novel about the need to reconcile competing cultures\, traditions\, and values and explores sexual identity and violence. The evening will begin with an open mic at 7:00 p.m. The open mic will be opened by local writer Justina Elias\, reading “To Do\,” her Constance Rooke Creative Nonfiction Award-winning story\, published in issue #217 of The Malahat Review – and then it’ll open up to YOU! Bring some writing of any genre to share (poetry is very welcome)!
URL:https://www.readlocalbc.ca/event/wild-prose-reading-series-presents-the-subversives/
LOCATION:Paul Phillips Hall\, 1923 Fernwood Road\, Victoria\, BC\, V8T 0A5\, Canada
CATEGORIES:Open Mic,Panel
ATTACH;FMTTYPE=image/jpeg:https://www.readlocalbc.ca/wp-content/uploads/2024/01/January-Instagram.jpg
ORGANIZER;CN="Wild Prose Reading Series":MAILTO:susan.sanford.blades@gmail.com
END:VEVENT
BEGIN:VEVENT
DTSTART;TZID=America/Vancouver:20231203T190000
DTEND;TZID=America/Vancouver:20231203T220000
DTSTAMP:20260422T234958
CREATED:20231019T175539Z
LAST-MODIFIED:20231019T175539Z
UID:19031-1701630000-1701640800@www.readlocalbc.ca
SUMMARY:Wild Prose Readings Presents: Boy\, Interrupted
DESCRIPTION:Please join the Wild Prose Reading Series for Boy\, Interrupted—readings from books about young men whose lives were interrupted\, and the story of how they came back. Jason Jobin will read from his memoir\, The Wild Mandrake\, about his struggle with cancer as a young man; Katłįà will read from her novel\, This House is Not A Home\, about a young Dene man who goes hunting and returns to find that his home has been bulldozed by the government\, and Jason Schreurs will read from his memoir about how punk rock has helped him and many others cope with their mental health issues: Scream Therapy: A Punk Journey Through Mental Health. The evening will begin with an open mic\, opened by local poet\, Sophie Crocker.
URL:https://www.readlocalbc.ca/event/wild-prose-readings-presents-boy-interrupted/
LOCATION:BC
CATEGORIES:Meet & Greet,Open Mic,Panel
ATTACH;FMTTYPE=image/jpeg:https://www.readlocalbc.ca/wp-content/uploads/2023/10/December-Instagram.jpg
ORGANIZER;CN="Wild Prose Reading Series":MAILTO:susan.sanford.blades@gmail.com
END:VEVENT
BEGIN:VEVENT
DTSTART;TZID=America/Vancouver:20231126T130000
DTEND;TZID=America/Vancouver:20231126T170000
DTSTAMP:20260422T234958
CREATED:20231106T190446Z
LAST-MODIFIED:20231106T190446Z
UID:19238-1701003600-1701018000@www.readlocalbc.ca
SUMMARY:An Afternoon With Authors Featuring Tellers of Tales and Poetic Justice
DESCRIPTION:Royal City Literary Arts Society presents An Afternoon With Authors\nFeaturing Tellers of Tales and Poetic Justice\nSunday November 26\, 2023\, 1pm to 5pm \nLocation:\nI Heart New West\nCommunity Art Space\nUnit 103 – 78 10th Street\nColumbia Square Plaza\, New Westminster \nTellers of Tales – 1:00pm\n• Winona Kent – The Jason Davey Mysteries: Ticket to Ride\n• Jerena Tobiasen – The Nightingale and Sparrow Chronicles: Tsarina’s Crown.\n• Ruth Kozak – Shadow of the Lion\, Dragons in the Sky\n• Una Bruhns – Apartheid \nPoetic Justice – 3:00pm\n• Herb Bryce – Seeds of Poetry\n• Franci Louann – Portugal Calling \nMusic\n• Catherine Booth \nThe Royal City Literary Arts Society presents an afternoon of fiction and poetry\, with music\, door prizes\, a book market (signed books make wonderful Christmas gifts!)\, nibbles and an open mic. No admission charge. Free parking (the Community Art Space is across from Cockney Kings Fish & Chips in Columbia Square).
URL:https://www.readlocalbc.ca/event/an-afternoon-with-authors-featuring-tellers-of-tales-and-poetic-justice/
LOCATION:I Heart New West Community Art Space\, Unit 103 - 78 10th Street\, Columbia Square Plaza\, New Westminster\, British Columbia\, V3M 1C4\, Canada
CATEGORIES:Meet & Greet,Open Mic,Reading
ATTACH;FMTTYPE=image/jpeg:https://www.readlocalbc.ca/wp-content/uploads/2023/11/2023-author-poster-for-instagram.jpg
ORGANIZER;CN="Royal City Literary Arts Society":MAILTO:janetkvammen@rclas.com
END:VEVENT
BEGIN:VEVENT
DTSTART;TZID=America/Vancouver:20230824T183000
DTEND;TZID=America/Vancouver:20230824T220000
DTSTAMP:20260422T234958
CREATED:20230721T170127Z
LAST-MODIFIED:20230721T170127Z
UID:17788-1692901800-1692914400@www.readlocalbc.ca
SUMMARY:Wild Prose Readings Presents: Troubled Towns and Waters with Curtis LeBlanc\, Michael Melgaard and Mike Sadava
DESCRIPTION:Please join us for an evening of small-town and watery crime literature! The evening will begin with an open mic at 7 – bring your writing to share! Featured readers will begin at 7:30 p.m.: Vancouver-based poet and novelist Curtis LeBlanc will read from his debut novel\, Sunsetter\, which is about crime and drugs at a small-town rodeo; Toronto-based\, island-raised author Michael Melgaard will read from his debut novel\, Not That Kind of Place\, which is about the aftermath of a murder in a small town on Vancouver Island; and local author Mike Sadava will read from his debut novel\, Troubled Waters\, which is about a potential earth-changing experiment gone horribly wrong and the international crime behind it. \nPlease bring cash for admission and authors’ books.
URL:https://www.readlocalbc.ca/event/wild-prose-readings-presents-troubled-towns-and-waters-with-curtis-leblanc-michael-melgaard-and-mike-sadava/
LOCATION:Paul Phillips Hall\, 1923 Fernwood Road\, Victoria\, BC\, V8T 0A5\, Canada
CATEGORIES:Launch,Open Mic,Reading
ATTACH;FMTTYPE=image/jpeg:https://www.readlocalbc.ca/wp-content/uploads/2023/07/August-Instagram.jpg
ORGANIZER;CN="Wild Prose Reading Series":MAILTO:susan.sanford.blades@gmail.com
END:VEVENT
BEGIN:VEVENT
DTSTART;TZID=America/Vancouver:20230621T193000
DTEND;TZID=America/Vancouver:20230621T210000
DTSTAMP:20260422T234958
CREATED:20230526T212819Z
LAST-MODIFIED:20230526T212819Z
UID:16994-1687375800-1687381200@www.readlocalbc.ca
SUMMARY:Poetry Reading: Derek Beaulieau & Gary Geddes
DESCRIPTION:Two of Canada’s most prominent authors read in Vancouver June 21 \nPoets Corner Reading Series is beyond excited to welcome two of the most prolific and influential names in Canadian literature today: Derek Beaulieu and Gary Geddes. The show starts at 7:30pm PST\, June 21. Fans can attend in person at Fairleigh Dickinson University (842 Cambie Street)\, in Downtown Vancouver\, or online via Zoom. \nBeaulieu has authored twenty-six books of poetry\, conceptual fiction\, critical writing\, as well as over 200 chapbooks and 6 edited volumes. His work is consistently praised as some of the most radical and challenging in contemporary Canadian writing. Best known for his concrete or visual poems\, Beaulieu’s readings are often a fun mix of show and tell. A recent example is his description of a city upside down reflected in puddles. https://www.youtube.com/watch?v=5-1Ob9NyIUA \nBeaulieu is also a major influence on emerging Canadian poets. Since 2018\, he’s been Director of Literary Arts at the prestigious Banff Centre for Arts and Creativity\, and has been recognized with nine teaching awards locally\, provincially\, and nationally for his contributions to university-level education. He was Calgary’s Poet Laureate from 2014 to 16\, and is currently Banff’s Poet Laureate from 2022 to 2024. \nGary Geddes has written and edited more than fifty books of poetry\, fiction\, drama\, non-fiction\, criticism\, translation and anthologies and been the recipient of a dozen national and international literary awards\, including the Commonwealth Poetry Prize (Americas Region)\, the Lt.-Governor’s Award for Literary Excellence and the Gabriela Mistral Prize from the Government of Chile. His most recent works are Medicine Unbundled\, The Resumption of Play\, The Ventriloquist: Poetic Narratives from the Womb of War\, and The Oysters I Bring to Banquets. He was writer-in-residence at Green College (UBC)\, University of Alberta\, University of Missouri-St. Louis\, and Distinguished Professor of Canadian Culture at Western Washington University in Bellingham. He lives on Thetis Island\, B.C. \nDerek Beaulieu and Gary Geddes are appearing courtesy of Poets Corner Reading Series\, a nonprofit society which has provided a platform for a diverse range of poets since 2010. Run largely by volunteers\, Poets Corner pays poets for reading\, whether in person or on its popular One Minute Poem series on YouTube. Attendees can also register for three-minute time slots at the popular open mic – a draw for both emerging and established poets every month. Attendance is by donation (suggested amount $5)\, with money going to Poets Corner’s Pay the Poets fund.
URL:https://www.readlocalbc.ca/event/poetry-reading-derek-beaulieau-gary-geddes/
LOCATION:Fairleigh Dickinson University\, Vancouver BC\, 842 Cambie Street\, Vancouver\, Canada
CATEGORIES:Open Mic,Reading
ATTACH;FMTTYPE=image/jpeg:https://www.readlocalbc.ca/wp-content/uploads/2023/05/Beaulieu-and-Geddes-JUNE-2023.jpg
END:VEVENT
BEGIN:VEVENT
DTSTART;TZID=America/Vancouver:20230525T183000
DTEND;TZID=America/Vancouver:20230525T213000
DTSTAMP:20260422T234958
CREATED:20230419T173251Z
LAST-MODIFIED:20230419T173251Z
UID:16344-1685039400-1685050200@www.readlocalbc.ca
SUMMARY:Wild Prose Readings Presents: Earth-Shattering Prose
DESCRIPTION:Join us for an evening of earthquake-themed readings! First\, share YOUR work with us at the open mic. Then\, we’ll hear from Gregor Craigie\, reading from his nonfiction book about earthquakes\, On Borrowed Time; fiction author Jen Neale\, reading from her novel-in-progress about the Vancouver earthquake\, Frances Peck reading from her debut novel about the Vancouver earthquake\, The Broken Places\, and finally Eliza Robertson will read from her brand new true-crime book\, I Got a Name: The Murder of Krystal Senyk. We’ll end the evening with a Q&A with the authors.
URL:https://www.readlocalbc.ca/event/wild-prose-readings-presents-earth-shattering-prose/
LOCATION:Paul Phillips Hall\, 1923 Fernwood Road\, Victoria\, BC\, V8T 0A5\, Canada
CATEGORIES:Open Mic,Panel,Reading
ATTACH;FMTTYPE=image/jpeg:https://www.readlocalbc.ca/wp-content/uploads/2023/04/Earth-Shattering-Prose-Instagram.jpg
ORGANIZER;CN="Wild Prose Reading Series":MAILTO:susan.sanford.blades@gmail.com
END:VEVENT
BEGIN:VEVENT
DTSTART;TZID=America/Vancouver:20230517T193000
DTEND;TZID=America/Vancouver:20230517T210000
DTSTAMP:20260422T234958
CREATED:20230510T205221Z
LAST-MODIFIED:20230510T205221Z
UID:16818-1684351800-1684357200@www.readlocalbc.ca
SUMMARY:Poetry Reading: Alice Major & Jordan Scott
DESCRIPTION:Poets Corner Reading Series welcomes Alice Major and Jordan Scott. Alice Major has published twelve collections of poetry\, two novels for young adults and an award-winning collection of essays about poetry and science. Jordan Scott is a poet and children’s author. His debut children’s book\, I Talk Like a River (illustrated by Sydney Smith)\, was a New York Times best Children’s Book of 2020. \nIn addition to readings by our featured poets\, Poets Corner welcomes audience members to register at the door for 3-minute Open Mic time slots.\nThis is a hybrid event.\nMay 17 | 7:30 pm PST\nFairleigh Dickinson University\, Vancouver\nOr on Zoom (register for link at poetscorner.ca)\nBy donation (Suggested $5. Money goes to featured poets)
URL:https://www.readlocalbc.ca/event/poetry-reading-alice-major-jordan-scott/
LOCATION:BC
CATEGORIES:Open Mic,Reading
ATTACH;FMTTYPE=image/jpeg:https://www.readlocalbc.ca/wp-content/uploads/2023/05/MAJOR-and-SCOTT-May-2023.jpg
END:VEVENT
BEGIN:VEVENT
DTSTART;TZID=America/Vancouver:20230427T183000
DTEND;TZID=America/Vancouver:20230427T203000
DTSTAMP:20260422T234958
CREATED:20230327T205101Z
LAST-MODIFIED:20230327T205101Z
UID:16011-1682620200-1682627400@www.readlocalbc.ca
SUMMARY:READINGS & BOOK LAUNCH: The Joy of Poetry
DESCRIPTION:A reading of local poets in honour of National Poetry Month\, held in Kelowna\, BC. at Third Space Coffeehouse. This is a combination reading\, book launch and open mic. All are welcome.
URL:https://www.readlocalbc.ca/event/readings-book-launch-the-joy-of-poetry/
LOCATION:BC
CATEGORIES:Launch,Open Mic
ATTACH;FMTTYPE=image/jpeg:https://www.readlocalbc.ca/wp-content/uploads/2023/03/Final-Edit.jpg
END:VEVENT
BEGIN:VEVENT
DTSTART;TZID=America/Vancouver:20230223T190000
DTEND;TZID=America/Vancouver:20230223T210000
DTSTAMP:20260422T234958
CREATED:20230222T205406Z
LAST-MODIFIED:20230222T213949Z
UID:15464-1677178800-1677186000@www.readlocalbc.ca
SUMMARY:Reading: Metaphorically Speaking (Online)
DESCRIPTION:Join Wordstorm on Feb. 23rd when Andrea Thompson features at our online reading/performance\, interview and open mic event! \nOn Feb\, 23rd\, Andrea will be sharing from one of her latest publications\, A Selected History of Soul Speak. \nRegister for this free event at: wordstorm.ca
URL:https://www.readlocalbc.ca/event/metaphorically-speaking-online-reading/
LOCATION:BC
CATEGORIES:Interview,Open Mic,Reading
ATTACH;FMTTYPE=image/jpeg:https://www.readlocalbc.ca/wp-content/uploads/2023/02/Andrea-Thompson-Facebook-Event-Cover.jpg
END:VEVENT
END:VCALENDAR